BEGIN:VCALENDAR
VERSION:2.0
PRODID:-//H&uuml;&uuml;ru m&otilde;is - ECPv6.15.20//NONSGML v1.0//EN
CALSCALE:GREGORIAN
METHOD:PUBLISH
X-WR-CALNAME:H&uuml;&uuml;ru m&otilde;is
X-ORIGINAL-URL:https://huuru.ee
X-WR-CALDESC:Events for H&uuml;&uuml;ru m&otilde;is
REFRESH-INTERVAL;VALUE=DURATION:PT1H
X-Robots-Tag:noindex
X-PUBLISHED-TTL:PT1H
BEGIN:VTIMEZONE
TZID:Europe/Tallinn
BEGIN:DAYLIGHT
TZOFFSETFROM:+0200
TZOFFSETTO:+0300
TZNAME:EEST
DTSTART:20180325T010000
END:DAYLIGHT
BEGIN:STANDARD
TZOFFSETFROM:+0300
TZOFFSETTO:+0200
TZNAME:EET
DTSTART:20181028T010000
END:STANDARD
BEGIN:DAYLIGHT
TZOFFSETFROM:+0200
TZOFFSETTO:+0300
TZNAME:EEST
DTSTART:20190331T010000
END:DAYLIGHT
BEGIN:STANDARD
TZOFFSETFROM:+0300
TZOFFSETTO:+0200
TZNAME:EET
DTSTART:20191027T010000
END:STANDARD
BEGIN:DAYLIGHT
TZOFFSETFROM:+0200
TZOFFSETTO:+0300
TZNAME:EEST
DTSTART:20200329T010000
END:DAYLIGHT
BEGIN:STANDARD
TZOFFSETFROM:+0300
TZOFFSETTO:+0200
TZNAME:EET
DTSTART:20201025T010000
END:STANDARD
END:VTIMEZONE
BEGIN:VEVENT
DTSTART;TZID=Europe/Tallinn:20190417T183000
DTEND;TZID=Europe/Tallinn:20190417T193000
DTSTAMP:20260424T025742
CREATED:20190325T153449Z
LAST-MODIFIED:20190325T153449Z
UID:2546-1555525800-1555529400@huuru.ee
SUMMARY:Laste tantsutrenn
DESCRIPTION:
URL:https://huuru.ee/sundmus/laste-tantsutrenn-27/
END:VEVENT
BEGIN:VEVENT
DTSTART;TZID=Europe/Tallinn:20190418T130000
DTEND;TZID=Europe/Tallinn:20190418T193000
DTSTAMP:20260424T025742
CREATED:20190325T153135Z
LAST-MODIFIED:20190325T153135Z
UID:2534-1555592400-1555615800@huuru.ee
SUMMARY:Saviring lastele ja täiskasvanutele
DESCRIPTION:
URL:https://huuru.ee/sundmus/saviring-lastele-ja-taiskasvanutele-10/
END:VEVENT
BEGIN:VEVENT
DTSTART;TZID=Europe/Tallinn:20190422T100000
DTEND;TZID=Europe/Tallinn:20190422T143000
DTSTAMP:20260424T025742
CREATED:20190328T161353Z
LAST-MODIFIED:20190328T161353Z
UID:2549-1555927200-1555943400@huuru.ee
SUMMARY:Kevadvaheaja lastelaager
DESCRIPTION:
URL:https://huuru.ee/sundmus/kevadvaheaja-lastelaager/
ATTACH;FMTTYPE=application/pdf:https://huuru.ee/wp-content/uploads/2019/03/Hüüru-kevadvaheaja-lastelaager.pdf
END:VEVENT
BEGIN:VEVENT
DTSTART;TZID=Europe/Tallinn:20190422T190000
DTEND;TZID=Europe/Tallinn:20190422T200000
DTSTAMP:20260424T025742
CREATED:20190325T152926Z
LAST-MODIFIED:20190325T152926Z
UID:2526-1555959600-1555963200@huuru.ee
SUMMARY:Täiskasvanute võimlemine
DESCRIPTION:
URL:https://huuru.ee/sundmus/taiskasvanute-voimlemine-76/
END:VEVENT
BEGIN:VEVENT
DTSTART;TZID=Europe/Tallinn:20190423T100000
DTEND;TZID=Europe/Tallinn:20190423T143000
DTSTAMP:20260424T025742
CREATED:20190328T161451Z
LAST-MODIFIED:20190328T161451Z
UID:2552-1556013600-1556029800@huuru.ee
SUMMARY:Kevadvaheaja lastelaager
DESCRIPTION:
URL:https://huuru.ee/sundmus/kevadvaheaja-lastelaager-2/
ATTACH;FMTTYPE=application/pdf:https://huuru.ee/wp-content/uploads/2019/03/Hüüru-kevadvaheaja-lastelaager-1.pdf
END:VEVENT
BEGIN:VEVENT
DTSTART;TZID=Europe/Tallinn:20190424T100000
DTEND;TZID=Europe/Tallinn:20190424T143000
DTSTAMP:20260424T025742
CREATED:20190328T161551Z
LAST-MODIFIED:20190328T161551Z
UID:2555-1556100000-1556116200@huuru.ee
SUMMARY:Kevadvaheaja lastelaager
DESCRIPTION:
URL:https://huuru.ee/sundmus/kevadvaheaja-lastelaager-3/
ATTACH;FMTTYPE=application/pdf:https://huuru.ee/wp-content/uploads/2019/03/Hüüru-kevadvaheaja-lastelaager-2.pdf
END:VEVENT
BEGIN:VEVENT
DTSTART;TZID=Europe/Tallinn:20190424T183000
DTEND;TZID=Europe/Tallinn:20190424T193000
DTSTAMP:20260424T025742
CREATED:20190325T153402Z
LAST-MODIFIED:20190325T153402Z
UID:2544-1556130600-1556134200@huuru.ee
SUMMARY:Laste tantsutrenn
DESCRIPTION:
URL:https://huuru.ee/sundmus/laste-tantsutrenn-26/
END:VEVENT
BEGIN:VEVENT
DTSTART;TZID=Europe/Tallinn:20190425T100000
DTEND;TZID=Europe/Tallinn:20190425T143000
DTSTAMP:20260424T025742
CREATED:20190328T161616Z
LAST-MODIFIED:20190328T161616Z
UID:2558-1556186400-1556202600@huuru.ee
SUMMARY:Kevadvaheaja lastelaager
DESCRIPTION:
URL:https://huuru.ee/sundmus/kevadvaheaja-lastelaager-4/
END:VEVENT
BEGIN:VEVENT
DTSTART;TZID=Europe/Tallinn:20190425T130000
DTEND;TZID=Europe/Tallinn:20190425T193000
DTSTAMP:20260424T025742
CREATED:20190325T153159Z
LAST-MODIFIED:20190325T153159Z
UID:2536-1556197200-1556220600@huuru.ee
SUMMARY:Saviring lastele ja täiskasvanutele
DESCRIPTION:
URL:https://huuru.ee/sundmus/saviring-lastele-ja-taiskasvanutele-11/
END:VEVENT
BEGIN:VEVENT
DTSTART;TZID=Europe/Tallinn:20190429T190000
DTEND;TZID=Europe/Tallinn:20190429T200000
DTSTAMP:20260424T025742
CREATED:20190325T152951Z
LAST-MODIFIED:20190325T152951Z
UID:2528-1556564400-1556568000@huuru.ee
SUMMARY:Täiskasvanute võimlemine
DESCRIPTION:
URL:https://huuru.ee/sundmus/taiskasvanute-voimlemine-77/
END:VEVENT
BEGIN:VEVENT
DTSTART;TZID=Europe/Tallinn:20190502T130000
DTEND;TZID=Europe/Tallinn:20190502T193000
DTSTAMP:20260424T025742
CREATED:20190502T144254Z
LAST-MODIFIED:20190502T144333Z
UID:2598-1556802000-1556825400@huuru.ee
SUMMARY:Saviring lastele ja täiskasvanutele
DESCRIPTION:
URL:https://huuru.ee/sundmus/saviring-lastele-ja-taiskasvanutele-12/
END:VEVENT
BEGIN:VEVENT
DTSTART;TZID=Europe/Tallinn:20190502T180000
DTEND;TZID=Europe/Tallinn:20190502T190000
DTSTAMP:20260424T025742
CREATED:20190108T090852Z
LAST-MODIFIED:20190108T090852Z
UID:2380-1556820000-1556823600@huuru.ee
SUMMARY:Hüüru Külaseltsi koosolek
DESCRIPTION:
URL:https://huuru.ee/sundmus/huuru-kulaseltsi-koosolek-19/
END:VEVENT
BEGIN:VEVENT
DTSTART;TZID=Europe/Tallinn:20190503T103000
DTEND;TZID=Europe/Tallinn:20190503T113000
DTSTAMP:20260424T025742
CREATED:20190502T142743Z
LAST-MODIFIED:20190502T142743Z
UID:2588-1556879400-1556883000@huuru.ee
SUMMARY:Väärikate võimlemine
DESCRIPTION:
URL:https://huuru.ee/sundmus/vaarikate-voimlemine-8/
END:VEVENT
BEGIN:VEVENT
DTSTART;TZID=Europe/Tallinn:20190504T100000
DTEND;TZID=Europe/Tallinn:20190504T150000
DTSTAMP:20260424T025742
CREATED:20190408T122907Z
LAST-MODIFIED:20190425T135735Z
UID:2574-1556964000-1556982000@huuru.ee
SUMMARY:Hüüru kevadtalgud 2019
DESCRIPTION:
URL:https://huuru.ee/sundmus/huuru-kevadtalgud-2019/
ATTACH;FMTTYPE=application/pdf:https://huuru.ee/wp-content/uploads/2019/04/Hüüru-kevadtalgud-2019.pdf
END:VEVENT
BEGIN:VEVENT
DTSTART;TZID=Europe/Tallinn:20190506T190000
DTEND;TZID=Europe/Tallinn:20190506T200000
DTSTAMP:20260424T025742
CREATED:20190502T142847Z
LAST-MODIFIED:20190502T142847Z
UID:2592-1557169200-1557172800@huuru.ee
SUMMARY:Täiskasvanute võimlemine
DESCRIPTION:
URL:https://huuru.ee/sundmus/taiskasvanute-voimlemine-79/
END:VEVENT
BEGIN:VEVENT
DTSTART;TZID=Europe/Tallinn:20190507T190000
DTEND;TZID=Europe/Tallinn:20190507T200000
DTSTAMP:20260424T025742
CREATED:20190429T131041Z
LAST-MODIFIED:20190429T131041Z
UID:2585-1557255600-1557259200@huuru.ee
SUMMARY:Loeng "Kõik on kahe kõrva vahel kinni"
DESCRIPTION:Inimesel on talle omased mõtted\, uskumused\, väärtused\, oskused\, tunded\, käitumine ja kui ta kavandab tulevikku\, siis loob ta ca 95 % ulatuses taas vana iseennast – sama haigust\, sama probleemi\, sama reageeringut kriisiolukorras.\nJuttu tuleb sellest\, kuidas luua muutust nii\, et tulemus oleks see\, mida inimene ISE tahab. \nLektor: Viigi Viil-Kangur\, arst\, NLP Master\nPractitioner\, kinesioloog\nOSALUSTASU 1 eur
URL:https://huuru.ee/sundmus/loeng-koik-on-kahe-korva-vahel-kinni/
ATTACH;FMTTYPE=image/jpeg:https://huuru.ee/wp-content/uploads/2019/04/2019.05.07_Kõik-on-kõrvade-vahel-page-001.jpg
END:VEVENT
BEGIN:VEVENT
DTSTART;TZID=Europe/Tallinn:20190509T130000
DTEND;TZID=Europe/Tallinn:20190509T193000
DTSTAMP:20260424T025742
CREATED:20190502T144401Z
LAST-MODIFIED:20190502T144401Z
UID:2600-1557406800-1557430200@huuru.ee
SUMMARY:Saviring lastele ja täiskasvanutele
DESCRIPTION:
URL:https://huuru.ee/sundmus/saviring-lastele-ja-taiskasvanutele-13/
END:VEVENT
BEGIN:VEVENT
DTSTART;TZID=Europe/Tallinn:20190512T130000
DTEND;TZID=Europe/Tallinn:20190512T140000
DTSTAMP:20260424T025742
CREATED:20190220T121300Z
LAST-MODIFIED:20190220T121300Z
UID:2441-1557666000-1557669600@huuru.ee
SUMMARY:Emadepäeva kontsert
DESCRIPTION:
URL:https://huuru.ee/sundmus/emadepaeva-kontsert-3/
END:VEVENT
BEGIN:VEVENT
DTSTART;TZID=Europe/Tallinn:20190513T190000
DTEND;TZID=Europe/Tallinn:20190513T200000
DTSTAMP:20260424T025742
CREATED:20190502T142816Z
LAST-MODIFIED:20190502T142816Z
UID:2590-1557774000-1557777600@huuru.ee
SUMMARY:Täiskasvanute võimlemine
DESCRIPTION:
URL:https://huuru.ee/sundmus/taiskasvanute-voimlemine-78/
END:VEVENT
BEGIN:VEVENT
DTSTART;TZID=Europe/Tallinn:20190515T183000
DTEND;TZID=Europe/Tallinn:20190515T193000
DTSTAMP:20260424T025742
CREATED:20190325T153342Z
LAST-MODIFIED:20190325T153342Z
UID:2542-1557945000-1557948600@huuru.ee
SUMMARY:Laste tantsutrenn
DESCRIPTION:
URL:https://huuru.ee/sundmus/laste-tantsutrenn-25/
END:VEVENT
BEGIN:VEVENT
DTSTART;TZID=Europe/Tallinn:20190516T130000
DTEND;TZID=Europe/Tallinn:20190516T193000
DTSTAMP:20260424T025742
CREATED:20190502T144431Z
LAST-MODIFIED:20190502T144431Z
UID:2602-1558011600-1558035000@huuru.ee
SUMMARY:Saviring lastele ja täiskasvanutele
DESCRIPTION:
URL:https://huuru.ee/sundmus/saviring-lastele-ja-taiskasvanutele-14/
END:VEVENT
BEGIN:VEVENT
DTSTART;TZID=Europe/Tallinn:20190518T170000
DTEND;TZID=Europe/Tallinn:20190518T220000
DTSTAMP:20260424T025742
CREATED:20190429T124006Z
LAST-MODIFIED:20190429T124006Z
UID:2582-1558198800-1558216800@huuru.ee
SUMMARY:Muuseumiööl Hüüru mõisas
DESCRIPTION:Hüüru mõisahoone avatud alates kella 17.00\nKell 18.00 segakoor Meriko kontsert mõisasaalis “Koduküla\, kodumaa”\, dirigeerib Merike Toro\nKell 18.30 Valdo Subi ja Jaan Audru ansambel „Puutöö“ esitamisele tuleb nii klassika ja popmuusikat\nMTÜ Konstantin Pätsi Muuseumi väljapanek ja vestlusring muuseumilugudest \nMõisasaalis näitus “Kivis on mustreid!”\nKivide mustreid on püüdnud lugeda\, tõlgendada ja vahendada:\nHelle Perens – paenäidised\nBeata Vessart – “pehmed kivid”\nMargus Rebane – nikerdused paeveeristel \nTäpsem ajakava Hüüru külaseltsi kodulehel – https://huuru.ee/ ja facebookis https://www.facebook.com/huuru/ \nOluline lisainfo\nMuuseum ei ole lahti igapäevaselt\, seega suurepärane võimalus tutvuda Konstantin Pätsi muuseumi tegevuse ja museaalidega.\nAvatud on kohvik – Presidendi kohv ja vanadest retseptidest hõrgutised!
URL:https://huuru.ee/sundmus/muuseumiool-huuru-moisas/
ATTACH;FMTTYPE=application/pdf:https://huuru.ee/wp-content/uploads/2019/04/Teksti-kohatäide-6.pdf
END:VEVENT
BEGIN:VEVENT
DTSTART;TZID=Europe/Tallinn:20190520T190000
DTEND;TZID=Europe/Tallinn:20190520T200000
DTSTAMP:20260424T025742
CREATED:20190502T142922Z
LAST-MODIFIED:20190502T142922Z
UID:2594-1558378800-1558382400@huuru.ee
SUMMARY:Täiskasvanute võimlemine
DESCRIPTION:
URL:https://huuru.ee/sundmus/taiskasvanute-voimlemine-80/
END:VEVENT
BEGIN:VEVENT
DTSTART;TZID=Europe/Tallinn:20190523T130000
DTEND;TZID=Europe/Tallinn:20190523T193000
DTSTAMP:20260424T025742
CREATED:20190502T144604Z
LAST-MODIFIED:20190502T144604Z
UID:2606-1558616400-1558639800@huuru.ee
SUMMARY:Saviring lastele ja täiskasvanutele
DESCRIPTION:
URL:https://huuru.ee/sundmus/saviring-lastele-ja-taiskasvanutele-16/
END:VEVENT
BEGIN:VEVENT
DTSTART;TZID=Europe/Tallinn:20190525T095000
DTEND;TZID=Europe/Tallinn:20190525T101000
DTSTAMP:20260424T025742
CREATED:20190503T090030Z
LAST-MODIFIED:20190503T090111Z
UID:2609-1558777800-1558779000@huuru.ee
SUMMARY:Ohtlike jäätmete\, elektroonikajäätmete ja vanade rehvide kogumisring.
DESCRIPTION:25. mail kella 9.50-10.10 saab Hüüru mõisa parkimisplatsil ära anda ohtlikud jäätmed\, elektroonikajäätmed ja vanad rehvid.
URL:https://huuru.ee/sundmus/ohtlike-jaatmete-elektroonikajaatmete-ja-vanade-rehvide-kogumisring/
END:VEVENT
BEGIN:VEVENT
DTSTART;TZID=Europe/Tallinn:20190527T190000
DTEND;TZID=Europe/Tallinn:20190527T200000
DTSTAMP:20260424T025742
CREATED:20190502T142951Z
LAST-MODIFIED:20190502T142951Z
UID:2596-1558983600-1558987200@huuru.ee
SUMMARY:Täiskasvanute võimlemine
DESCRIPTION:
URL:https://huuru.ee/sundmus/taiskasvanute-voimlemine-81/
END:VEVENT
BEGIN:VEVENT
DTSTART;TZID=Europe/Tallinn:20190530T130000
DTEND;TZID=Europe/Tallinn:20190530T193000
DTSTAMP:20260424T025742
CREATED:20190502T144502Z
LAST-MODIFIED:20190502T144502Z
UID:2604-1559221200-1559244600@huuru.ee
SUMMARY:Saviring lastele ja täiskasvanutele
DESCRIPTION:
URL:https://huuru.ee/sundmus/saviring-lastele-ja-taiskasvanutele-15/
END:VEVENT
BEGIN:VEVENT
DTSTART;TZID=Europe/Tallinn:20190601T100000
DTEND;TZID=Europe/Tallinn:20190601T150000
DTSTAMP:20260424T025742
CREATED:20190401T140005Z
LAST-MODIFIED:20190401T140005Z
UID:2560-1559383200-1559401200@huuru.ee
SUMMARY:Vatsla täika
DESCRIPTION:
URL:https://huuru.ee/sundmus/vatsla-taika/
ATTACH;FMTTYPE=image/png:https://huuru.ee/wp-content/uploads/2019/04/VatslaTäika_fb.png
END:VEVENT
BEGIN:VEVENT
DTSTART;TZID=Europe/Tallinn:20190606T130000
DTEND;TZID=Europe/Tallinn:20190606T193000
DTSTAMP:20260424T025742
CREATED:20190527T130019Z
LAST-MODIFIED:20190527T130046Z
UID:2612-1559826000-1559849400@huuru.ee
SUMMARY:Saviring lastele ja täiskasvanutele
DESCRIPTION:
URL:https://huuru.ee/sundmus/saviring-lastele-ja-taiskasvanutele-17/
END:VEVENT
BEGIN:VEVENT
DTSTART;TZID=Europe/Tallinn:20190611T170000
DTEND;TZID=Europe/Tallinn:20190611T210000
DTSTAMP:20260424T025742
CREATED:20190530T104152Z
LAST-MODIFIED:20190530T104152Z
UID:2614-1560272400-1560286800@huuru.ee
SUMMARY:Hüüru mõisas taimetrüki töötuba
DESCRIPTION:Taimetrüki (ecoprint) tehnikas põimuvad omavahel loodus ja looming\, keemia ja vanarahva tarkuseterad.\nTöötoas õpime\, kuidas talletada taimedes peituvad värvid ja mustrid siidisallile. \nJuhendaja Ave Soekov\nOsalustasu 15 €\, sisaldab kõik vajalikud materjalid.\nEelregistreerumine: info@huuru.ee
URL:https://huuru.ee/sundmus/huuru-moisas-taimetruki-tootuba/
END:VEVENT
END:VCALENDAR