BEGIN:VCALENDAR
VERSION:2.0
PRODID:-//H&uuml;&uuml;ru m&otilde;is - ECPv6.15.20//NONSGML v1.0//EN
CALSCALE:GREGORIAN
METHOD:PUBLISH
X-WR-CALNAME:H&uuml;&uuml;ru m&otilde;is
X-ORIGINAL-URL:https://huuru.ee
X-WR-CALDESC:Events for H&uuml;&uuml;ru m&otilde;is
REFRESH-INTERVAL;VALUE=DURATION:PT1H
X-Robots-Tag:noindex
X-PUBLISHED-TTL:PT1H
BEGIN:VTIMEZONE
TZID:Europe/Tallinn
BEGIN:DAYLIGHT
TZOFFSETFROM:+0200
TZOFFSETTO:+0300
TZNAME:EEST
DTSTART:20170326T010000
END:DAYLIGHT
BEGIN:STANDARD
TZOFFSETFROM:+0300
TZOFFSETTO:+0200
TZNAME:EET
DTSTART:20171029T010000
END:STANDARD
BEGIN:DAYLIGHT
TZOFFSETFROM:+0200
TZOFFSETTO:+0300
TZNAME:EEST
DTSTART:20180325T010000
END:DAYLIGHT
BEGIN:STANDARD
TZOFFSETFROM:+0300
TZOFFSETTO:+0200
TZNAME:EET
DTSTART:20181028T010000
END:STANDARD
BEGIN:DAYLIGHT
TZOFFSETFROM:+0200
TZOFFSETTO:+0300
TZNAME:EEST
DTSTART:20190331T010000
END:DAYLIGHT
BEGIN:STANDARD
TZOFFSETFROM:+0300
TZOFFSETTO:+0200
TZNAME:EET
DTSTART:20191027T010000
END:STANDARD
END:VTIMEZONE
BEGIN:VEVENT
DTSTART;TZID=Europe/Tallinn:20181102T120000
DTEND;TZID=Europe/Tallinn:20181102T133000
DTSTAMP:20260423T124823
CREATED:20181031T081804Z
LAST-MODIFIED:20181031T081804Z
UID:2238-1541160000-1541165400@huuru.ee
SUMMARY:Eakate Seltsi “SÜGISKULD” jututoas külaline Arno Paavel - reisimuljed Ukrainast
DESCRIPTION:
URL:https://huuru.ee/sundmus/eakate-seltsi-sugiskuld-jututoas-kulaline-arno-paavel-reisimuljed-ukrainast/
END:VEVENT
BEGIN:VEVENT
DTSTART;TZID=Europe/Tallinn:20181105T190000
DTEND;TZID=Europe/Tallinn:20181105T200000
DTSTAMP:20260423T124823
CREATED:20181029T112843Z
LAST-MODIFIED:20181029T112843Z
UID:2219-1541444400-1541448000@huuru.ee
SUMMARY:Täiskasvanute võimlemine
DESCRIPTION:
URL:https://huuru.ee/sundmus/taiskasvanute-voimlemine-57/
END:VEVENT
BEGIN:VEVENT
DTSTART;TZID=Europe/Tallinn:20181107T110000
DTEND;TZID=Europe/Tallinn:20181107T120000
DTSTAMP:20260423T124823
CREATED:20181106T110538Z
LAST-MODIFIED:20181106T110538Z
UID:2244-1541588400-1541592000@huuru.ee
SUMMARY:Väärikate võimlemine
DESCRIPTION:
URL:https://huuru.ee/sundmus/vaarikate-voimlemine/
END:VEVENT
BEGIN:VEVENT
DTSTART;TZID=Europe/Tallinn:20181107T183000
DTEND;TZID=Europe/Tallinn:20181107T193000
DTSTAMP:20260423T124823
CREATED:20181029T113020Z
LAST-MODIFIED:20181029T113020Z
UID:2221-1541615400-1541619000@huuru.ee
SUMMARY:Laste tantsutrenn
DESCRIPTION:
URL:https://huuru.ee/sundmus/laste-tantsutrenn-6/
END:VEVENT
BEGIN:VEVENT
DTSTART;TZID=Europe/Tallinn:20181108T150000
DTEND;TZID=Europe/Tallinn:20181108T163000
DTSTAMP:20260423T124823
CREATED:20181029T113559Z
LAST-MODIFIED:20181107T105112Z
UID:2235-1541689200-1541694600@huuru.ee
SUMMARY:Saviring lastele
DESCRIPTION:
URL:https://huuru.ee/sundmus/saviring-lastele-10/
END:VEVENT
BEGIN:VEVENT
DTSTART;TZID=Europe/Tallinn:20181108T170000
DTEND;TZID=Europe/Tallinn:20181108T193000
DTSTAMP:20260423T124823
CREATED:20181029T113453Z
LAST-MODIFIED:20181128T115140Z
UID:2233-1541696400-1541705400@huuru.ee
SUMMARY:Saviring täiskasvanutele
DESCRIPTION:
URL:https://huuru.ee/sundmus/saviring-taiskasvanutele-10/
END:VEVENT
BEGIN:VEVENT
DTSTART;TZID=Europe/Tallinn:20181108T190000
DTEND;TZID=Europe/Tallinn:20181108T202000
DTSTAMP:20260423T124823
CREATED:20181017T101225Z
LAST-MODIFIED:20181017T101419Z
UID:2198-1541703600-1541708400@huuru.ee
SUMMARY:Sepo Seemani monokomöödia "Eesti mees ja tema poeg."
DESCRIPTION:EESTI MEES JA TEMA POEG on tuntud karikaturisti ja stsenaristi Peep Pedmansoni näidend\, mis on kirjutatud nimelt Sepo Seemanile. Iga mees on poeg ja tavaliselt ka isa. See on imelihtne ja imeselge. Sellest Sepo sel ühe-mehe-õhtul räägibki. Inimeselt inimesele.\n“Vaadake seda last\, kes te kunagi olite! Seda väikest poissi… või tüdrukut! Kui puhas oli tema hing ja kui siirad tema soovid\, ja kuidas ta uskus\, et ka maailm on tema vastu sama hea ja aus. Kui te üldse kellelegi siin elus midagi võlgnete\, siis on see tema – see teie pisikene mina sealt lapsepõlvest! Austa teda kasvõi nii palju\, et täida kasvõi üks tema unistus! Kui sa ei jaksa enam hakata kosmonaudiks või maadeavastajaks\, siis jäälõhkuja kapteniks võiksid ju veel üritada? Või vähemalt lähed ja sõidad kelguga sellest kuradi pumbamaja järsemast servast alla\, kust teised julgesid\, aga sina\, see väike poiss\, ei julgenud. Või lähed ja saadad siiski selle armastuskirja nüüd ära\, mille sa 1. klassis kirjutasid\, aga sahtlipõhja peitsid? Või mine anna vastu hambaid sellele tõprale\, kes kuivati juures su isa kohta halvasti ütles. Ja kui sa ise oledki juba kasvõi 75\, siis see mölakas on ju juba 80. Nüüd oled sina temast tugevam. Nii et kui sa vähegi oled mees…. või naine\, siis tee teoks kasvõi üks tema unistus. Ja kui sa tervet unistust ei jaksa teoks teha\, tee siis pool! Aga tee!” \nPilet 15\nSooduspilet 12 \nPILETID MÜÜGIL\nHÜÜRU MÕISAS \nINFO TEL: 60 71 358\nMOBIIL: 52 38 261\nEPOST: info@huuru.ee
URL:https://huuru.ee/sundmus/sepo-seemani-monokomoodia-eesti-mees-ja-tema-poeg/
ATTACH;FMTTYPE=application/pdf:https://huuru.ee/wp-content/uploads/2018/10/Mees-ja-tema-poeg.pdf
END:VEVENT
BEGIN:VEVENT
DTSTART;TZID=Europe/Tallinn:20181112T190000
DTEND;TZID=Europe/Tallinn:20181112T200000
DTSTAMP:20260423T124823
CREATED:20181029T112657Z
LAST-MODIFIED:20181029T112657Z
UID:2213-1542049200-1542052800@huuru.ee
SUMMARY:Täiskasvanute võimlemine
DESCRIPTION:
URL:https://huuru.ee/sundmus/taiskasvanute-voimlemine-54/
END:VEVENT
BEGIN:VEVENT
DTSTART;TZID=Europe/Tallinn:20181114T183000
DTEND;TZID=Europe/Tallinn:20181114T193000
DTSTAMP:20260423T124823
CREATED:20181029T113150Z
LAST-MODIFIED:20181029T113150Z
UID:2225-1542220200-1542223800@huuru.ee
SUMMARY:Laste tantsutrenn
DESCRIPTION:
URL:https://huuru.ee/sundmus/laste-tantsutrenn-8/
END:VEVENT
BEGIN:VEVENT
DTSTART;TZID=Europe/Tallinn:20181115T150000
DTEND;TZID=Europe/Tallinn:20181115T163000
DTSTAMP:20260423T124823
CREATED:20181107T104557Z
LAST-MODIFIED:20181107T104557Z
UID:2249-1542294000-1542299400@huuru.ee
SUMMARY:Saviring lastele
DESCRIPTION:
URL:https://huuru.ee/sundmus/saviring-lastele-11/
END:VEVENT
BEGIN:VEVENT
DTSTART;TZID=Europe/Tallinn:20181115T180000
DTEND;TZID=Europe/Tallinn:20181115T193000
DTSTAMP:20260423T124823
CREATED:20181107T104628Z
LAST-MODIFIED:20181107T104628Z
UID:2251-1542304800-1542310200@huuru.ee
SUMMARY:Saviring täiskasvanutele
DESCRIPTION:
URL:https://huuru.ee/sundmus/saviring-taiskasvanutele-11/
END:VEVENT
BEGIN:VEVENT
DTSTART;TZID=Europe/Tallinn:20181116T103000
DTEND;TZID=Europe/Tallinn:20181116T113000
DTSTAMP:20260423T124823
CREATED:20181112T125741Z
LAST-MODIFIED:20181112T130108Z
UID:2261-1542364200-1542367800@huuru.ee
SUMMARY:Väärikate võimlemine
DESCRIPTION:
URL:https://huuru.ee/sundmus/vaarikate-voimlemine-2/
END:VEVENT
BEGIN:VEVENT
DTSTART;TZID=Europe/Tallinn:20181119T190000
DTEND;TZID=Europe/Tallinn:20181119T200000
DTSTAMP:20260423T124823
CREATED:20181029T112727Z
LAST-MODIFIED:20181029T112727Z
UID:2215-1542654000-1542657600@huuru.ee
SUMMARY:Täiskasvanute võimlemine
DESCRIPTION:
URL:https://huuru.ee/sundmus/taiskasvanute-voimlemine-55/
END:VEVENT
BEGIN:VEVENT
DTSTART;TZID=Europe/Tallinn:20181121T183000
DTEND;TZID=Europe/Tallinn:20181121T193000
DTSTAMP:20260423T124823
CREATED:20181029T113112Z
LAST-MODIFIED:20181029T113112Z
UID:2223-1542825000-1542828600@huuru.ee
SUMMARY:Laste tantsutrenn
DESCRIPTION:
URL:https://huuru.ee/sundmus/laste-tantsutrenn-7/
END:VEVENT
BEGIN:VEVENT
DTSTART;TZID=Europe/Tallinn:20181122T150000
DTEND;TZID=Europe/Tallinn:20181122T163000
DTSTAMP:20260423T124823
CREATED:20181107T104658Z
LAST-MODIFIED:20181107T104950Z
UID:2253-1542898800-1542904200@huuru.ee
SUMMARY:Saviring lastele
DESCRIPTION:
URL:https://huuru.ee/sundmus/saviring-lastele-12/
END:VEVENT
BEGIN:VEVENT
DTSTART;TZID=Europe/Tallinn:20181122T170000
DTEND;TZID=Europe/Tallinn:20181122T193000
DTSTAMP:20260423T124823
CREATED:20181107T104728Z
LAST-MODIFIED:20181128T111638Z
UID:2255-1542906000-1542915000@huuru.ee
SUMMARY:Saviring täiskasvanutele
DESCRIPTION:
URL:https://huuru.ee/sundmus/saviring-taiskasvanutele-12/
END:VEVENT
BEGIN:VEVENT
DTSTART;TZID=Europe/Tallinn:20181122T190000
DTEND;TZID=Europe/Tallinn:20181122T203000
DTSTAMP:20260423T124823
CREATED:20181106T110413Z
LAST-MODIFIED:20181106T110413Z
UID:2241-1542913200-1542918600@huuru.ee
SUMMARY:Ahto. Unistuste jaht.
DESCRIPTION:1940. aasta maikuus maabub New Yorgis purjelaev “Ahto”. Laeva pardal on kapten Ahto Valter ning veel 14 reisikaaslast. Selja taga on poolteist aastat ümberilma purjetamist koos naise\, pea kolmeaastase poja ja teiste kaasreisijatega Ameerikast ning Kanadast.\nLugu Ahto Valterist\, suurest unistajast\, meremehest\, seiklejast ja purjetajast rullub lahti dokumentaalfilmis\, mis kasutades unikaalset arhiivimaterjali avab vaataja jaoks eelmise sajandi maadeavastaja ihalused ja katsumused. Värvikas teekond ümber maailma avaneb tänu peategelase päevikule ning unikaalsetele kaadritele\, mis reisi jooksul värvilisele filmilindile jäädvustatud. Film manab vaataja silme ette ühe mehe elu ja meremeheks kasvamise loo\, tema kujunemisprotsessi selleks\, kes ta oli ning maailma\, mille ta läbis\, et selleks saada. \nTäispilet 4 €\nSooduspilet 3 €
URL:https://huuru.ee/sundmus/ahto-unistuste-jaht/
ATTACH;FMTTYPE=image/jpeg:https://huuru.ee/wp-content/uploads/2018/11/AHTO-plakat.jpg
END:VEVENT
BEGIN:VEVENT
DTSTART;TZID=Europe/Tallinn:20181124T110000
DTEND;TZID=Europe/Tallinn:20181124T140000
DTSTAMP:20260423T124823
CREATED:20181113T104810Z
LAST-MODIFIED:20181113T104810Z
UID:2267-1543057200-1543068000@huuru.ee
SUMMARY:Jõuluootuse savituba
DESCRIPTION:
URL:https://huuru.ee/sundmus/jouluootuse-savituba/
ATTACH;FMTTYPE=application/pdf:https://huuru.ee/wp-content/uploads/2018/11/Jõulu-savituba-1.pdf
END:VEVENT
BEGIN:VEVENT
DTSTART;TZID=Europe/Tallinn:20181126T190000
DTEND;TZID=Europe/Tallinn:20181126T200000
DTSTAMP:20260423T124823
CREATED:20181029T112802Z
LAST-MODIFIED:20181029T112802Z
UID:2217-1543258800-1543262400@huuru.ee
SUMMARY:Täiskasvanute võimlemine
DESCRIPTION:
URL:https://huuru.ee/sundmus/taiskasvanute-voimlemine-56/
END:VEVENT
BEGIN:VEVENT
DTSTART;TZID=Europe/Tallinn:20181128T183000
DTEND;TZID=Europe/Tallinn:20181128T193000
DTSTAMP:20260423T124823
CREATED:20181029T113227Z
LAST-MODIFIED:20181029T113227Z
UID:2227-1543429800-1543433400@huuru.ee
SUMMARY:Laste tantsutrenn
DESCRIPTION:
URL:https://huuru.ee/sundmus/laste-tantsutrenn-9/
END:VEVENT
BEGIN:VEVENT
DTSTART;TZID=Europe/Tallinn:20181129T150000
DTEND;TZID=Europe/Tallinn:20181129T163000
DTSTAMP:20260423T124823
CREATED:20181107T104758Z
LAST-MODIFIED:20181107T104930Z
UID:2257-1543503600-1543509000@huuru.ee
SUMMARY:Saviring lastele
DESCRIPTION:
URL:https://huuru.ee/sundmus/saviring-lastele-13/
END:VEVENT
BEGIN:VEVENT
DTSTART;TZID=Europe/Tallinn:20181129T170000
DTEND;TZID=Europe/Tallinn:20181129T193000
DTSTAMP:20260423T124823
CREATED:20181107T104830Z
LAST-MODIFIED:20181128T115220Z
UID:2259-1543510800-1543519800@huuru.ee
SUMMARY:Saviring täiskasvanutele
DESCRIPTION:
URL:https://huuru.ee/sundmus/saviring-taiskasvanutele-13/
END:VEVENT
BEGIN:VEVENT
DTSTART;TZID=Europe/Tallinn:20181129T190000
DTEND;TZID=Europe/Tallinn:20181129T203000
DTSTAMP:20260423T124823
CREATED:20181107T104413Z
LAST-MODIFIED:20181107T104413Z
UID:2246-1543518000-1543523400@huuru.ee
SUMMARY:Loeng "Terviklik tervis."
DESCRIPTION:Loeng käsitleb inimest tervikuna: toitumist\, liikumist\, mõtlemist\, emotsioonide ja konfliktolukordadega toimetulekut\, suhtlemist. On loenegulist osa ja ka praktilisi harjutusi. \nPiisava huvi korral kasvatame üritusest loengusarja erinevatel silmaringi laiendavatel teemadel. \nOsalustasu 1 eur
URL:https://huuru.ee/sundmus/loeng-terviklik-tervis/
ATTACH;FMTTYPE=application/pdf:https://huuru.ee/wp-content/uploads/2018/11/Terviklik-tervis-Viigi.pdf
END:VEVENT
BEGIN:VEVENT
DTSTART;TZID=Europe/Tallinn:20181130T173000
DTEND;TZID=Europe/Tallinn:20181130T200000
DTSTAMP:20260423T124823
CREATED:20181114T095453Z
LAST-MODIFIED:20181114T095453Z
UID:2274-1543599000-1543608000@huuru.ee
SUMMARY:Jõulupärgade töötuba
DESCRIPTION:Töötuba sisaldab jõulupärja valmimiseks vajalikke materjale.\nVõib kaasa võtta enda soovi kohaselt lisakaunistusi – paelad\, lilled\, ehted jms.\nJuhendab Mari Kuusmaa.\nEt kõik huvilised ära mahutada ja materjali piisavalt varuda\, palume osalemisest teada anda – info@huuru.ee või tel. 52 38 261
URL:https://huuru.ee/sundmus/joulupargade-tootuba/
ATTACH;FMTTYPE=application/pdf:https://huuru.ee/wp-content/uploads/2018/11/Jõulupärgade-töötuba.pdf
END:VEVENT
BEGIN:VEVENT
DTSTART;TZID=Europe/Tallinn:20181203T190000
DTEND;TZID=Europe/Tallinn:20181203T200000
DTSTAMP:20260423T124823
CREATED:20181114T095953Z
LAST-MODIFIED:20181114T095953Z
UID:2281-1543863600-1543867200@huuru.ee
SUMMARY:Täiskasvanute võimlemine
DESCRIPTION:
URL:https://huuru.ee/sundmus/taiskasvanute-voimlemine-58/
END:VEVENT
BEGIN:VEVENT
DTSTART;TZID=Europe/Tallinn:20181205T183000
DTEND;TZID=Europe/Tallinn:20181205T193000
DTSTAMP:20260423T124823
CREATED:20181217T134331Z
LAST-MODIFIED:20181217T134331Z
UID:2334-1544034600-1544038200@huuru.ee
SUMMARY:Laste tantsutrenn
DESCRIPTION:
URL:https://huuru.ee/sundmus/laste-tantsutrenn-11/
END:VEVENT
BEGIN:VEVENT
DTSTART;TZID=Europe/Tallinn:20181206T100000
DTEND;TZID=Europe/Tallinn:20181231T170000
DTSTAMP:20260423T124823
CREATED:20181206T195929Z
LAST-MODIFIED:20181206T195929Z
UID:2316-1544090400-1546275600@huuru.ee
SUMMARY:Hüüru mõisa saviringi näitus-müük
DESCRIPTION:
URL:https://huuru.ee/sundmus/huuru-moisa-saviringi-naitus-muuk/
ATTACH;FMTTYPE=application/pdf:https://huuru.ee/wp-content/uploads/2018/12/Hüüru-mõisa-saviringi-näitus-müük.pdf
END:VEVENT
BEGIN:VEVENT
DTSTART;TZID=Europe/Tallinn:20181206T103000
DTEND;TZID=Europe/Tallinn:20181206T113000
DTSTAMP:20260423T124823
CREATED:20181203T154044Z
LAST-MODIFIED:20181203T154044Z
UID:2308-1544092200-1544095800@huuru.ee
SUMMARY:Väärikate võimlemine
DESCRIPTION:
URL:https://huuru.ee/sundmus/vaarikate-voimlemine-3/
END:VEVENT
BEGIN:VEVENT
DTSTART;TZID=Europe/Tallinn:20181206T150000
DTEND;TZID=Europe/Tallinn:20181206T163000
DTSTAMP:20260423T124823
CREATED:20181128T110955Z
LAST-MODIFIED:20181128T110955Z
UID:2293-1544108400-1544113800@huuru.ee
SUMMARY:Saviring lastele
DESCRIPTION:
URL:https://huuru.ee/sundmus/saviring-lastele-14/
END:VEVENT
BEGIN:VEVENT
DTSTART;TZID=Europe/Tallinn:20181206T170000
DTEND;TZID=Europe/Tallinn:20181206T193000
DTSTAMP:20260423T124823
CREATED:20181128T111232Z
LAST-MODIFIED:20181128T115328Z
UID:2301-1544115600-1544124600@huuru.ee
SUMMARY:Saviring täiskasvanutele
DESCRIPTION:
URL:https://huuru.ee/sundmus/saviring-taiskasvanutele-14/
END:VEVENT
END:VCALENDAR