BEGIN:VCALENDAR
VERSION:2.0
PRODID:-//H&uuml;&uuml;ru m&otilde;is - ECPv6.15.20//NONSGML v1.0//EN
CALSCALE:GREGORIAN
METHOD:PUBLISH
X-WR-CALNAME:H&uuml;&uuml;ru m&otilde;is
X-ORIGINAL-URL:https://huuru.ee
X-WR-CALDESC:Events for H&uuml;&uuml;ru m&otilde;is
REFRESH-INTERVAL;VALUE=DURATION:PT1H
X-Robots-Tag:noindex
X-PUBLISHED-TTL:PT1H
BEGIN:VTIMEZONE
TZID:Europe/Tallinn
BEGIN:DAYLIGHT
TZOFFSETFROM:+0200
TZOFFSETTO:+0300
TZNAME:EEST
DTSTART:20150329T010000
END:DAYLIGHT
BEGIN:STANDARD
TZOFFSETFROM:+0300
TZOFFSETTO:+0200
TZNAME:EET
DTSTART:20151025T010000
END:STANDARD
BEGIN:DAYLIGHT
TZOFFSETFROM:+0200
TZOFFSETTO:+0300
TZNAME:EEST
DTSTART:20160327T010000
END:DAYLIGHT
BEGIN:STANDARD
TZOFFSETFROM:+0300
TZOFFSETTO:+0200
TZNAME:EET
DTSTART:20161030T010000
END:STANDARD
BEGIN:DAYLIGHT
TZOFFSETFROM:+0200
TZOFFSETTO:+0300
TZNAME:EEST
DTSTART:20170326T010000
END:DAYLIGHT
BEGIN:STANDARD
TZOFFSETFROM:+0300
TZOFFSETTO:+0200
TZNAME:EET
DTSTART:20171029T010000
END:STANDARD
END:VTIMEZONE
BEGIN:VEVENT
DTSTART;TZID=Europe/Tallinn:20161120T120000
DTEND;TZID=Europe/Tallinn:20161120T140000
DTSTAMP:20260423T020053
CREATED:20161107T103752Z
LAST-MODIFIED:20161107T103752Z
UID:1130-1479643200-1479650400@huuru.ee
SUMMARY:Skaudikoondus
DESCRIPTION:20. novembri koondus. \nOsa koondusest toimub õues. Selga panna soojad riided ja kindlasti kaasa võtta soojad kindad ning kellel võimalus\, ka lumelabidas. ESÜ poolt tuleb abiliseks Tarmo Randes (Keila skautidest).
URL:https://huuru.ee/sundmus/skaudikoondus-2/
LOCATION:Hüüru Mõis\, Jõe tee 2\,\, Saue vald\, Hüüru\, 76911\, Eesti
ORGANIZER;CN="MT%C3%9C H%C3%BC%C3%BCru K%C3%BClaselts":MAILTO:info@huuru.ee
END:VEVENT
BEGIN:VEVENT
DTSTART;TZID=Europe/Tallinn:20161121T120000
DTEND;TZID=Europe/Tallinn:20161121T190000
DTSTAMP:20260423T020053
CREATED:20161015T104410Z
LAST-MODIFIED:20161015T104410Z
UID:1063-1479729600-1479754800@huuru.ee
SUMMARY:Liis Aarne miniatuursed siidimaalid näitusel
DESCRIPTION:
URL:https://huuru.ee/sundmus/liis-aarne-miniatuursed-siidimaalid-naitusel-11/
LOCATION:Hüüru Mõis\, Jõe tee 2\,\, Saue vald\, Hüüru\, 76911\, Eesti
ATTACH;FMTTYPE=image/png:https://huuru.ee/wp-content/uploads/2016/10/Liis-Aarne-miniatuursed-siidimaalid-näitusel.png
ORGANIZER;CN="MT%C3%9C H%C3%BC%C3%BCru K%C3%BClaselts":MAILTO:info@huuru.ee
END:VEVENT
BEGIN:VEVENT
DTSTART;TZID=Europe/Tallinn:20161121T163000
DTEND;TZID=Europe/Tallinn:20161121T163000
DTSTAMP:20260423T020053
CREATED:20161015T105329Z
LAST-MODIFIED:20161015T105329Z
UID:1069-1479745800-1479745800@huuru.ee
SUMMARY:Mudilaste muusikatuba
DESCRIPTION:Esmaspäeval kell 16.30 – 17.30 \n\nOotame põngerjaid koos emmedega vanuses 1- kuni 2-aastased\, et üheskoos avastada muusikalisi saladusi\, mängida ja suhelda. Lapsed kohtuvad omavanustega ja õpivad rühmas olemist\, samuti saavad samas elusituatsioonis olevad lapsevanemad omavahel muljeid ja kogemusi jagada.
URL:https://huuru.ee/sundmus/mudilaste-muusikatuba-8/
LOCATION:Hüüru Mõis\, Jõe tee 2\,\, Saue vald\, Hüüru\, 76911\, Eesti
ATTACH;FMTTYPE=image/png:https://huuru.ee/wp-content/uploads/2016/10/beebikool-lehte.png
ORGANIZER;CN="MT%C3%9C H%C3%BC%C3%BCru K%C3%BClaselts":MAILTO:info@huuru.ee
END:VEVENT
BEGIN:VEVENT
DTSTART;TZID=Europe/Tallinn:20161122T100000
DTEND;TZID=Europe/Tallinn:20161122T123000
DTSTAMP:20260423T020053
CREATED:20161015T110016Z
LAST-MODIFIED:20161107T164525Z
UID:1074-1479808800-1479817800@huuru.ee
SUMMARY:Käsitööring
DESCRIPTION:November – karpide meisterdamine
URL:https://huuru.ee/sundmus/kasitooring-6/
LOCATION:Hüüru Mõis\, Jõe tee 2\,\, Saue vald\, Hüüru\, 76911\, Eesti
ORGANIZER;CN="MT%C3%9C H%C3%BC%C3%BCru K%C3%BClaselts":MAILTO:info@huuru.ee
END:VEVENT
BEGIN:VEVENT
DTSTART;TZID=Europe/Tallinn:20161122T183000
DTEND;TZID=Europe/Tallinn:20161122T183000
DTSTAMP:20260423T020053
CREATED:20161107T141006Z
LAST-MODIFIED:20161107T141006Z
UID:1137-1479839400-1479839400@huuru.ee
SUMMARY:Tantsutreening lastele
DESCRIPTION:
URL:https://huuru.ee/sundmus/tantsutreening-lastele-6/
LOCATION:Hüüru Mõis\, Jõe tee 2\,\, Saue vald\, Hüüru\, 76911\, Eesti
ATTACH;FMTTYPE=image/png:https://huuru.ee/wp-content/uploads/2016/09/tantsutüdrukud_teisipäev.png
ORGANIZER;CN="MT%C3%9C H%C3%BC%C3%BCru K%C3%BClaselts":MAILTO:info@huuru.ee
END:VEVENT
BEGIN:VEVENT
DTSTART;TZID=Europe/Tallinn:20161123T190000
DTEND;TZID=Europe/Tallinn:20161123T200000
DTSTAMP:20260423T020053
CREATED:20161028T052633Z
LAST-MODIFIED:20161028T052633Z
UID:1099-1479927600-1479931200@huuru.ee
SUMMARY:Täiskasvanute võimlemine
DESCRIPTION:
URL:https://huuru.ee/sundmus/taiskasvanute-voimlemine-6/
LOCATION:Hüüru Mõis\, Jõe tee 2\,\, Saue vald\, Hüüru\, 76911\, Eesti
ATTACH;FMTTYPE=image/png:https://huuru.ee/wp-content/uploads/2016/09/kuulutus.png
ORGANIZER;CN="MT%C3%9C H%C3%BC%C3%BCru K%C3%BClaselts":MAILTO:info@huuru.ee
END:VEVENT
BEGIN:VEVENT
DTSTART;TZID=Europe/Tallinn:20161124T110000
DTEND;TZID=Europe/Tallinn:20161124T110000
DTSTAMP:20260423T020053
CREATED:20161028T053255Z
LAST-MODIFIED:20161028T053255Z
UID:1104-1479985200-1479985200@huuru.ee
SUMMARY:Eakate võimlemine
DESCRIPTION:Eakate võimlemine \n1 x nädalas \nEsimene kokkusaamine reedel\, \n06.10.2016 kell 11.00 \nTASUTA
URL:https://huuru.ee/sundmus/eakate-voimlemine-7/
LOCATION:Hüüru Mõis\, Jõe tee 2\,\, Saue vald\, Hüüru\, 76911\, Eesti
ATTACH;FMTTYPE=image/png:https://huuru.ee/wp-content/uploads/2016/09/plakat-2016_II_p_a.png
END:VEVENT
BEGIN:VEVENT
DTSTART;TZID=Europe/Tallinn:20161124T120000
DTEND;TZID=Europe/Tallinn:20161124T190000
DTSTAMP:20260423T020053
CREATED:20161015T104507Z
LAST-MODIFIED:20161015T104507Z
UID:1064-1479988800-1480014000@huuru.ee
SUMMARY:Liis Aarne miniatuursed siidimaalid näitusel
DESCRIPTION:
URL:https://huuru.ee/sundmus/liis-aarne-miniatuursed-siidimaalid-naitusel-12/
LOCATION:Hüüru Mõis\, Jõe tee 2\,\, Saue vald\, Hüüru\, 76911\, Eesti
ATTACH;FMTTYPE=image/png:https://huuru.ee/wp-content/uploads/2016/10/Liis-Aarne-miniatuursed-siidimaalid-näitusel.png
ORGANIZER;CN="MT%C3%9C H%C3%BC%C3%BCru K%C3%BClaselts":MAILTO:info@huuru.ee
END:VEVENT
BEGIN:VEVENT
DTSTART;TZID=Europe/Tallinn:20161126T120000
DTEND;TZID=Europe/Tallinn:20161126T120000
DTSTAMP:20260423T020053
CREATED:20161107T165050Z
LAST-MODIFIED:20161201T143045Z
UID:1146-1480161600-1480161600@huuru.ee
SUMMARY:Hüüru Raamatukogu 130
DESCRIPTION:
URL:https://huuru.ee/sundmus/huuru-raamatukogu-130/
LOCATION:Hüüru Mõis\, Jõe tee 2\,\, Saue vald\, Hüüru\, 76911\, Eesti
ATTACH;FMTTYPE=image/png:https://huuru.ee/wp-content/uploads/2016/11/KUTSE-130.png
END:VEVENT
BEGIN:VEVENT
DTSTART;TZID=Europe/Tallinn:20161128T120000
DTEND;TZID=Europe/Tallinn:20161128T190000
DTSTAMP:20260423T020053
CREATED:20161015T104551Z
LAST-MODIFIED:20161015T104551Z
UID:1065-1480334400-1480359600@huuru.ee
SUMMARY:Liis Aarne miniatuursed siidimaalid näitusel
DESCRIPTION:
URL:https://huuru.ee/sundmus/liis-aarne-miniatuursed-siidimaalid-naitusel-13/
LOCATION:Hüüru Mõis\, Jõe tee 2\,\, Saue vald\, Hüüru\, 76911\, Eesti
ATTACH;FMTTYPE=image/png:https://huuru.ee/wp-content/uploads/2016/10/Liis-Aarne-miniatuursed-siidimaalid-näitusel.png
ORGANIZER;CN="MT%C3%9C H%C3%BC%C3%BCru K%C3%BClaselts":MAILTO:info@huuru.ee
END:VEVENT
BEGIN:VEVENT
DTSTART;TZID=Europe/Tallinn:20161128T163000
DTEND;TZID=Europe/Tallinn:20161128T163000
DTSTAMP:20260423T020053
CREATED:20161015T104951Z
LAST-MODIFIED:20161015T104951Z
UID:1067-1480350600-1480350600@huuru.ee
SUMMARY:Mudilaste muusikatuba
DESCRIPTION:Esmaspäeval kell 16.30 – 17.30 \n\nOotame põngerjaid koos emmedega vanuses 1- kuni 2-aastased\, et üheskoos avastada muusikalisi saladusi\, mängida ja suhelda. Lapsed kohtuvad omavanustega ja õpivad rühmas olemist\, samuti saavad samas elusituatsioonis olevad lapsevanemad omavahel muljeid ja kogemusi jagada.
URL:https://huuru.ee/sundmus/mudilaste-muusikatuba-6/
LOCATION:Hüüru Mõis\, Jõe tee 2\,\, Saue vald\, Hüüru\, 76911\, Eesti
ATTACH;FMTTYPE=image/png:https://huuru.ee/wp-content/uploads/2016/10/beebikool-lehte.png
ORGANIZER;CN="MT%C3%9C H%C3%BC%C3%BCru K%C3%BClaselts":MAILTO:info@huuru.ee
END:VEVENT
BEGIN:VEVENT
DTSTART;TZID=Europe/Tallinn:20161129T100000
DTEND;TZID=Europe/Tallinn:20161129T123000
DTSTAMP:20260423T020053
CREATED:20161015T110219Z
LAST-MODIFIED:20161107T140610Z
UID:1076-1480413600-1480422600@huuru.ee
SUMMARY:Käsitööring
DESCRIPTION:
URL:https://huuru.ee/sundmus/kasitooring-8/
LOCATION:Hüüru Mõis\, Jõe tee 2\,\, Saue vald\, Hüüru\, 76911\, Eesti
ORGANIZER;CN="MT%C3%9C H%C3%BC%C3%BCru K%C3%BClaselts":MAILTO:info@huuru.ee
END:VEVENT
BEGIN:VEVENT
DTSTART;TZID=Europe/Tallinn:20161129T183000
DTEND;TZID=Europe/Tallinn:20161129T183000
DTSTAMP:20260423T020053
CREATED:20161107T141056Z
LAST-MODIFIED:20161107T152214Z
UID:1138-1480444200-1480444200@huuru.ee
SUMMARY:Tantsutreening lastele
DESCRIPTION:
URL:https://huuru.ee/sundmus/tantsutreening-lastele-7/
LOCATION:Hüüru Mõis\, Jõe tee 2\,\, Saue vald\, Hüüru\, 76911\, Eesti
ATTACH;FMTTYPE=image/png:https://huuru.ee/wp-content/uploads/2016/09/tantsutüdrukud_teisipäev.png
ORGANIZER;CN="MT%C3%9C H%C3%BC%C3%BCru K%C3%BClaselts":MAILTO:info@huuru.ee
END:VEVENT
BEGIN:VEVENT
DTSTART;TZID=Europe/Tallinn:20161130T190000
DTEND;TZID=Europe/Tallinn:20161130T200000
DTSTAMP:20260423T020053
CREATED:20161028T052734Z
LAST-MODIFIED:20161028T052734Z
UID:1100-1480532400-1480536000@huuru.ee
SUMMARY:Täiskasvanute võimlemine
DESCRIPTION:
URL:https://huuru.ee/sundmus/taiskasvanute-voimlemine-7/
LOCATION:Hüüru Mõis\, Jõe tee 2\,\, Saue vald\, Hüüru\, 76911\, Eesti
ATTACH;FMTTYPE=image/png:https://huuru.ee/wp-content/uploads/2016/09/kuulutus.png
ORGANIZER;CN="MT%C3%9C H%C3%BC%C3%BCru K%C3%BClaselts":MAILTO:info@huuru.ee
END:VEVENT
BEGIN:VEVENT
DTSTART;TZID=Europe/Tallinn:20161201T120000
DTEND;TZID=Europe/Tallinn:20161201T190000
DTSTAMP:20260423T020053
CREATED:20161221T113621Z
LAST-MODIFIED:20161221T113621Z
UID:1195-1480593600-1480618800@huuru.ee
SUMMARY:Liis Aarne miniatuursed siidimaalid näitusel
DESCRIPTION:
URL:https://huuru.ee/sundmus/liis-aarne-miniatuursed-siidimaalid-naitusel-19/
LOCATION:Hüüru Mõis\, Jõe tee 2\,\, Saue vald\, Hüüru\, 76911\, Eesti
ATTACH;FMTTYPE=image/png:https://huuru.ee/wp-content/uploads/2016/10/Liis-Aarne-miniatuursed-siidimaalid-näitusel.png
ORGANIZER;CN="MT%C3%9C H%C3%BC%C3%BCru K%C3%BClaselts":MAILTO:info@huuru.ee
END:VEVENT
BEGIN:VEVENT
DTSTART;TZID=Europe/Tallinn:20161204T120000
DTEND;TZID=Europe/Tallinn:20161204T140000
DTSTAMP:20260423T020053
CREATED:20161202T112916Z
LAST-MODIFIED:20161202T112916Z
UID:1166-1480852800-1480860000@huuru.ee
SUMMARY:Skaudikoondus
DESCRIPTION:4. detsemberil 12:00 – 14:00
URL:https://huuru.ee/sundmus/skaudikoondus-3/
LOCATION:Hüüru Mõis\, Jõe tee 2\,\, Saue vald\, Hüüru\, 76911\, Eesti
ORGANIZER;CN="MT%C3%9C H%C3%BC%C3%BCru K%C3%BClaselts":MAILTO:info@huuru.ee
END:VEVENT
BEGIN:VEVENT
DTSTART;TZID=Europe/Tallinn:20161205T120000
DTEND;TZID=Europe/Tallinn:20161205T190000
DTSTAMP:20260423T020053
CREATED:20161202T113212Z
LAST-MODIFIED:20161202T113251Z
UID:1168-1480939200-1480964400@huuru.ee
SUMMARY:Liis Aarne miniatuursed siidimaalid näitusel
DESCRIPTION:
URL:https://huuru.ee/sundmus/liis-aarne-miniatuursed-siidimaalid-naitusel-14/
LOCATION:Hüüru Mõis\, Jõe tee 2\,\, Saue vald\, Hüüru\, 76911\, Eesti
ATTACH;FMTTYPE=image/png:https://huuru.ee/wp-content/uploads/2016/10/Liis-Aarne-miniatuursed-siidimaalid-näitusel.png
ORGANIZER;CN="MT%C3%9C H%C3%BC%C3%BCru K%C3%BClaselts":MAILTO:info@huuru.ee
END:VEVENT
BEGIN:VEVENT
DTSTART;TZID=Europe/Tallinn:20161205T163000
DTEND;TZID=Europe/Tallinn:20161205T163000
DTSTAMP:20260423T020053
CREATED:20161202T113545Z
LAST-MODIFIED:20161202T113545Z
UID:1170-1480955400-1480955400@huuru.ee
SUMMARY:Mudilaste muusikatuba
DESCRIPTION:Esmaspäeviti kell 16.30 – 17.30 \n\nOotame põngerjaid koos emmedega vanuses 1- kuni 2-aastased\, et üheskoos avastada muusikalisi saladusi\, mängida ja suhelda. Lapsed kohtuvad omavanustega ja õpivad rühmas olemist\, samuti saavad samas elusituatsioonis olevad lapsevanemad omavahel muljeid ja kogemusi jagada.
URL:https://huuru.ee/sundmus/mudilaste-muusikatuba-11/
LOCATION:Hüüru Mõis\, Jõe tee 2\,\, Saue vald\, Hüüru\, 76911\, Eesti
ATTACH;FMTTYPE=image/png:https://huuru.ee/wp-content/uploads/2016/10/beebikool-lehte.png
ORGANIZER;CN="MT%C3%9C H%C3%BC%C3%BCru K%C3%BClaselts":MAILTO:info@huuru.ee
END:VEVENT
BEGIN:VEVENT
DTSTART;TZID=Europe/Tallinn:20161206T110000
DTEND;TZID=Europe/Tallinn:20161206T133000
DTSTAMP:20260423T020053
CREATED:20161202T114136Z
LAST-MODIFIED:20161202T114136Z
UID:1173-1481022000-1481031000@huuru.ee
SUMMARY:Käsitööring
DESCRIPTION:Detsember – valmistame ise jõulukingid ja jõulukaardid
URL:https://huuru.ee/sundmus/kasitooring-9/
LOCATION:Hüüru Mõis\, Jõe tee 2\,\, Saue vald\, Hüüru\, 76911\, Eesti
ATTACH;FMTTYPE=image/png:https://huuru.ee/wp-content/uploads/2016/09/Käsitööring.png
ORGANIZER;CN="MT%C3%9C H%C3%BC%C3%BCru K%C3%BClaselts":MAILTO:info@huuru.ee
END:VEVENT
BEGIN:VEVENT
DTSTART;TZID=Europe/Tallinn:20161206T183000
DTEND;TZID=Europe/Tallinn:20161206T183000
DTSTAMP:20260423T020053
CREATED:20161202T114541Z
LAST-MODIFIED:20161202T114541Z
UID:1175-1481049000-1481049000@huuru.ee
SUMMARY:Tantsutreening lastele
DESCRIPTION:
URL:https://huuru.ee/sundmus/tantsutreening-lastele-8/
LOCATION:Hüüru Mõis\, Jõe tee 2\,\, Saue vald\, Hüüru\, 76911\, Eesti
ATTACH;FMTTYPE=image/png:https://huuru.ee/wp-content/uploads/2016/09/tantsutüdrukud_teisipäev.png
ORGANIZER;CN="MT%C3%9C H%C3%BC%C3%BCru K%C3%BClaselts":MAILTO:info@huuru.ee
END:VEVENT
BEGIN:VEVENT
DTSTART;TZID=Europe/Tallinn:20161207T190000
DTEND;TZID=Europe/Tallinn:20161207T190000
DTSTAMP:20260423T020053
CREATED:20161221T112636Z
LAST-MODIFIED:20161221T112636Z
UID:1190-1481137200-1481137200@huuru.ee
SUMMARY:Täiskasvanute võimlemine
DESCRIPTION:
URL:https://huuru.ee/sundmus/taiskasvanute-voimlemine-9/
LOCATION:Hüüru Mõis\, Jõe tee 2\,\, Saue vald\, Hüüru\, 76911\, Eesti
ATTACH;FMTTYPE=image/png:https://huuru.ee/wp-content/uploads/2016/09/kuulutus.png
ORGANIZER;CN="MT%C3%9C H%C3%BC%C3%BCru K%C3%BClaselts":MAILTO:info@huuru.ee
END:VEVENT
BEGIN:VEVENT
DTSTART;TZID=Europe/Tallinn:20161208T120000
DTEND;TZID=Europe/Tallinn:20161208T190000
DTSTAMP:20260423T020053
CREATED:20161202T113416Z
LAST-MODIFIED:20161202T113416Z
UID:1169-1481198400-1481223600@huuru.ee
SUMMARY:Liis Aarne miniatuursed siidimaalid näitusel
DESCRIPTION:
URL:https://huuru.ee/sundmus/liis-aarne-miniatuursed-siidimaalid-naitusel-15/
LOCATION:Hüüru Mõis\, Jõe tee 2\,\, Saue vald\, Hüüru\, 76911\, Eesti
ATTACH;FMTTYPE=image/png:https://huuru.ee/wp-content/uploads/2016/10/Liis-Aarne-miniatuursed-siidimaalid-näitusel.png
ORGANIZER;CN="MT%C3%9C H%C3%BC%C3%BCru K%C3%BClaselts":MAILTO:info@huuru.ee
END:VEVENT
BEGIN:VEVENT
DTSTART;TZID=Europe/Tallinn:20161212T120000
DTEND;TZID=Europe/Tallinn:20161212T190000
DTSTAMP:20260423T020053
CREATED:20161201T113217Z
LAST-MODIFIED:20161221T113254Z
UID:1193-1481544000-1481569200@huuru.ee
SUMMARY:Liis Aarne miniatuursed siidimaalid näitusel
DESCRIPTION:
URL:https://huuru.ee/sundmus/liis-aarne-miniatuursed-siidimaalid-naitusel-18/
LOCATION:Hüüru Mõis\, Jõe tee 2\,\, Saue vald\, Hüüru\, 76911\, Eesti
ATTACH;FMTTYPE=image/png:https://huuru.ee/wp-content/uploads/2016/10/Liis-Aarne-miniatuursed-siidimaalid-näitusel.png
ORGANIZER;CN="MT%C3%9C H%C3%BC%C3%BCru K%C3%BClaselts":MAILTO:info@huuru.ee
END:VEVENT
BEGIN:VEVENT
DTSTART;TZID=Europe/Tallinn:20161212T163000
DTEND;TZID=Europe/Tallinn:20161212T163000
DTSTAMP:20260423T020053
CREATED:20161202T113654Z
LAST-MODIFIED:20161202T113654Z
UID:1171-1481560200-1481560200@huuru.ee
SUMMARY:Mudilaste muusikatuba
DESCRIPTION:Esmaspäeviti kell 16.30 – 17.30 \n\nOotame põngerjaid koos emmedega vanuses 1- kuni 2-aastased\, et üheskoos avastada muusikalisi saladusi\, mängida ja suhelda. Lapsed kohtuvad omavanustega ja õpivad rühmas olemist\, samuti saavad samas elusituatsioonis olevad lapsevanemad omavahel muljeid ja kogemusi jagada.
URL:https://huuru.ee/sundmus/mudilaste-muusikatuba-12/
LOCATION:Hüüru Mõis\, Jõe tee 2\,\, Saue vald\, Hüüru\, 76911\, Eesti
ATTACH;FMTTYPE=image/png:https://huuru.ee/wp-content/uploads/2016/10/beebikool-lehte.png
ORGANIZER;CN="MT%C3%9C H%C3%BC%C3%BCru K%C3%BClaselts":MAILTO:info@huuru.ee
END:VEVENT
BEGIN:VEVENT
DTSTART;TZID=Europe/Tallinn:20161213T110000
DTEND;TZID=Europe/Tallinn:20161213T133000
DTSTAMP:20260423T020053
CREATED:20161202T114335Z
LAST-MODIFIED:20161202T114335Z
UID:1174-1481626800-1481635800@huuru.ee
SUMMARY:Käsitööring
DESCRIPTION:Detsember – isevalmistatud jõulukingid ja jõulukaardid
URL:https://huuru.ee/sundmus/kasitooring-10/
LOCATION:Hüüru Mõis\, Jõe tee 2\,\, Saue vald\, Hüüru\, 76911\, Eesti
ATTACH;FMTTYPE=image/png:https://huuru.ee/wp-content/uploads/2016/09/Käsitööring.png
ORGANIZER;CN="MT%C3%9C H%C3%BC%C3%BCru K%C3%BClaselts":MAILTO:info@huuru.ee
END:VEVENT
BEGIN:VEVENT
DTSTART;TZID=Europe/Tallinn:20161215T120000
DTEND;TZID=Europe/Tallinn:20161215T190000
DTSTAMP:20260423T020053
CREATED:20161221T112825Z
LAST-MODIFIED:20161221T112825Z
UID:1191-1481803200-1481828400@huuru.ee
SUMMARY:Liis Aarne miniatuursed siidimaalid näitusel
DESCRIPTION:
URL:https://huuru.ee/sundmus/liis-aarne-miniatuursed-siidimaalid-naitusel-16/
LOCATION:Hüüru Mõis\, Jõe tee 2\,\, Saue vald\, Hüüru\, 76911\, Eesti
ATTACH;FMTTYPE=image/png:https://huuru.ee/wp-content/uploads/2016/10/Liis-Aarne-miniatuursed-siidimaalid-näitusel.png
ORGANIZER;CN="MT%C3%9C H%C3%BC%C3%BCru K%C3%BClaselts":MAILTO:info@huuru.ee
END:VEVENT
BEGIN:VEVENT
DTSTART;TZID=Europe/Tallinn:20161218T120000
DTEND;TZID=Europe/Tallinn:20161218T120000
DTSTAMP:20260423T020053
CREATED:20161216T103528Z
LAST-MODIFIED:20161216T103528Z
UID:1184-1482062400-1482062400@huuru.ee
SUMMARY:Skaudikoondus
DESCRIPTION:
URL:https://huuru.ee/sundmus/skaudikoondus-4/
LOCATION:Hüüru Mõis\, Jõe tee 2\,\, Saue vald\, Hüüru\, 76911\, Eesti
ORGANIZER;CN="MT%C3%9C H%C3%BC%C3%BCru K%C3%BClaselts":MAILTO:info@huuru.ee
END:VEVENT
BEGIN:VEVENT
DTSTART;TZID=Europe/Tallinn:20161218T153000
DTEND;TZID=Europe/Tallinn:20161218T153000
DTSTAMP:20260423T020053
CREATED:20161012T090451Z
LAST-MODIFIED:20161231T114639Z
UID:1049-1482075000-1482075000@huuru.ee
SUMMARY:Hüüru laste jõulupidu
DESCRIPTION:Armas Hüüru küla laps vanuses 12. eluaastat k.a\npühapäeval\, 18.12.2016 kell 15.30\nootame Sind\nLASTE JÕULUPEOLE\nHüüru mõisa.\nKülla tuleb JÕULUVANA ja Tallinna lasteteater LEPATRIINU\netendusega „AHHAA-EHHEE-OHHOO“ \nEnne etendust valmistame kohapeal jõulukaardi ja \npeale etendust esinevad Hüüru tantsutüdrukud. \nEt jõuluvana teaks kui palju kingitusi kaasa võtta\npalume lapse nime\, vanuse ja aadressi teada anda kuni 05.12.2016 telefonil 52 38 261 või info@huuru.ee \nOsavõtutasu 5€ palume kanda MTÜ Hüüru Külaseltsi arvele EE862200221041509459. Selgituseks lapse/laste nimed \nPildid
URL:https://huuru.ee/sundmus/huuru-laste-joulupidu-2/
LOCATION:Hüüru Mõis\, Jõe tee 2\,\, Saue vald\, Hüüru\, 76911\, Eesti
ATTACH;FMTTYPE=image/jpeg:https://huuru.ee/wp-content/uploads/2016/10/joulukuulutus-2016.jpg
ORGANIZER;CN="MT%C3%9C H%C3%BC%C3%BCru K%C3%BClaselts":MAILTO:info@huuru.ee
END:VEVENT
BEGIN:VEVENT
DTSTART;TZID=Europe/Tallinn:20161219T120000
DTEND;TZID=Europe/Tallinn:20161219T190000
DTSTAMP:20260423T020053
CREATED:20161201T113007Z
LAST-MODIFIED:20161221T113110Z
UID:1192-1482148800-1482174000@huuru.ee
SUMMARY:Liis Aarne miniatuursed siidimaalid näitusel
DESCRIPTION:
URL:https://huuru.ee/sundmus/liis-aarne-miniatuursed-siidimaalid-naitusel-17/
LOCATION:Hüüru Mõis\, Jõe tee 2\,\, Saue vald\, Hüüru\, 76911\, Eesti
ATTACH;FMTTYPE=image/png:https://huuru.ee/wp-content/uploads/2016/10/Liis-Aarne-miniatuursed-siidimaalid-näitusel.png
ORGANIZER;CN="MT%C3%9C H%C3%BC%C3%BCru K%C3%BClaselts":MAILTO:info@huuru.ee
END:VEVENT
BEGIN:VEVENT
DTSTART;TZID=Europe/Tallinn:20161219T163000
DTEND;TZID=Europe/Tallinn:20161219T163000
DTSTAMP:20260423T020053
CREATED:20161202T113754Z
LAST-MODIFIED:20161202T113754Z
UID:1172-1482165000-1482165000@huuru.ee
SUMMARY:Mudilaste muusikatuba
DESCRIPTION:Esmaspäeviti kell 16.30 – 17.30 \n\nOotame põngerjaid koos emmedega vanuses 1- kuni 2-aastased\, et üheskoos avastada muusikalisi saladusi\, mängida ja suhelda. Lapsed kohtuvad omavanustega ja õpivad rühmas olemist\, samuti saavad samas elusituatsioonis olevad lapsevanemad omavahel muljeid ja kogemusi jagada.
URL:https://huuru.ee/sundmus/mudilaste-muusikatuba-13/
LOCATION:Hüüru Mõis\, Jõe tee 2\,\, Saue vald\, Hüüru\, 76911\, Eesti
ATTACH;FMTTYPE=image/png:https://huuru.ee/wp-content/uploads/2016/10/beebikool-lehte.png
ORGANIZER;CN="MT%C3%9C H%C3%BC%C3%BCru K%C3%BClaselts":MAILTO:info@huuru.ee
END:VEVENT
END:VCALENDAR