BEGIN:VCALENDAR
VERSION:2.0
PRODID:-//H&uuml;&uuml;ru m&otilde;is - ECPv6.15.20//NONSGML v1.0//EN
CALSCALE:GREGORIAN
METHOD:PUBLISH
X-WR-CALNAME:H&uuml;&uuml;ru m&otilde;is
X-ORIGINAL-URL:https://huuru.ee
X-WR-CALDESC:Events for H&uuml;&uuml;ru m&otilde;is
REFRESH-INTERVAL;VALUE=DURATION:PT1H
X-Robots-Tag:noindex
X-PUBLISHED-TTL:PT1H
BEGIN:VTIMEZONE
TZID:Europe/Tallinn
BEGIN:DAYLIGHT
TZOFFSETFROM:+0200
TZOFFSETTO:+0300
TZNAME:EEST
DTSTART:20190331T010000
END:DAYLIGHT
BEGIN:STANDARD
TZOFFSETFROM:+0300
TZOFFSETTO:+0200
TZNAME:EET
DTSTART:20191027T010000
END:STANDARD
BEGIN:DAYLIGHT
TZOFFSETFROM:+0200
TZOFFSETTO:+0300
TZNAME:EEST
DTSTART:20200329T010000
END:DAYLIGHT
BEGIN:STANDARD
TZOFFSETFROM:+0300
TZOFFSETTO:+0200
TZNAME:EET
DTSTART:20201025T010000
END:STANDARD
BEGIN:DAYLIGHT
TZOFFSETFROM:+0200
TZOFFSETTO:+0300
TZNAME:EEST
DTSTART:20210328T010000
END:DAYLIGHT
BEGIN:STANDARD
TZOFFSETFROM:+0300
TZOFFSETTO:+0200
TZNAME:EET
DTSTART:20211031T010000
END:STANDARD
END:VTIMEZONE
BEGIN:VEVENT
DTSTART;TZID=Europe/Tallinn:20200917T103000
DTEND;TZID=Europe/Tallinn:20200917T113000
DTSTAMP:20260425T192858
CREATED:20200913T063912Z
LAST-MODIFIED:20200913T063912Z
UID:2984-1600338600-1600342200@huuru.ee
SUMMARY:Beebikool 1-2 aastased mudilased
DESCRIPTION:
URL:https://huuru.ee/sundmus/beebikool-1-2-aastased-mudilased-2/
ATTACH;FMTTYPE=image/jpeg:https://huuru.ee/wp-content/uploads/2020/09/Huuru-poster-page-001-scaled.jpg
END:VEVENT
BEGIN:VEVENT
DTSTART;TZID=Europe/Tallinn:20200917T103000
DTEND;TZID=Europe/Tallinn:20200917T113000
DTSTAMP:20260425T192858
CREATED:20200914T124142Z
LAST-MODIFIED:20200914T124142Z
UID:2992-1600338600-1600342200@huuru.ee
SUMMARY:Väärikate võimlemine
DESCRIPTION:
URL:https://huuru.ee/sundmus/vaarikate-voimlemine-10/
END:VEVENT
BEGIN:VEVENT
DTSTART;TZID=Europe/Tallinn:20200917T114500
DTEND;TZID=Europe/Tallinn:20200917T124500
DTSTAMP:20260425T192858
CREATED:20200913T064201Z
LAST-MODIFIED:20200913T064201Z
UID:2986-1600343100-1600346700@huuru.ee
SUMMARY:Beebikool 2-12 kuused beebid
DESCRIPTION:
URL:https://huuru.ee/sundmus/beebikool-2-12-kuused-beebid-2/
ATTACH;FMTTYPE=image/jpeg:https://huuru.ee/wp-content/uploads/2020/09/Huuru-poster-page-001-scaled.jpg
END:VEVENT
BEGIN:VEVENT
DTSTART;TZID=Europe/Tallinn:20200921T180000
DTEND;TZID=Europe/Tallinn:20200921T193000
DTSTAMP:20260425T192858
CREATED:20200913T063124Z
LAST-MODIFIED:20200913T063157Z
UID:2974-1600711200-1600716600@huuru.ee
SUMMARY:Loodeteatri õppestuudio
DESCRIPTION:
URL:https://huuru.ee/sundmus/loodeteatri-oppestuudio-2/
ATTACH;FMTTYPE=image/jpeg:https://huuru.ee/wp-content/uploads/2020/08/Loodeteater-scaled.jpg
END:VEVENT
BEGIN:VEVENT
DTSTART;TZID=Europe/Tallinn:20200923T180000
DTEND;TZID=Europe/Tallinn:20200923T193000
DTSTAMP:20260425T192858
CREATED:20200913T063455Z
LAST-MODIFIED:20200913T063455Z
UID:2978-1600884000-1600889400@huuru.ee
SUMMARY:Loodeteatri õppestuudio
DESCRIPTION:
URL:https://huuru.ee/sundmus/loodeteatri-oppestuudio-4/
ATTACH;FMTTYPE=image/jpeg:https://huuru.ee/wp-content/uploads/2020/08/Loodeteater-scaled.jpg
END:VEVENT
BEGIN:VEVENT
DTSTART;TZID=Europe/Tallinn:20200924T103000
DTEND;TZID=Europe/Tallinn:20200924T113000
DTSTAMP:20260425T192858
CREATED:20200913T064620Z
LAST-MODIFIED:20200913T064620Z
UID:2990-1600943400-1600947000@huuru.ee
SUMMARY:Beebikool 1-2 aastased mudilased
DESCRIPTION:
URL:https://huuru.ee/sundmus/beebikool-1-2-aastased-mudilased-3/
ATTACH;FMTTYPE=image/jpeg:https://huuru.ee/wp-content/uploads/2020/09/Huuru-poster-page-001-scaled.jpg
END:VEVENT
BEGIN:VEVENT
DTSTART;TZID=Europe/Tallinn:20200924T114500
DTEND;TZID=Europe/Tallinn:20200924T124500
DTSTAMP:20260425T192858
CREATED:20200913T064357Z
LAST-MODIFIED:20200913T064447Z
UID:2988-1600947900-1600951500@huuru.ee
SUMMARY:Beebikool – 2-12 kuused beebid
DESCRIPTION:
URL:https://huuru.ee/sundmus/beebikool-2-12-kuused-beebid-3/
ATTACH;FMTTYPE=image/jpeg:https://huuru.ee/wp-content/uploads/2020/09/Huuru-poster-page-001-scaled.jpg
END:VEVENT
BEGIN:VEVENT
DTSTART;TZID=Europe/Tallinn:20200924T190000
DTEND;TZID=Europe/Tallinn:20200924T200000
DTSTAMP:20260425T192858
CREATED:20200915T101348Z
LAST-MODIFIED:20200922T095718Z
UID:2996-1600974000-1600977600@huuru.ee
SUMMARY:Loeng jääb ära "Teadlikult õnnelik mina"
DESCRIPTION:Seoses terviseameti soovitustega ja kasvava viirushaiguse näitajatega jätame loengu septembris ära.
URL:https://huuru.ee/sundmus/loeng-teadlikult-onnelik-mina/
END:VEVENT
BEGIN:VEVENT
DTSTART;TZID=Europe/Tallinn:20200928T180000
DTEND;TZID=Europe/Tallinn:20200928T193000
DTSTAMP:20260425T192858
CREATED:20200913T063623Z
LAST-MODIFIED:20200913T063623Z
UID:2980-1601316000-1601321400@huuru.ee
SUMMARY:Loodeteatri õppestuudio
DESCRIPTION:
URL:https://huuru.ee/sundmus/loodeteatri-oppestuudio-5/
END:VEVENT
BEGIN:VEVENT
DTSTART;TZID=Europe/Tallinn:20200929T173000
DTEND;TZID=Europe/Tallinn:20200929T200000
DTSTAMP:20260425T192858
CREATED:20200929T095341Z
LAST-MODIFIED:20200929T095341Z
UID:3024-1601400600-1601409600@huuru.ee
SUMMARY:Saviring täiskasvanutele
DESCRIPTION:
URL:https://huuru.ee/sundmus/saviring-taiskasvanutele-35/
END:VEVENT
BEGIN:VEVENT
DTSTART;TZID=Europe/Tallinn:20200930T180000
DTEND;TZID=Europe/Tallinn:20200930T193000
DTSTAMP:20260425T192858
CREATED:20200913T063737Z
LAST-MODIFIED:20200913T063737Z
UID:2982-1601488800-1601494200@huuru.ee
SUMMARY:Loodeteatri õppestuudio
DESCRIPTION:
URL:https://huuru.ee/sundmus/loodeteatri-oppestuudio-6/
END:VEVENT
BEGIN:VEVENT
DTSTART;TZID=Europe/Tallinn:20201001T103000
DTEND;TZID=Europe/Tallinn:20201001T113000
DTSTAMP:20260425T192858
CREATED:20200929T094825Z
LAST-MODIFIED:20200929T094825Z
UID:3008-1601548200-1601551800@huuru.ee
SUMMARY:Väärikate võimlemine
DESCRIPTION:
URL:https://huuru.ee/sundmus/vaarikate-voimlemine-11/
END:VEVENT
BEGIN:VEVENT
DTSTART;TZID=Europe/Tallinn:20201001T173000
DTEND;TZID=Europe/Tallinn:20201001T200000
DTSTAMP:20260425T192858
CREATED:20200929T100324Z
LAST-MODIFIED:20200929T100324Z
UID:3054-1601573400-1601582400@huuru.ee
SUMMARY:Saviring täiskasvanutele
DESCRIPTION:
URL:https://huuru.ee/sundmus/saviring-taiskasvanutele-37/
END:VEVENT
BEGIN:VEVENT
DTSTART;TZID=Europe/Tallinn:20201005T180000
DTEND;TZID=Europe/Tallinn:20201005T200000
DTSTAMP:20260425T192858
CREATED:20200929T094920Z
LAST-MODIFIED:20200929T094920Z
UID:3012-1601920800-1601928000@huuru.ee
SUMMARY:Loodeteatri õppestuudio
DESCRIPTION:
URL:https://huuru.ee/sundmus/loodeteatri-oppestuudio-7/
END:VEVENT
BEGIN:VEVENT
DTSTART;TZID=Europe/Tallinn:20201006T100000
DTEND;TZID=Europe/Tallinn:20201006T110000
DTSTAMP:20260425T192858
CREATED:20201006T095034Z
LAST-MODIFIED:20201006T095034Z
UID:3068-1601978400-1601982000@huuru.ee
SUMMARY:Väärikate võimlemine
DESCRIPTION:
URL:https://huuru.ee/sundmus/vaarikate-voimlemine-12/
END:VEVENT
BEGIN:VEVENT
DTSTART;TZID=Europe/Tallinn:20201006T160000
DTEND;TZID=Europe/Tallinn:20201006T173000
DTSTAMP:20260425T192858
CREATED:20200929T095027Z
LAST-MODIFIED:20200929T095027Z
UID:3016-1602000000-1602005400@huuru.ee
SUMMARY:Saviring lastele
DESCRIPTION:
URL:https://huuru.ee/sundmus/saviring-lastele-35/
END:VEVENT
BEGIN:VEVENT
DTSTART;TZID=Europe/Tallinn:20201006T183000
DTEND;TZID=Europe/Tallinn:20201006T193000
DTSTAMP:20260425T192858
CREATED:20200909T092848Z
LAST-MODIFIED:20200909T092848Z
UID:2971-1602009000-1602012600@huuru.ee
SUMMARY:Laste tantsutreening
DESCRIPTION:Tantsutreeningusse on oodatud kõik tantsuhuvilised lapsed. Treeningud toimuvad kord nädalas\, teisipäeviti 18.30. Lisainfo juhendajalt Kristiina Aidla: krissu.aidla@gmail.com
URL:https://huuru.ee/sundmus/laste-tantsutreening-17/
END:VEVENT
BEGIN:VEVENT
DTSTART;TZID=Europe/Tallinn:20201007T180000
DTEND;TZID=Europe/Tallinn:20201007T200000
DTSTAMP:20260425T192858
CREATED:20200929T094951Z
LAST-MODIFIED:20200929T094951Z
UID:3014-1602093600-1602100800@huuru.ee
SUMMARY:Loodeteatri õppestuudio
DESCRIPTION:
URL:https://huuru.ee/sundmus/loodeteatri-oppestuudio-8/
END:VEVENT
BEGIN:VEVENT
DTSTART;TZID=Europe/Tallinn:20201008T173000
DTEND;TZID=Europe/Tallinn:20201008T200000
DTSTAMP:20260425T192858
CREATED:20200929T095534Z
LAST-MODIFIED:20200929T095534Z
UID:3030-1602178200-1602187200@huuru.ee
SUMMARY:Saviring täiskasvanutele
DESCRIPTION:
URL:https://huuru.ee/sundmus/saviring-taiskasvanutele-38/
END:VEVENT
BEGIN:VEVENT
DTSTART;TZID=Europe/Tallinn:20201012T180000
DTEND;TZID=Europe/Tallinn:20201012T200000
DTSTAMP:20260425T192858
CREATED:20200929T100033Z
LAST-MODIFIED:20200929T100033Z
UID:3044-1602525600-1602532800@huuru.ee
SUMMARY:Loodeteatri õppestuudio
DESCRIPTION:
URL:https://huuru.ee/sundmus/loodeteatri-oppestuudio-10/
END:VEVENT
BEGIN:VEVENT
DTSTART;TZID=Europe/Tallinn:20201013T160000
DTEND;TZID=Europe/Tallinn:20201013T173000
DTSTAMP:20260425T192858
CREATED:20200929T095106Z
LAST-MODIFIED:20200929T095106Z
UID:3018-1602604800-1602610200@huuru.ee
SUMMARY:Saviring lastele
DESCRIPTION:
URL:https://huuru.ee/sundmus/saviring-lastele-36/
END:VEVENT
BEGIN:VEVENT
DTSTART;TZID=Europe/Tallinn:20201013T183000
DTEND;TZID=Europe/Tallinn:20201013T193000
DTSTAMP:20260425T192858
CREATED:20200929T095747Z
LAST-MODIFIED:20200929T095747Z
UID:3036-1602613800-1602617400@huuru.ee
SUMMARY:Laste tantsutreening
DESCRIPTION:
URL:https://huuru.ee/sundmus/laste-tantsutreening-18/
END:VEVENT
BEGIN:VEVENT
DTSTART;TZID=Europe/Tallinn:20201014T180000
DTEND;TZID=Europe/Tallinn:20201014T200000
DTSTAMP:20260425T192858
CREATED:20200929T100138Z
LAST-MODIFIED:20200929T100138Z
UID:3048-1602698400-1602705600@huuru.ee
SUMMARY:Loodeteatri õppestuudio
DESCRIPTION:
URL:https://huuru.ee/sundmus/loodeteatri-oppestuudio-12/
END:VEVENT
BEGIN:VEVENT
DTSTART;TZID=Europe/Tallinn:20201015T173000
DTEND;TZID=Europe/Tallinn:20201015T200000
DTSTAMP:20260425T192858
CREATED:20200929T095415Z
LAST-MODIFIED:20200929T095415Z
UID:3026-1602783000-1602792000@huuru.ee
SUMMARY:Saviring täiskasvanutele
DESCRIPTION:
URL:https://huuru.ee/sundmus/saviring-taiskasvanutele-36/
END:VEVENT
BEGIN:VEVENT
DTSTART;TZID=Europe/Tallinn:20201019T093000
DTEND;TZID=Europe/Tallinn:20201019T143000
DTSTAMP:20260425T192858
CREATED:20201006T094318Z
LAST-MODIFIED:20201006T094318Z
UID:3058-1603099800-1603117800@huuru.ee
SUMMARY:Mectory Tehnotrennilaager
DESCRIPTION:Tere\,\n\nHüüru külaselts korraldab sügisvaheaja koolilaagri koostöös Mectoryga.\nTehnotrennilaager toimub 19-22.oktoober. \n\n\n\n\nOotame osa võtma 3.–6. klasside õpilasi\, kel on soov veeta oma sügisvaheaeg sisukalt ja põnevalt. Tehnotrennilaager sisaldab erinevaid tegevusi huvitavates ja õpetlikes töötubades ning sporditundi looduses. Laagris on igal päeval tagatud soe ja maitsev lõunasöök ning tervislikud vahepalad. Vajadusel saate registreerimisel märkida\, kui on erivajadusi toidu osas. \nKõik laagripäevad algavad ja lõpevad Hüüru mõisa juures\, külaselts korraldab transpordi Mektorysse (aadress Raja 15) ja tagasi. \nTäpsem info osalejatele. Osalustasu Hüüru küla lapsele päev 4 € ja väljaspoolt küla lapsele 7 €. Vajalik saata osaleja isikukood registreerumiseks.\nLaagrisse registreerumine kontaktidel: info@huuru.ee või telefonil 52 38 261 \n  \n 
URL:https://huuru.ee/sundmus/mectory-tehnotrennilaager/
END:VEVENT
BEGIN:VEVENT
DTSTART;TZID=Europe/Tallinn:20201019T180000
DTEND;TZID=Europe/Tallinn:20201019T200000
DTSTAMP:20260425T192858
CREATED:20200929T100003Z
LAST-MODIFIED:20200929T100003Z
UID:3042-1603130400-1603137600@huuru.ee
SUMMARY:Loodeteatri õppestuudio
DESCRIPTION:
URL:https://huuru.ee/sundmus/loodeteatri-oppestuudio-9/
END:VEVENT
BEGIN:VEVENT
DTSTART;TZID=Europe/Tallinn:20201020T093000
DTEND;TZID=Europe/Tallinn:20201020T143000
DTSTAMP:20260425T192858
CREATED:20201006T094600Z
LAST-MODIFIED:20201006T094600Z
UID:3060-1603186200-1603204200@huuru.ee
SUMMARY:Mectory Tehnotrennilaager
DESCRIPTION:Hüüru külaselts korraldab sügisvaheaja koolilaagri koostöös Mectoryga.\nTehnotrennilaager toimub 19-22.oktoober.\nOotame osa võtma 3.–6. klasside õpilasi\, kel on soov veeta oma sügisvaheaeg sisukalt ja põnevalt. Tehnotrennilaager sisaldab erinevaid tegevusi huvitavates ja õpetlikes töötubades ning sporditundi looduses. Laagris on igal päeval tagatud soe ja maitsev lõunasöök ning tervislikud vahepalad. Vajadusel saate registreerimisel märkida\, kui on erivajadusi toidu osas. \n\n\n\nKõik laagripäevad algavad ja lõpevad Hüüru mõisa juures\, külaselts korraldab transpordi Mektorysse (aadress Raja 15) ja tagasi. \nTäpsem info osalejatele. Osalustasu Hüüru küla lapsele päev 4 € ja väljaspoolt küla lapsele 7 €. Vajalik saata osaleja isikukood registreerumiseks.\nLaagrisse registreerumine kontaktidel: info@huuru.ee või telefonil 52 38 261 \n 
URL:https://huuru.ee/sundmus/mectory-tehnotrennilaager-2/
END:VEVENT
BEGIN:VEVENT
DTSTART;TZID=Europe/Tallinn:20201020T160000
DTEND;TZID=Europe/Tallinn:20201020T173000
DTSTAMP:20260425T192858
CREATED:20200929T095137Z
LAST-MODIFIED:20200929T095228Z
UID:3020-1603209600-1603215000@huuru.ee
SUMMARY:Saviring lastele
DESCRIPTION:
URL:https://huuru.ee/sundmus/saviring-lastele-37/
END:VEVENT
BEGIN:VEVENT
DTSTART;TZID=Europe/Tallinn:20201020T183000
DTEND;TZID=Europe/Tallinn:20201020T193000
DTSTAMP:20260425T192858
CREATED:20200929T095834Z
LAST-MODIFIED:20200929T095834Z
UID:3038-1603218600-1603222200@huuru.ee
SUMMARY:Laste tantsutreening
DESCRIPTION:
URL:https://huuru.ee/sundmus/laste-tantsutreening-19/
END:VEVENT
BEGIN:VEVENT
DTSTART;TZID=Europe/Tallinn:20201021T093000
DTEND;TZID=Europe/Tallinn:20201021T143000
DTSTAMP:20260425T192858
CREATED:20201006T094658Z
LAST-MODIFIED:20201006T094658Z
UID:3062-1603272600-1603290600@huuru.ee
SUMMARY:Mectory Tehnotrennilaager 
DESCRIPTION:Hüüru külaselts korraldab sügisvaheaja koolilaagri koostöös Mectoryga.\nTehnotrennilaager toimub 19-22.oktoober.\nOotame osa võtma 3.–6. klasside õpilasi\, kel on soov veeta oma sügisvaheaeg sisukalt ja põnevalt. Tehnotrennilaager sisaldab erinevaid tegevusi huvitavates ja õpetlikes töötubades ning sporditundi looduses. Laagris on igal päeval tagatud soe ja maitsev lõunasöök ning tervislikud vahepalad. Vajadusel saate registreerimisel märkida\, kui on erivajadusi toidu osas. \n\n\n\nKõik laagripäevad algavad ja lõpevad Hüüru mõisa juures\, külaselts korraldab transpordi Mektorysse (aadress Raja 15) ja tagasi. \nTäpsem info osalejatele. Osalustasu Hüüru küla lapsele päev 4 € ja väljaspoolt küla lapsele 7 €. Vajalik saata osaleja isikukood registreerumiseks.\nLaagrisse registreerumine kontaktidel: info@huuru.ee või telefonil 52 38 261 \n 
URL:https://huuru.ee/sundmus/mectory-tehnotrennilaager-3/
END:VEVENT
END:VCALENDAR