BEGIN:VCALENDAR
VERSION:2.0
PRODID:-//H&uuml;&uuml;ru m&otilde;is - ECPv6.15.20//NONSGML v1.0//EN
CALSCALE:GREGORIAN
METHOD:PUBLISH
X-WR-CALNAME:H&uuml;&uuml;ru m&otilde;is
X-ORIGINAL-URL:https://huuru.ee
X-WR-CALDESC:Events for H&uuml;&uuml;ru m&otilde;is
REFRESH-INTERVAL;VALUE=DURATION:PT1H
X-Robots-Tag:noindex
X-PUBLISHED-TTL:PT1H
BEGIN:VTIMEZONE
TZID:Europe/Tallinn
BEGIN:DAYLIGHT
TZOFFSETFROM:+0200
TZOFFSETTO:+0300
TZNAME:EEST
DTSTART:20150329T010000
END:DAYLIGHT
BEGIN:STANDARD
TZOFFSETFROM:+0300
TZOFFSETTO:+0200
TZNAME:EET
DTSTART:20151025T010000
END:STANDARD
BEGIN:DAYLIGHT
TZOFFSETFROM:+0200
TZOFFSETTO:+0300
TZNAME:EEST
DTSTART:20160327T010000
END:DAYLIGHT
BEGIN:STANDARD
TZOFFSETFROM:+0300
TZOFFSETTO:+0200
TZNAME:EET
DTSTART:20161030T010000
END:STANDARD
BEGIN:DAYLIGHT
TZOFFSETFROM:+0200
TZOFFSETTO:+0300
TZNAME:EEST
DTSTART:20170326T010000
END:DAYLIGHT
BEGIN:STANDARD
TZOFFSETFROM:+0300
TZOFFSETTO:+0200
TZNAME:EET
DTSTART:20171029T010000
END:STANDARD
END:VTIMEZONE
BEGIN:VEVENT
DTSTART;TZID=Europe/Tallinn:20161031T120000
DTEND;TZID=Europe/Tallinn:20161031T190000
DTSTAMP:20260423T015240
CREATED:20161015T082205Z
LAST-MODIFIED:20161015T082205Z
UID:1057-1477915200-1477940400@huuru.ee
SUMMARY:Liis Aarne miniatuursed siidimaalid näitusel
DESCRIPTION:
URL:https://huuru.ee/sundmus/liis-aarne-miniatuursed-siidimaalid-naitusel-5/
LOCATION:Hüüru Mõis\, Jõe tee 2\,\, Saue vald\, Hüüru\, 76911\, Eesti
ATTACH;FMTTYPE=image/png:https://huuru.ee/wp-content/uploads/2016/10/Liis-Aarne-miniatuursed-siidimaalid-näitusel.png
ORGANIZER;CN="MT%C3%9C H%C3%BC%C3%BCru K%C3%BClaselts":MAILTO:info@huuru.ee
END:VEVENT
BEGIN:VEVENT
DTSTART;TZID=Europe/Tallinn:20161031T163000
DTEND;TZID=Europe/Tallinn:20161031T173000
DTSTAMP:20260423T015240
CREATED:20161005T114312Z
LAST-MODIFIED:20161014T094135Z
UID:1019-1477931400-1477935000@huuru.ee
SUMMARY:Mudilaste muusikatuba
DESCRIPTION:Esmaspäeviti kell 16.30 – 17.30 \n\nOotame põngerjaid koos emmedega vanuses 1- kuni 2-aastased\, et üheskoos avastada muusikalisi saladusi\, mängida ja suhelda. Lapsed kohtuvad omavanustega ja õpivad rühmas olemist\, samuti saavad samas elusituatsioonis olevad lapsevanemad omavahel muljeid ja kogemusi jagada.
URL:https://huuru.ee/sundmus/mudilaste-muusikatuba-5/
LOCATION:Hüüru Mõis\, Jõe tee 2\,\, Saue vald\, Hüüru\, 76911\, Eesti
ATTACH;FMTTYPE=image/png:https://huuru.ee/wp-content/uploads/2016/10/beebikool-lehte.png
ORGANIZER;CN="MT%C3%9C H%C3%BC%C3%BCru K%C3%BClaselts":MAILTO:info@huuru.ee
END:VEVENT
BEGIN:VEVENT
DTSTART;TZID=Europe/Tallinn:20161101T100000
DTEND;TZID=Europe/Tallinn:20161101T123000
DTSTAMP:20260423T015240
CREATED:20161015T105858Z
LAST-MODIFIED:20161107T164454Z
UID:1072-1477994400-1478003400@huuru.ee
SUMMARY:Käsitööring
DESCRIPTION:November – karpide meisterdamine
URL:https://huuru.ee/sundmus/kasitooring-4/
LOCATION:Hüüru Mõis\, Jõe tee 2\,\, Saue vald\, Hüüru\, 76911\, Eesti
ORGANIZER;CN="MT%C3%9C H%C3%BC%C3%BCru K%C3%BClaselts":MAILTO:info@huuru.ee
END:VEVENT
BEGIN:VEVENT
DTSTART;TZID=Europe/Tallinn:20161101T183000
DTEND;TZID=Europe/Tallinn:20161101T183000
DTSTAMP:20260423T015240
CREATED:20161005T114544Z
LAST-MODIFIED:20161019T113439Z
UID:1020-1478025000-1478025000@huuru.ee
SUMMARY:Seltskonnatants täiskasvanutele
DESCRIPTION:SELTSKONNATANTS TÄISKASVANUTELE \nHüüru mõisasaalis teisipäeviti kell 18.30 \nTantsuklubi EMERALD kutsub tutvuma suurepärase tantsumaailmaga! \nTantsutunnid toimuvad alates 1.novembrist 2016. \nJuhendajad Aivar Ots ja Margit Bahtin. \nTasu 15 eur paar/kord. Tasudes kuu esimesel tunnil terve kuu eest ette 12 eur paar/kord. \nOodatud on ka üksikud daamid ja härrad! \nTäiendav info ja registreerimine: emeraldtants@gmail.com \ntel. 555 64 054
URL:https://huuru.ee/sundmus/seltskonnatants-taiskasvanutele-2/
LOCATION:Hüüru Mõis\, Jõe tee 2\,\, Saue vald\, Hüüru\, 76911\, Eesti
ATTACH;FMTTYPE=image/jpeg:https://huuru.ee/wp-content/uploads/2016/10/hyyru_seltskonnatants.jpg
ORGANIZER;CN="MT%C3%9C H%C3%BC%C3%BCru K%C3%BClaselts":MAILTO:info@huuru.ee
END:VEVENT
BEGIN:VEVENT
DTSTART;TZID=Europe/Tallinn:20161102T190000
DTEND;TZID=Europe/Tallinn:20161102T200000
DTSTAMP:20260423T015240
CREATED:20161028T052334Z
LAST-MODIFIED:20161028T052334Z
UID:1096-1478113200-1478116800@huuru.ee
SUMMARY:Täiskasvanute võimlemine
DESCRIPTION:
URL:https://huuru.ee/sundmus/taiskasvanute-voimlemine-3/
LOCATION:Hüüru Mõis\, Jõe tee 2\,\, Saue vald\, Hüüru\, 76911\, Eesti
ATTACH;FMTTYPE=image/png:https://huuru.ee/wp-content/uploads/2016/09/kuulutus.png
ORGANIZER;CN="MT%C3%9C H%C3%BC%C3%BCru K%C3%BClaselts":MAILTO:info@huuru.ee
END:VEVENT
BEGIN:VEVENT
DTSTART;TZID=Europe/Tallinn:20161103T110000
DTEND;TZID=Europe/Tallinn:20161103T110000
DTSTAMP:20260423T015240
CREATED:20161028T053013Z
LAST-MODIFIED:20161028T053013Z
UID:1101-1478170800-1478170800@huuru.ee
SUMMARY:Eakate võimlemine
DESCRIPTION:Eakate võimlemine \n1 x nädalas \nEsimene kokkusaamine reedel\, \n06.10.2016 kell 11.00 \nTASUTA
URL:https://huuru.ee/sundmus/eakate-voimlemine-5/
LOCATION:Hüüru Mõis\, Jõe tee 2\,\, Saue vald\, Hüüru\, 76911\, Eesti
ATTACH;FMTTYPE=image/png:https://huuru.ee/wp-content/uploads/2016/09/plakat-2016_II_p_a.png
END:VEVENT
BEGIN:VEVENT
DTSTART;TZID=Europe/Tallinn:20161103T120000
DTEND;TZID=Europe/Tallinn:20161103T190000
DTSTAMP:20260423T015240
CREATED:20161015T102024Z
LAST-MODIFIED:20161015T102024Z
UID:1058-1478174400-1478199600@huuru.ee
SUMMARY:Liis Aarne miniatuursed siidimaalid näitusel
DESCRIPTION:
URL:https://huuru.ee/sundmus/liis-aarne-miniatuursed-siidimaalid-naitusel-6/
LOCATION:Hüüru Mõis\, Jõe tee 2\,\, Saue vald\, Hüüru\, 76911\, Eesti
ATTACH;FMTTYPE=image/png:https://huuru.ee/wp-content/uploads/2016/10/Liis-Aarne-miniatuursed-siidimaalid-näitusel.png
ORGANIZER;CN="MT%C3%9C H%C3%BC%C3%BCru K%C3%BClaselts":MAILTO:info@huuru.ee
END:VEVENT
BEGIN:VEVENT
DTSTART;TZID=Europe/Tallinn:20161104T120000
DTEND;TZID=Europe/Tallinn:20161104T120000
DTSTAMP:20260423T015240
CREATED:20161104T095633Z
LAST-MODIFIED:20161104T095633Z
UID:1106-1478260800-1478260800@huuru.ee
SUMMARY:Eakate Seltsi “SÜGISKULD” jututuba.
DESCRIPTION:
URL:https://huuru.ee/sundmus/eakate-seltsi-sugiskuld-jututuba-2/
LOCATION:Hüüru Mõis\, Jõe tee 2\,\, Saue vald\, Hüüru\, 76911\, Eesti
END:VEVENT
BEGIN:VEVENT
DTSTART;TZID=Europe/Tallinn:20161106T120000
DTEND;TZID=Europe/Tallinn:20161106T120000
DTSTAMP:20260423T015240
CREATED:20161028T052019Z
LAST-MODIFIED:20161104T141438Z
UID:1094-1478433600-1478433600@huuru.ee
SUMMARY:Skaudikoondus
DESCRIPTION:
URL:https://huuru.ee/sundmus/skaudikoondus/
LOCATION:Hüüru Mõis\, Jõe tee 2\,\, Saue vald\, Hüüru\, 76911\, Eesti
ATTACH;FMTTYPE=image/png:https://huuru.ee/wp-content/uploads/2016/10/Kuulutus_2..png
ORGANIZER;CN="MT%C3%9C H%C3%BC%C3%BCru K%C3%BClaselts":MAILTO:info@huuru.ee
END:VEVENT
BEGIN:VEVENT
DTSTART;TZID=Europe/Tallinn:20161107T120000
DTEND;TZID=Europe/Tallinn:20161107T190000
DTSTAMP:20260423T015240
CREATED:20161015T104055Z
LAST-MODIFIED:20161015T104055Z
UID:1059-1478520000-1478545200@huuru.ee
SUMMARY:Liis Aarne miniatuursed siidimaalid näitusel
DESCRIPTION:
URL:https://huuru.ee/sundmus/liis-aarne-miniatuursed-siidimaalid-naitusel-7/
LOCATION:Hüüru Mõis\, Jõe tee 2\,\, Saue vald\, Hüüru\, 76911\, Eesti
ATTACH;FMTTYPE=image/png:https://huuru.ee/wp-content/uploads/2016/10/Liis-Aarne-miniatuursed-siidimaalid-näitusel.png
ORGANIZER;CN="MT%C3%9C H%C3%BC%C3%BCru K%C3%BClaselts":MAILTO:info@huuru.ee
END:VEVENT
BEGIN:VEVENT
DTSTART;TZID=Europe/Tallinn:20161107T163000
DTEND;TZID=Europe/Tallinn:20161107T163000
DTSTAMP:20260423T015240
CREATED:20161015T105146Z
LAST-MODIFIED:20161015T105146Z
UID:1068-1478536200-1478536200@huuru.ee
SUMMARY:Mudilaste muusikatuba
DESCRIPTION:Esmaspäeval kell 16.30 – 17.30 \n\nOotame põngerjaid koos emmedega vanuses 1- kuni 2-aastased\, et üheskoos avastada muusikalisi saladusi\, mängida ja suhelda. Lapsed kohtuvad omavanustega ja õpivad rühmas olemist\, samuti saavad samas elusituatsioonis olevad lapsevanemad omavahel muljeid ja kogemusi jagada.
URL:https://huuru.ee/sundmus/mudilaste-muusikatuba-7/
LOCATION:Hüüru Mõis\, Jõe tee 2\,\, Saue vald\, Hüüru\, 76911\, Eesti
ATTACH;FMTTYPE=image/png:https://huuru.ee/wp-content/uploads/2016/10/beebikool-lehte.png
ORGANIZER;CN="MT%C3%9C H%C3%BC%C3%BCru K%C3%BClaselts":MAILTO:info@huuru.ee
END:VEVENT
BEGIN:VEVENT
DTSTART;TZID=Europe/Tallinn:20161108T100000
DTEND;TZID=Europe/Tallinn:20161108T123000
DTSTAMP:20260423T015240
CREATED:20161015T105933Z
LAST-MODIFIED:20161107T164432Z
UID:1073-1478599200-1478608200@huuru.ee
SUMMARY:Käsitööring
DESCRIPTION:November – karpide meisterdamine
URL:https://huuru.ee/sundmus/kasitooring-5/
LOCATION:Hüüru Mõis\, Jõe tee 2\,\, Saue vald\, Hüüru\, 76911\, Eesti
ORGANIZER;CN="MT%C3%9C H%C3%BC%C3%BCru K%C3%BClaselts":MAILTO:info@huuru.ee
END:VEVENT
BEGIN:VEVENT
DTSTART;TZID=Europe/Tallinn:20161108T183000
DTEND;TZID=Europe/Tallinn:20161108T183000
DTSTAMP:20260423T015240
CREATED:20161104T140918Z
LAST-MODIFIED:20161104T140918Z
UID:1124-1478629800-1478629800@huuru.ee
SUMMARY:Tantsutreening lastele
DESCRIPTION:
URL:https://huuru.ee/sundmus/tantsutreening-lastele-4/
LOCATION:Hüüru Mõis\, Jõe tee 2\,\, Saue vald\, Hüüru\, 76911\, Eesti
ATTACH;FMTTYPE=image/png:https://huuru.ee/wp-content/uploads/2016/09/tantsutüdrukud_teisipäev.png
ORGANIZER;CN="MT%C3%9C H%C3%BC%C3%BCru K%C3%BClaselts":MAILTO:info@huuru.ee
END:VEVENT
BEGIN:VEVENT
DTSTART;TZID=Europe/Tallinn:20161109T150000
DTEND;TZID=Europe/Tallinn:20161109T163000
DTSTAMP:20260423T015240
CREATED:20161107T135724Z
LAST-MODIFIED:20161107T164643Z
UID:1133-1478703600-1478709000@huuru.ee
SUMMARY:Mardilaupäev
DESCRIPTION:Meisterdame mardimaski kell 15.00-16.30.  \nPalun anna lapse tulekust teada. Vajalik materjali koguse arvestamisel.  \nepost: info@huuru.ee \n 
URL:https://huuru.ee/sundmus/mardilaupaev/
LOCATION:Hüüru Mõis\, Jõe tee 2\,\, Saue vald\, Hüüru\, 76911\, Eesti
ORGANIZER;CN="MT%C3%9C H%C3%BC%C3%BCru K%C3%BClaselts":MAILTO:info@huuru.ee
END:VEVENT
BEGIN:VEVENT
DTSTART;TZID=Europe/Tallinn:20161109T190000
DTEND;TZID=Europe/Tallinn:20161109T200000
DTSTAMP:20260423T015240
CREATED:20161028T052431Z
LAST-MODIFIED:20161028T052431Z
UID:1097-1478718000-1478721600@huuru.ee
SUMMARY:Täiskasvanute võimlemine
DESCRIPTION:
URL:https://huuru.ee/sundmus/taiskasvanute-voimlemine-4/
LOCATION:Hüüru Mõis\, Jõe tee 2\,\, Saue vald\, Hüüru\, 76911\, Eesti
ATTACH;FMTTYPE=image/png:https://huuru.ee/wp-content/uploads/2016/09/kuulutus.png
ORGANIZER;CN="MT%C3%9C H%C3%BC%C3%BCru K%C3%BClaselts":MAILTO:info@huuru.ee
END:VEVENT
BEGIN:VEVENT
DTSTART;TZID=Europe/Tallinn:20161110T110000
DTEND;TZID=Europe/Tallinn:20161110T110000
DTSTAMP:20260423T015240
CREATED:20161028T053158Z
LAST-MODIFIED:20161028T053158Z
UID:1103-1478775600-1478775600@huuru.ee
SUMMARY:Eakate võimlemine
DESCRIPTION:Eakate võimlemine \n1 x nädalas \nEsimene kokkusaamine reedel\, \n06.10.2016 kell 11.00 \nTASUTA
URL:https://huuru.ee/sundmus/eakate-voimlemine-6/
LOCATION:Hüüru Mõis\, Jõe tee 2\,\, Saue vald\, Hüüru\, 76911\, Eesti
ATTACH;FMTTYPE=image/png:https://huuru.ee/wp-content/uploads/2016/09/plakat-2016_II_p_a.png
END:VEVENT
BEGIN:VEVENT
DTSTART;TZID=Europe/Tallinn:20161110T120000
DTEND;TZID=Europe/Tallinn:20161110T190000
DTSTAMP:20260423T015240
CREATED:20161015T104154Z
LAST-MODIFIED:20161015T104154Z
UID:1060-1478779200-1478804400@huuru.ee
SUMMARY:Liis Aarne miniatuursed siidimaalid näitusel
DESCRIPTION:
URL:https://huuru.ee/sundmus/liis-aarne-miniatuursed-siidimaalid-naitusel-8/
LOCATION:Hüüru Mõis\, Jõe tee 2\,\, Saue vald\, Hüüru\, 76911\, Eesti
ATTACH;FMTTYPE=image/png:https://huuru.ee/wp-content/uploads/2016/10/Liis-Aarne-miniatuursed-siidimaalid-näitusel.png
ORGANIZER;CN="MT%C3%9C H%C3%BC%C3%BCru K%C3%BClaselts":MAILTO:info@huuru.ee
END:VEVENT
BEGIN:VEVENT
DTSTART;TZID=Europe/Tallinn:20161110T183000
DTEND;TZID=Europe/Tallinn:20161110T183000
DTSTAMP:20260423T015240
CREATED:20161107T140201Z
LAST-MODIFIED:20161107T152759Z
UID:1134-1478802600-1478802600@huuru.ee
SUMMARY:Seltskonnatants täiskasvanutele  UUS!
DESCRIPTION:SELTSKONNATANTS TÄISKASVANUTELE \nHüüru mõisasaalis neljapäeviti kell 18.30 \nTantsuklubi EMERALD kutsub tutvuma suurepärase tantsumaailmaga! \nÕpid graatsiliselt liikuma! \nKuuled muusikat ja rütmi! \nSaad rühikaks ja enesekindlaks! \nArened harmooniliselt! \nOmandad esinemisoskuse ja julguse! \nPalju uusi huvitavaid tutvusi! \nJuhendajad Aivar Ots ja Margit Bahtin \nTasu 15 eur paar/kord. Tasudes kuu esimesel tunnil terve kuu eest ette 12 eur paar/kord. \nTäiendav info ja registreerimine: emeraldtants@gmail.com \ntel. 555 64 054 \nOODATUD ON KA ÜKSIKUD DAAMID JA HÄRRAD! \nOlge aktiivsed! \n 
URL:https://huuru.ee/sundmus/seltskonnatants-taiskasvanutele/
LOCATION:Hüüru Mõis\, Jõe tee 2\,\, Saue vald\, Hüüru\, 76911\, Eesti
ORGANIZER;CN="MT%C3%9C H%C3%BC%C3%BCru K%C3%BClaselts":MAILTO:info@huuru.ee
END:VEVENT
BEGIN:VEVENT
DTSTART;TZID=Europe/Tallinn:20161114T120000
DTEND;TZID=Europe/Tallinn:20161114T190000
DTSTAMP:20260423T015240
CREATED:20161015T104241Z
LAST-MODIFIED:20161015T104241Z
UID:1061-1479124800-1479150000@huuru.ee
SUMMARY:Liis Aarne miniatuursed siidimaalid näitusel
DESCRIPTION:
URL:https://huuru.ee/sundmus/liis-aarne-miniatuursed-siidimaalid-naitusel-9/
LOCATION:Hüüru Mõis\, Jõe tee 2\,\, Saue vald\, Hüüru\, 76911\, Eesti
ATTACH;FMTTYPE=image/png:https://huuru.ee/wp-content/uploads/2016/10/Liis-Aarne-miniatuursed-siidimaalid-näitusel.png
ORGANIZER;CN="MT%C3%9C H%C3%BC%C3%BCru K%C3%BClaselts":MAILTO:info@huuru.ee
END:VEVENT
BEGIN:VEVENT
DTSTART;TZID=Europe/Tallinn:20161114T163000
DTEND;TZID=Europe/Tallinn:20161114T163000
DTSTAMP:20260423T015240
CREATED:20161015T104846Z
LAST-MODIFIED:20170131T104243Z
UID:1066-1479141000-1479141000@huuru.ee
SUMMARY:Mudilaste muusikatuba
DESCRIPTION:Neljapäeval kell 17.00 \n\nOotame põngerjaid koos emmedega vanuses 1- kuni 2-aastased\, et üheskoos avastada muusikalisi saladusi\, mängida ja suhelda. Lapsed kohtuvad omavanustega ja õpivad rühmas olemist\, samuti saavad samas elusituatsioonis olevad lapsevanemad omavahel muljeid ja kogemusi jagada.
URL:https://huuru.ee/sundmus/mudilaste-muusikatuba/
LOCATION:Hüüru Mõis\, Jõe tee 2\,\, Saue vald\, Hüüru\, 76911\, Eesti
ATTACH;FMTTYPE=image/png:https://huuru.ee/wp-content/uploads/2016/10/KUULUTUS-2017.png
END:VEVENT
BEGIN:VEVENT
DTSTART;TZID=Europe/Tallinn:20161115T100000
DTEND;TZID=Europe/Tallinn:20161115T123000
DTSTAMP:20260423T015240
CREATED:20161015T110120Z
LAST-MODIFIED:20161107T164403Z
UID:1075-1479204000-1479213000@huuru.ee
SUMMARY:Käsitööring
DESCRIPTION:November – karpide meisterdamine
URL:https://huuru.ee/sundmus/kasitooring-7/
LOCATION:Hüüru Mõis\, Jõe tee 2\,\, Saue vald\, Hüüru\, 76911\, Eesti
ORGANIZER;CN="MT%C3%9C H%C3%BC%C3%BCru K%C3%BClaselts":MAILTO:info@huuru.ee
END:VEVENT
BEGIN:VEVENT
DTSTART;TZID=Europe/Tallinn:20161115T183000
DTEND;TZID=Europe/Tallinn:20161115T183000
DTSTAMP:20260423T015240
CREATED:20161104T141334Z
LAST-MODIFIED:20161104T141334Z
UID:1125-1479234600-1479234600@huuru.ee
SUMMARY:Tantsutreening lastele
DESCRIPTION:
URL:https://huuru.ee/sundmus/tantsutreening-lastele-5/
LOCATION:Hüüru Mõis\, Jõe tee 2\,\, Saue vald\, Hüüru\, 76911\, Eesti
ATTACH;FMTTYPE=image/png:https://huuru.ee/wp-content/uploads/2016/09/tantsutüdrukud_teisipäev.png
ORGANIZER;CN="MT%C3%9C H%C3%BC%C3%BCru K%C3%BClaselts":MAILTO:info@huuru.ee
END:VEVENT
BEGIN:VEVENT
DTSTART;TZID=Europe/Tallinn:20161116T190000
DTEND;TZID=Europe/Tallinn:20161116T200000
DTSTAMP:20260423T015240
CREATED:20161028T052529Z
LAST-MODIFIED:20161028T052529Z
UID:1098-1479322800-1479326400@huuru.ee
SUMMARY:Täiskasvanute võimlemine
DESCRIPTION:
URL:https://huuru.ee/sundmus/taiskasvanute-voimlemine-5/
LOCATION:Hüüru Mõis\, Jõe tee 2\,\, Saue vald\, Hüüru\, 76911\, Eesti
ATTACH;FMTTYPE=image/png:https://huuru.ee/wp-content/uploads/2016/09/kuulutus.png
ORGANIZER;CN="MT%C3%9C H%C3%BC%C3%BCru K%C3%BClaselts":MAILTO:info@huuru.ee
END:VEVENT
BEGIN:VEVENT
DTSTART;TZID=Europe/Tallinn:20161117T110000
DTEND;TZID=Europe/Tallinn:20161117T110000
DTSTAMP:20260423T015240
CREATED:20161109T091544Z
LAST-MODIFIED:20161109T091544Z
UID:1147-1479380400-1479380400@huuru.ee
SUMMARY:Eakate võimlemine
DESCRIPTION:Eakate võimlemine \n1 x nädalas \nEsimene kokkusaamine reedel\, \n06.10.2016 kell 11.00 \nTASUTA
URL:https://huuru.ee/sundmus/eakate-voimlemine-8/
LOCATION:Hüüru Mõis\, Jõe tee 2\,\, Saue vald\, Hüüru\, 76911\, Eesti
ATTACH;FMTTYPE=image/png:https://huuru.ee/wp-content/uploads/2016/09/plakat-2016_II_p_a.png
END:VEVENT
BEGIN:VEVENT
DTSTART;TZID=Europe/Tallinn:20161117T120000
DTEND;TZID=Europe/Tallinn:20161117T190000
DTSTAMP:20260423T015240
CREATED:20161015T104326Z
LAST-MODIFIED:20161015T104326Z
UID:1062-1479384000-1479409200@huuru.ee
SUMMARY:Liis Aarne miniatuursed siidimaalid näitusel
DESCRIPTION:
URL:https://huuru.ee/sundmus/liis-aarne-miniatuursed-siidimaalid-naitusel-10/
LOCATION:Hüüru Mõis\, Jõe tee 2\,\, Saue vald\, Hüüru\, 76911\, Eesti
ATTACH;FMTTYPE=image/png:https://huuru.ee/wp-content/uploads/2016/10/Liis-Aarne-miniatuursed-siidimaalid-näitusel.png
ORGANIZER;CN="MT%C3%9C H%C3%BC%C3%BCru K%C3%BClaselts":MAILTO:info@huuru.ee
END:VEVENT
BEGIN:VEVENT
DTSTART;TZID=Europe/Tallinn:20161120T120000
DTEND;TZID=Europe/Tallinn:20161120T140000
DTSTAMP:20260423T015240
CREATED:20161107T103752Z
LAST-MODIFIED:20161107T103752Z
UID:1130-1479643200-1479650400@huuru.ee
SUMMARY:Skaudikoondus
DESCRIPTION:20. novembri koondus. \nOsa koondusest toimub õues. Selga panna soojad riided ja kindlasti kaasa võtta soojad kindad ning kellel võimalus\, ka lumelabidas. ESÜ poolt tuleb abiliseks Tarmo Randes (Keila skautidest).
URL:https://huuru.ee/sundmus/skaudikoondus-2/
LOCATION:Hüüru Mõis\, Jõe tee 2\,\, Saue vald\, Hüüru\, 76911\, Eesti
ORGANIZER;CN="MT%C3%9C H%C3%BC%C3%BCru K%C3%BClaselts":MAILTO:info@huuru.ee
END:VEVENT
BEGIN:VEVENT
DTSTART;TZID=Europe/Tallinn:20161121T120000
DTEND;TZID=Europe/Tallinn:20161121T190000
DTSTAMP:20260423T015240
CREATED:20161015T104410Z
LAST-MODIFIED:20161015T104410Z
UID:1063-1479729600-1479754800@huuru.ee
SUMMARY:Liis Aarne miniatuursed siidimaalid näitusel
DESCRIPTION:
URL:https://huuru.ee/sundmus/liis-aarne-miniatuursed-siidimaalid-naitusel-11/
LOCATION:Hüüru Mõis\, Jõe tee 2\,\, Saue vald\, Hüüru\, 76911\, Eesti
ATTACH;FMTTYPE=image/png:https://huuru.ee/wp-content/uploads/2016/10/Liis-Aarne-miniatuursed-siidimaalid-näitusel.png
ORGANIZER;CN="MT%C3%9C H%C3%BC%C3%BCru K%C3%BClaselts":MAILTO:info@huuru.ee
END:VEVENT
BEGIN:VEVENT
DTSTART;TZID=Europe/Tallinn:20161121T163000
DTEND;TZID=Europe/Tallinn:20161121T163000
DTSTAMP:20260423T015240
CREATED:20161015T105329Z
LAST-MODIFIED:20161015T105329Z
UID:1069-1479745800-1479745800@huuru.ee
SUMMARY:Mudilaste muusikatuba
DESCRIPTION:Esmaspäeval kell 16.30 – 17.30 \n\nOotame põngerjaid koos emmedega vanuses 1- kuni 2-aastased\, et üheskoos avastada muusikalisi saladusi\, mängida ja suhelda. Lapsed kohtuvad omavanustega ja õpivad rühmas olemist\, samuti saavad samas elusituatsioonis olevad lapsevanemad omavahel muljeid ja kogemusi jagada.
URL:https://huuru.ee/sundmus/mudilaste-muusikatuba-8/
LOCATION:Hüüru Mõis\, Jõe tee 2\,\, Saue vald\, Hüüru\, 76911\, Eesti
ATTACH;FMTTYPE=image/png:https://huuru.ee/wp-content/uploads/2016/10/beebikool-lehte.png
ORGANIZER;CN="MT%C3%9C H%C3%BC%C3%BCru K%C3%BClaselts":MAILTO:info@huuru.ee
END:VEVENT
BEGIN:VEVENT
DTSTART;TZID=Europe/Tallinn:20161122T100000
DTEND;TZID=Europe/Tallinn:20161122T123000
DTSTAMP:20260423T015240
CREATED:20161015T110016Z
LAST-MODIFIED:20161107T164525Z
UID:1074-1479808800-1479817800@huuru.ee
SUMMARY:Käsitööring
DESCRIPTION:November – karpide meisterdamine
URL:https://huuru.ee/sundmus/kasitooring-6/
LOCATION:Hüüru Mõis\, Jõe tee 2\,\, Saue vald\, Hüüru\, 76911\, Eesti
ORGANIZER;CN="MT%C3%9C H%C3%BC%C3%BCru K%C3%BClaselts":MAILTO:info@huuru.ee
END:VEVENT
BEGIN:VEVENT
DTSTART;TZID=Europe/Tallinn:20161122T183000
DTEND;TZID=Europe/Tallinn:20161122T183000
DTSTAMP:20260423T015240
CREATED:20161107T141006Z
LAST-MODIFIED:20161107T141006Z
UID:1137-1479839400-1479839400@huuru.ee
SUMMARY:Tantsutreening lastele
DESCRIPTION:
URL:https://huuru.ee/sundmus/tantsutreening-lastele-6/
LOCATION:Hüüru Mõis\, Jõe tee 2\,\, Saue vald\, Hüüru\, 76911\, Eesti
ATTACH;FMTTYPE=image/png:https://huuru.ee/wp-content/uploads/2016/09/tantsutüdrukud_teisipäev.png
ORGANIZER;CN="MT%C3%9C H%C3%BC%C3%BCru K%C3%BClaselts":MAILTO:info@huuru.ee
END:VEVENT
END:VCALENDAR