BEGIN:VCALENDAR
VERSION:2.0
PRODID:-//H&uuml;&uuml;ru m&otilde;is - ECPv6.15.20//NONSGML v1.0//EN
CALSCALE:GREGORIAN
METHOD:PUBLISH
X-WR-CALNAME:H&uuml;&uuml;ru m&otilde;is
X-ORIGINAL-URL:https://huuru.ee
X-WR-CALDESC:Events for H&uuml;&uuml;ru m&otilde;is
REFRESH-INTERVAL;VALUE=DURATION:PT1H
X-Robots-Tag:noindex
X-PUBLISHED-TTL:PT1H
BEGIN:VTIMEZONE
TZID:Europe/Tallinn
BEGIN:DAYLIGHT
TZOFFSETFROM:+0200
TZOFFSETTO:+0300
TZNAME:EEST
DTSTART:20160327T010000
END:DAYLIGHT
BEGIN:STANDARD
TZOFFSETFROM:+0300
TZOFFSETTO:+0200
TZNAME:EET
DTSTART:20161030T010000
END:STANDARD
BEGIN:DAYLIGHT
TZOFFSETFROM:+0200
TZOFFSETTO:+0300
TZNAME:EEST
DTSTART:20170326T010000
END:DAYLIGHT
BEGIN:STANDARD
TZOFFSETFROM:+0300
TZOFFSETTO:+0200
TZNAME:EET
DTSTART:20171029T010000
END:STANDARD
BEGIN:DAYLIGHT
TZOFFSETFROM:+0200
TZOFFSETTO:+0300
TZNAME:EEST
DTSTART:20180325T010000
END:DAYLIGHT
BEGIN:STANDARD
TZOFFSETFROM:+0300
TZOFFSETTO:+0200
TZNAME:EET
DTSTART:20181028T010000
END:STANDARD
BEGIN:DAYLIGHT
TZOFFSETFROM:+0200
TZOFFSETTO:+0300
TZNAME:EEST
DTSTART:20190331T010000
END:DAYLIGHT
BEGIN:STANDARD
TZOFFSETFROM:+0300
TZOFFSETTO:+0200
TZNAME:EET
DTSTART:20191027T010000
END:STANDARD
END:VTIMEZONE
BEGIN:VEVENT
DTSTART;TZID=Europe/Tallinn:20180219T190000
DTEND;TZID=Europe/Tallinn:20180219T200000
DTSTAMP:20260423T095059
CREATED:20180126T084600Z
LAST-MODIFIED:20180126T084600Z
UID:1802-1519066800-1519070400@huuru.ee
SUMMARY:Täiskasvanute võimlemine
DESCRIPTION:
URL:https://huuru.ee/sundmus/taiskasvanute-voimlemine-36/
END:VEVENT
BEGIN:VEVENT
DTSTART;TZID=Europe/Tallinn:20180215T183000
DTEND;TZID=Europe/Tallinn:20180215T193000
DTSTAMP:20260423T095059
CREATED:20180131T092208Z
LAST-MODIFIED:20180131T092208Z
UID:1819-1518719400-1518723000@huuru.ee
SUMMARY:Tantsutreening lastele
DESCRIPTION:
URL:https://huuru.ee/sundmus/tantsutreening-lastele-33/
END:VEVENT
BEGIN:VEVENT
DTSTART;TZID=Europe/Tallinn:20180215T103000
DTEND;TZID=Europe/Tallinn:20180215T113000
DTSTAMP:20260423T095059
CREATED:20180131T092526Z
LAST-MODIFIED:20180131T092526Z
UID:1827-1518690600-1518694200@huuru.ee
SUMMARY:Väärikate liikumistund
DESCRIPTION:
URL:https://huuru.ee/sundmus/vaarikate-liikumistund-18/
END:VEVENT
BEGIN:VEVENT
DTSTART;TZID=Europe/Tallinn:20180212T190000
DTEND;TZID=Europe/Tallinn:20180212T200000
DTSTAMP:20260423T095059
CREATED:20180126T084528Z
LAST-MODIFIED:20180126T084528Z
UID:1800-1518462000-1518465600@huuru.ee
SUMMARY:Täiskasvanute võimlemine
DESCRIPTION:
URL:https://huuru.ee/sundmus/taiskasvanute-voimlemine-35/
END:VEVENT
BEGIN:VEVENT
DTSTART;TZID=Europe/Tallinn:20180208T183000
DTEND;TZID=Europe/Tallinn:20180208T200000
DTSTAMP:20260423T095059
CREATED:20180126T085254Z
LAST-MODIFIED:20180126T085254Z
UID:1811-1518114600-1518120000@huuru.ee
SUMMARY:Lõhnaõlide valmistamise töötuba
DESCRIPTION:Oled oodatud 08.02.2018 kell 18.30 Hüüru mõisa\, kui oled huvitatud eeterlike õlide maailmast ja soovid ise endale päris oma lõhnaõli valmistada ♥\nOsaleja saab teadmised erinevate eeterlike õlide kohta ning saab valmistada just sellise lõhnaõli\, mida igapäevaselt enda toetuseks kõige rohkem vajad.\nÕlid\, mida kasutame on puhtad\, looduslikud (taimsed) õlid\, mis toetavad mitmel moel: aitavad vähendada stressisümptomeid\, puhastavad organismi\, soodustavad seedimist\, leevendavad valusid\, parandavad meeleolu\, tõstavad kirge jne. Aitavad hoida ja taastada tasakaalu inimorganismi kõikide elundkondade vahel nii vaimsel kui füüsilisel tasandil.\nJa need lõhnad!!! ♥ ♥ ♥\nTöötuba maksab 15 eurot (selle sees valmib ka Sinu isiklik lõhnaõli)\,\ntasumine kohapeal.\nKui soovid lisaks valmistada lõhnaõlisid kingituseks\, siis lisandub 5.- kuni 10.- eurot ühe lõhnaõli eest – olenevalt sellest milliseid õlisid ja kui palju te soovite koostatavas lõhnas kasutada.\nAnna palun oma osavõtu soovist teada\ne-maili teel: savelaco@gmail.com\, et saaksin ettevalmistuste tegemisel Sinuga arvestada.
URL:https://huuru.ee/sundmus/lohnaolide-valmistamise-tootuba/
ATTACH;FMTTYPE=image/png:https://huuru.ee/wp-content/uploads/2018/01/Screen-Shot-2018-01-25-at-13.04.57.png
END:VEVENT
BEGIN:VEVENT
DTSTART;TZID=Europe/Tallinn:20180208T183000
DTEND;TZID=Europe/Tallinn:20180208T193000
DTSTAMP:20260423T095059
CREATED:20180131T092135Z
LAST-MODIFIED:20180131T092135Z
UID:1817-1518114600-1518118200@huuru.ee
SUMMARY:Tantsutreening lastele
DESCRIPTION:
URL:https://huuru.ee/sundmus/tantsutreening-lastele-32/
END:VEVENT
BEGIN:VEVENT
DTSTART;TZID=Europe/Tallinn:20180208T103000
DTEND;TZID=Europe/Tallinn:20180208T113000
DTSTAMP:20260423T095059
CREATED:20180131T092445Z
LAST-MODIFIED:20180131T092445Z
UID:1825-1518085800-1518089400@huuru.ee
SUMMARY:Väärikate liikumistund
DESCRIPTION:
URL:https://huuru.ee/sundmus/vaarikate-liikumistund-17/
END:VEVENT
BEGIN:VEVENT
DTSTART;TZID=Europe/Tallinn:20180205T190000
DTEND;TZID=Europe/Tallinn:20180205T200000
DTSTAMP:20260423T095059
CREATED:20180126T084453Z
LAST-MODIFIED:20180126T084453Z
UID:1798-1517857200-1517860800@huuru.ee
SUMMARY:Täiskasvanute võimlemine
DESCRIPTION:
URL:https://huuru.ee/sundmus/taiskasvanute-voimlemine-34/
END:VEVENT
BEGIN:VEVENT
DTSTART;TZID=Europe/Tallinn:20180201T183000
DTEND;TZID=Europe/Tallinn:20180201T193000
DTSTAMP:20260423T095059
CREATED:20180131T092028Z
LAST-MODIFIED:20180131T092102Z
UID:1815-1517509800-1517513400@huuru.ee
SUMMARY:Tantsutreening lastele
DESCRIPTION:
URL:https://huuru.ee/sundmus/tantsutreening-lastele-22/
END:VEVENT
BEGIN:VEVENT
DTSTART;TZID=Europe/Tallinn:20180201T180000
DTEND;TZID=Europe/Tallinn:20180201T190000
DTSTAMP:20260423T095059
CREATED:20180126T084834Z
LAST-MODIFIED:20180126T085009Z
UID:1808-1517508000-1517511600@huuru.ee
SUMMARY:Hüüru Külaseltsi koosolek
DESCRIPTION:
URL:https://huuru.ee/sundmus/huuru-kulaseltsi-koosolek-7/
END:VEVENT
BEGIN:VEVENT
DTSTART;TZID=Europe/Tallinn:20180201T103000
DTEND;TZID=Europe/Tallinn:20180201T113000
DTSTAMP:20260423T095059
CREATED:20180131T092407Z
LAST-MODIFIED:20180131T092407Z
UID:1823-1517481000-1517484600@huuru.ee
SUMMARY:Väärikate liikumistund
DESCRIPTION:
URL:https://huuru.ee/sundmus/vaarikate-liikumistund-16/
END:VEVENT
BEGIN:VEVENT
DTSTART;TZID=Europe/Tallinn:20180129T190000
DTEND;TZID=Europe/Tallinn:20180129T200000
DTSTAMP:20260423T095059
CREATED:20180126T084410Z
LAST-MODIFIED:20180126T084410Z
UID:1795-1517252400-1517256000@huuru.ee
SUMMARY:Täiskasvanute võimlemine
DESCRIPTION:
URL:https://huuru.ee/sundmus/taiskasvanute-voimlemine-33/
END:VEVENT
BEGIN:VEVENT
DTSTART;TZID=Europe/Tallinn:20180127T110000
DTEND;TZID=Europe/Tallinn:20180127T140000
DTSTAMP:20260423T095059
CREATED:20171228T125629Z
LAST-MODIFIED:20171229T083018Z
UID:1760-1517050800-1517061600@huuru.ee
SUMMARY:Üht-teist ajaloolise Harku valla elanikest ning põlisest Meriküllide suguvõsast
DESCRIPTION:Kohtumine koduajaloolase Jaan Tagaväli`ga Eesti Genealoogia Seltsist \n 
URL:https://huuru.ee/sundmus/uht-teis-ajaloolise-harku-valla-elanikest-ning-polisest-merikullide-suguvosast/
LOCATION:Hüüru Mõis\, Jõe tee 2\,\, Saue vald\, Hüüru\, 76911\, Eesti
ATTACH;FMTTYPE=image/jpeg:https://huuru.ee/wp-content/uploads/2017/12/kuulutus_Hyyru-mõis.jpg
END:VEVENT
BEGIN:VEVENT
DTSTART;TZID=Europe/Tallinn:20180125T183000
DTEND;TZID=Europe/Tallinn:20180125T193000
DTSTAMP:20260423T095059
CREATED:20180111T120318Z
LAST-MODIFIED:20180111T120318Z
UID:1784-1516905000-1516908600@huuru.ee
SUMMARY:Tantsutreening lastele
DESCRIPTION:
URL:https://huuru.ee/sundmus/tantsutreening-lastele-31/
END:VEVENT
BEGIN:VEVENT
DTSTART;TZID=Europe/Tallinn:20180125T103000
DTEND;TZID=Europe/Tallinn:20180125T113000
DTSTAMP:20260423T095059
CREATED:20171213T083306Z
LAST-MODIFIED:20171213T083306Z
UID:1741-1516876200-1516879800@huuru.ee
SUMMARY:Väärikate liikumistund
DESCRIPTION:
URL:https://huuru.ee/sundmus/vaarikate-liikumistund-15/
END:VEVENT
BEGIN:VEVENT
DTSTART;TZID=Europe/Tallinn:20180122T190000
DTEND;TZID=Europe/Tallinn:20180122T200000
DTSTAMP:20260423T095059
CREATED:20180126T084335Z
LAST-MODIFIED:20180126T084335Z
UID:1793-1516647600-1516651200@huuru.ee
SUMMARY:Täiskasvanute võimlemine
DESCRIPTION:
URL:https://huuru.ee/sundmus/taiskasvanute-voimlemine-32/
END:VEVENT
BEGIN:VEVENT
DTSTART;TZID=Europe/Tallinn:20180120T150000
DTEND;TZID=Europe/Tallinn:20180120T170000
DTSTAMP:20260423T095059
CREATED:20180111T115651Z
LAST-MODIFIED:20180111T120115Z
UID:1772-1516460400-1516467600@huuru.ee
SUMMARY:Arno Paveli reisimuljed Loode-Venemaalt
DESCRIPTION:Üritus on tasuta.
URL:https://huuru.ee/sundmus/arno-paveli-reisimuljed-loode-venemaalt/
ATTACH;FMTTYPE=image/png:https://huuru.ee/wp-content/uploads/2018/01/Arno-Pavel.png
END:VEVENT
BEGIN:VEVENT
DTSTART;TZID=Europe/Tallinn:20180118T183000
DTEND;TZID=Europe/Tallinn:20180118T193000
DTSTAMP:20260423T095059
CREATED:20180111T120248Z
LAST-MODIFIED:20180111T120248Z
UID:1782-1516300200-1516303800@huuru.ee
SUMMARY:Tantsutreening lastele
DESCRIPTION:
URL:https://huuru.ee/sundmus/tantsutreening-lastele-30/
END:VEVENT
BEGIN:VEVENT
DTSTART;TZID=Europe/Tallinn:20180118T103000
DTEND;TZID=Europe/Tallinn:20180118T113000
DTSTAMP:20260423T095059
CREATED:20171213T082951Z
LAST-MODIFIED:20171213T082951Z
UID:1739-1516271400-1516275000@huuru.ee
SUMMARY:Väärikate liikumistund
DESCRIPTION:
URL:https://huuru.ee/sundmus/vaarikate-liikumistund-14/
END:VEVENT
BEGIN:VEVENT
DTSTART;TZID=Europe/Tallinn:20180115T190000
DTEND;TZID=Europe/Tallinn:20180115T200000
DTSTAMP:20260423T095059
CREATED:20180126T084309Z
LAST-MODIFIED:20180126T084309Z
UID:1791-1516042800-1516046400@huuru.ee
SUMMARY:Täiskasvanute võimlemine
DESCRIPTION:
URL:https://huuru.ee/sundmus/taiskasvanute-voimlemine-31/
END:VEVENT
BEGIN:VEVENT
DTSTART;TZID=Europe/Tallinn:20180111T183000
DTEND;TZID=Europe/Tallinn:20180111T193000
DTSTAMP:20260423T095059
CREATED:20180111T120156Z
LAST-MODIFIED:20180111T120156Z
UID:1779-1515695400-1515699000@huuru.ee
SUMMARY:Tantsutreening lastele
DESCRIPTION:
URL:https://huuru.ee/sundmus/tantsutreening-lastele-29/
END:VEVENT
BEGIN:VEVENT
DTSTART;TZID=Europe/Tallinn:20180111T103000
DTEND;TZID=Europe/Tallinn:20180111T113000
DTSTAMP:20260423T095059
CREATED:20171213T082913Z
LAST-MODIFIED:20171213T083429Z
UID:1737-1515666600-1515670200@huuru.ee
SUMMARY:Väärikate liikumistund
DESCRIPTION:
URL:https://huuru.ee/sundmus/vaarikate-liikumistund-13/
END:VEVENT
BEGIN:VEVENT
DTSTART;TZID=Europe/Tallinn:20180105T120000
DTEND;TZID=Europe/Tallinn:20180105T140000
DTSTAMP:20260423T095059
CREATED:20171213T082748Z
LAST-MODIFIED:20171213T082748Z
UID:1734-1515153600-1515160800@huuru.ee
SUMMARY:Väärikate jututuba - külaliseks Ivi Toomingas
DESCRIPTION:
URL:https://huuru.ee/sundmus/vaarikate-jututuba-kulaliseks-ivi-toomingas/
END:VEVENT
BEGIN:VEVENT
DTSTART;TZID=Europe/Tallinn:20180104T180000
DTEND;TZID=Europe/Tallinn:20180104T193000
DTSTAMP:20260423T095059
CREATED:20180103T074202Z
LAST-MODIFIED:20180103T074324Z
UID:1768-1515088800-1515094200@huuru.ee
SUMMARY:Hüüru Külaseltsi koosolek
DESCRIPTION:
URL:https://huuru.ee/sundmus/huuru-kulaseltsi-koosolek-6/
END:VEVENT
BEGIN:VEVENT
DTSTART;TZID=Europe/Tallinn:20180102T100000
DTEND;TZID=Europe/Tallinn:20180105T150000
DTSTAMP:20260423T095059
CREATED:20171220T120214Z
LAST-MODIFIED:20171220T124014Z
UID:1753-1514887200-1515164400@huuru.ee
SUMMARY:Talvine lastelaager Hüürus “MUUSEUMITUNNID“
DESCRIPTION:Muuseumitunnid_2 \nLaagri tasu:\nHüüru küla lapsele päev 4.-\nväljastpoolt küla lapsele päev 7.-\nLaagrisse registreerumine kontaktidel: info@huuru.ee või telefonil: 52 38 261 \n 
URL:https://huuru.ee/sundmus/talvine-lastelaager-huurus-muuseumitunnid/
ATTACH;FMTTYPE=application/pdf:https://huuru.ee/wp-content/uploads/2017/12/Muuseumitunnid_2-1.pdf
END:VEVENT
BEGIN:VEVENT
DTSTART;TZID=Europe/Tallinn:20171221T103000
DTEND;TZID=Europe/Tallinn:20171221T113000
DTSTAMP:20260423T095059
CREATED:20171109T124643Z
LAST-MODIFIED:20171109T124643Z
UID:1712-1513852200-1513855800@huuru.ee
SUMMARY:Väärikate liikumistund
DESCRIPTION:
URL:https://huuru.ee/sundmus/vaarikate-liikumistund-12/
END:VEVENT
BEGIN:VEVENT
DTSTART;TZID=Europe/Tallinn:20171218T190000
DTEND;TZID=Europe/Tallinn:20171218T200000
DTSTAMP:20260423T095059
CREATED:20171109T124942Z
LAST-MODIFIED:20171109T124942Z
UID:1719-1513623600-1513627200@huuru.ee
SUMMARY:Täiskasvanute võimlemine
DESCRIPTION:
URL:https://huuru.ee/sundmus/taiskasvanute-voimlemine-30/
END:VEVENT
BEGIN:VEVENT
DTSTART;TZID=Europe/Tallinn:20171217T160000
DTEND;TZID=Europe/Tallinn:20171217T180000
DTSTAMP:20260423T095059
CREATED:20171103T110030Z
LAST-MODIFIED:20171109T125302Z
UID:1687-1513526400-1513533600@huuru.ee
SUMMARY:Laste jõulupidu
DESCRIPTION:Hea Hüüru küla laps vanuses 12. eluaastat k.a.\npühapäeval\, 17.12.2017 kell 16.00\nootame Sind Hüüru mõisa JÕULUPEOLE\nEsineb Kolme Põrsakese teadusteater\nKülla tuleb JÕULUVANA ja esinevad Hüüru tantsutüdrukud \nEt jõuluvana teaks palju kingitusi kaasa võtta\, palume lapse nime\, vanuse ja aadressi teada anda kuni 04.12.2017 telefonil 52 38 261 või info@huuru.ee\nOsavõtutasu 5€ palume kanda MTÜ Hüüru Külaseltsi arvele EE862200221041509459. Selgituseks lapse/laste nimed
URL:https://huuru.ee/sundmus/laste-joulupidu/
END:VEVENT
BEGIN:VEVENT
DTSTART;TZID=Europe/Tallinn:20171216T120000
DTEND;TZID=Europe/Tallinn:20171216T130000
DTSTAMP:20260423T095059
CREATED:20171214T095231Z
LAST-MODIFIED:20171220T074539Z
UID:1743-1513425600-1513429200@huuru.ee
SUMMARY:Puhkpilliorkestri jõulukontsert
DESCRIPTION:Nõmme Muusikakooli Brass “Tärkamine”.\nDirigendid Mart Kivi ja Aigar Kostabi\nJõulukontsert Hüüru mõisas 16. detsembril kell 12.00 \nKontsert on tasuta! \nPlakat.nõmme
URL:https://huuru.ee/sundmus/puhkpilliorkestri-joulukontsert/
END:VEVENT
BEGIN:VEVENT
DTSTART;TZID=Europe/Tallinn:20171214T103000
DTEND;TZID=Europe/Tallinn:20171214T113000
DTSTAMP:20260423T095059
CREATED:20171109T124610Z
LAST-MODIFIED:20171109T124610Z
UID:1710-1513247400-1513251000@huuru.ee
SUMMARY:Väärikate liikumistund
DESCRIPTION:
URL:https://huuru.ee/sundmus/vaarikate-liikumistund-11/
END:VEVENT
END:VCALENDAR