BEGIN:VCALENDAR
VERSION:2.0
PRODID:-//H&uuml;&uuml;ru m&otilde;is - ECPv6.15.20//NONSGML v1.0//EN
CALSCALE:GREGORIAN
METHOD:PUBLISH
X-ORIGINAL-URL:https://huuru.ee
X-WR-CALDESC:Events for H&uuml;&uuml;ru m&otilde;is
REFRESH-INTERVAL;VALUE=DURATION:PT1H
X-Robots-Tag:noindex
X-PUBLISHED-TTL:PT1H
BEGIN:VTIMEZONE
TZID:Europe/Tallinn
BEGIN:DAYLIGHT
TZOFFSETFROM:+0200
TZOFFSETTO:+0300
TZNAME:EEST
DTSTART:20170326T010000
END:DAYLIGHT
BEGIN:STANDARD
TZOFFSETFROM:+0300
TZOFFSETTO:+0200
TZNAME:EET
DTSTART:20171029T010000
END:STANDARD
BEGIN:DAYLIGHT
TZOFFSETFROM:+0200
TZOFFSETTO:+0300
TZNAME:EEST
DTSTART:20180325T010000
END:DAYLIGHT
BEGIN:STANDARD
TZOFFSETFROM:+0300
TZOFFSETTO:+0200
TZNAME:EET
DTSTART:20181028T010000
END:STANDARD
BEGIN:DAYLIGHT
TZOFFSETFROM:+0200
TZOFFSETTO:+0300
TZNAME:EEST
DTSTART:20190331T010000
END:DAYLIGHT
BEGIN:STANDARD
TZOFFSETFROM:+0300
TZOFFSETTO:+0200
TZNAME:EET
DTSTART:20191027T010000
END:STANDARD
END:VTIMEZONE
BEGIN:VEVENT
DTSTART;TZID=Europe/Tallinn:20180421T170000
DTEND;TZID=Europe/Tallinn:20180421T190000
DTSTAMP:20260423T015713
CREATED:20180322T160807Z
LAST-MODIFIED:20180404T182954Z
UID:1943-1524330000-1524337200@huuru.ee
SUMMARY:Saue valla XIV jüriööjooks
DESCRIPTION:https://xn--vabahukeskus-uib.ee/sundmus/jurioo-jooks/
URL:https://huuru.ee/sundmus/saue-valla-jurioojooks/
END:VEVENT
BEGIN:VEVENT
DTSTART;TZID=Europe/Tallinn:20180423T100000
DTEND;TZID=Europe/Tallinn:20180426T150000
DTSTAMP:20260423T015713
CREATED:20180407T081852Z
LAST-MODIFIED:20180407T081852Z
UID:1966-1524477600-1524754800@huuru.ee
SUMMARY:Lastelaager  "Otsime Kevadet!"
DESCRIPTION:
URL:https://huuru.ee/sundmus/lastelaager-otsime-kevadet/
ATTACH;FMTTYPE=application/pdf:https://huuru.ee/wp-content/uploads/2018/04/Lastelaageri-kava.pdf
END:VEVENT
BEGIN:VEVENT
DTSTART;TZID=Europe/Tallinn:20180423T190000
DTEND;TZID=Europe/Tallinn:20180423T200000
DTSTAMP:20260423T015713
CREATED:20180313T080553Z
LAST-MODIFIED:20180315T135735Z
UID:1918-1524510000-1524513600@huuru.ee
SUMMARY:Täiskasvanute võimlemine
DESCRIPTION:
URL:https://huuru.ee/sundmus/taiskasvanute-voimlemine-45/
END:VEVENT
BEGIN:VEVENT
DTSTART;TZID=Europe/Tallinn:20180426T103000
DTEND;TZID=Europe/Tallinn:20180426T113000
DTSTAMP:20260423T015713
CREATED:20180315T140106Z
LAST-MODIFIED:20180315T140106Z
UID:1926-1524738600-1524742200@huuru.ee
SUMMARY:Väärikate liikumistund
DESCRIPTION:
URL:https://huuru.ee/sundmus/vaarikate-liikumistund-28/
END:VEVENT
BEGIN:VEVENT
DTSTART;TZID=Europe/Tallinn:20180426T180000
DTEND;TZID=Europe/Tallinn:20180426T193000
DTSTAMP:20260423T015713
CREATED:20180608T082441Z
LAST-MODIFIED:20180608T082441Z
UID:2066-1524765600-1524771000@huuru.ee
SUMMARY:Laste tantsutreening
DESCRIPTION:
URL:https://huuru.ee/sundmus/laste-tantsutreening-12/
END:VEVENT
BEGIN:VEVENT
DTSTART;TZID=Europe/Tallinn:20180428T100000
DTEND;TZID=Europe/Tallinn:20180428T150000
DTSTAMP:20260423T015713
CREATED:20180416T091629Z
LAST-MODIFIED:20180416T091629Z
UID:1970-1524909600-1524927600@huuru.ee
SUMMARY:Hüüru külaseltsi kevadtalgud
DESCRIPTION:
URL:https://huuru.ee/sundmus/huuru-kulaseltsi-kevadtalgud/
ATTACH;FMTTYPE=application/pdf:https://huuru.ee/wp-content/uploads/2018/04/Kevadtalgud_2018.pdf
END:VEVENT
BEGIN:VEVENT
DTSTART;TZID=Europe/Tallinn:20180503T160000
DTEND;TZID=Europe/Tallinn:20180503T193000
DTSTAMP:20260423T015713
CREATED:20180421T085747Z
LAST-MODIFIED:20180421T085747Z
UID:1974-1525363200-1525375800@huuru.ee
SUMMARY:Keraamikaring
DESCRIPTION:Keraamikat on võimalik teha keeruliselt aga ka väga lihtsalt. Savist esemete voolimisega saavad hakkama kõik\, kes seda aga teha soovivad\, olenemata vanusest ja kogemustest. Enne töö põletamist peab see vähemalt nädala kuivama\, seejärel läheb voolitud ese ahju\, hiljem töö glasuuritakse ja põletatakse uuesti. Nii muutub savi keraamikaks. Saviga tegelemine mõjub väga teraapiliselt ja rahustavalt. Savi on omapärane algmaterjal\, mis kogub endasse voolija käte soojuse ja annab selle hiljem tagasi vaatajale.\nTule õpi endale uus oskus või kui oled juba vana tegija\, siis kasuta kodulähedal võimalust hobiga tegeleda.
URL:https://huuru.ee/sundmus/keraamikaring/
ATTACH;FMTTYPE=application/pdf:https://huuru.ee/wp-content/uploads/2018/04/Keraamikaring-1-1.pdf
END:VEVENT
BEGIN:VEVENT
DTSTART;TZID=Europe/Tallinn:20180503T180000
DTEND;TZID=Europe/Tallinn:20180503T190000
DTSTAMP:20260423T015713
CREATED:20180430T145100Z
LAST-MODIFIED:20180430T145100Z
UID:1999-1525370400-1525374000@huuru.ee
SUMMARY:Hüüru Külaseltsi koosolek
DESCRIPTION:
URL:https://huuru.ee/sundmus/huuru-kulaseltsi-koosolek-10/
END:VEVENT
BEGIN:VEVENT
DTSTART;TZID=Europe/Tallinn:20180503T180000
DTEND;TZID=Europe/Tallinn:20180503T193000
DTSTAMP:20260423T015713
CREATED:20180608T082334Z
LAST-MODIFIED:20180608T082334Z
UID:2064-1525370400-1525375800@huuru.ee
SUMMARY:Laste tantsutreening
DESCRIPTION:
URL:https://huuru.ee/sundmus/laste-tantsutreening-11/
END:VEVENT
BEGIN:VEVENT
DTSTART;TZID=Europe/Tallinn:20180507T190000
DTEND;TZID=Europe/Tallinn:20180507T200000
DTSTAMP:20260423T015713
CREATED:20180421T092851Z
LAST-MODIFIED:20180421T092851Z
UID:1990-1525719600-1525723200@huuru.ee
SUMMARY:Täiskasvanute võimlemine
DESCRIPTION:
URL:https://huuru.ee/sundmus/taiskasvanute-voimlemine-46/
END:VEVENT
BEGIN:VEVENT
DTSTART;TZID=Europe/Tallinn:20180510T160000
DTEND;TZID=Europe/Tallinn:20180510T193000
DTSTAMP:20260423T015713
CREATED:20180421T092008Z
LAST-MODIFIED:20180421T092008Z
UID:1984-1525968000-1525980600@huuru.ee
SUMMARY:Keraamikaring
DESCRIPTION:Keraamikat on võimalik teha keeruliselt aga ka väga lihtsalt. Savist esemete voolimisega saavad hakkama kõik\, kes seda aga teha soovivad\, olenemata vanusest ja kogemustest. Enne töö põletamist peab see vähemalt nädala kuivama\, seejärel läheb voolitud ese ahju\, hiljem töö glasuuritakse ja põletatakse uuesti. Nii muutub savi keraamikaks. Saviga tegelemine mõjub väga teraapiliselt ja rahustavalt. Savi on omapärane algmaterjal\, mis kogub endasse voolija käte soojuse ja annab selle hiljem tagasi vaatajale.\nTule õpi endale uus oskus või kui oled juba vana tegija\, siis kasuta kodulähedal võimalust hobiga tegeleda.
URL:https://huuru.ee/sundmus/keraamikaring-2/
ATTACH;FMTTYPE=application/pdf:https://huuru.ee/wp-content/uploads/2018/04/Keraamikaring-1-2.pdf
END:VEVENT
BEGIN:VEVENT
DTSTART;TZID=Europe/Tallinn:20180510T180000
DTEND;TZID=Europe/Tallinn:20180510T193000
DTSTAMP:20260423T015713
CREATED:20180608T082244Z
LAST-MODIFIED:20180608T082244Z
UID:2062-1525975200-1525980600@huuru.ee
SUMMARY:Laste tantsutreening
DESCRIPTION:
URL:https://huuru.ee/sundmus/laste-tantsutreening-10/
END:VEVENT
BEGIN:VEVENT
DTSTART;TZID=Europe/Tallinn:20180513T130000
DTEND;TZID=Europe/Tallinn:20180513T140000
DTSTAMP:20260423T015713
CREATED:20180322T155653Z
LAST-MODIFIED:20180322T155733Z
UID:1938-1526216400-1526220000@huuru.ee
SUMMARY:Emadepäeva kontsert Hüürus
DESCRIPTION:Emadepäeval\, 13. mail kell 13.00 esineb Hüüru mõisas Ivo Linna ja Antti Kammiste. \nTantsunumbriga astuvad ülesse Hüüru tantsutüdrukud. \nKontsert on tasuta.
URL:https://huuru.ee/sundmus/emadepaeva-kontsert-huurus/
ATTACH;FMTTYPE=image/jpeg:https://huuru.ee/wp-content/uploads/2018/03/2018.05.13_Emadepäev-1.jpg
END:VEVENT
BEGIN:VEVENT
DTSTART;TZID=Europe/Tallinn:20180514T190000
DTEND;TZID=Europe/Tallinn:20180514T200000
DTSTAMP:20260423T015713
CREATED:20180421T092935Z
LAST-MODIFIED:20180421T093223Z
UID:1992-1526324400-1526328000@huuru.ee
SUMMARY:Täiskasvanute võimlemine
DESCRIPTION:
URL:https://huuru.ee/sundmus/taiskasvanute-voimlemine-47/
END:VEVENT
BEGIN:VEVENT
DTSTART;TZID=Europe/Tallinn:20180516T190000
DTEND;TZID=Europe/Tallinn:20180516T203000
DTSTAMP:20260423T015713
CREATED:20180510T104105Z
LAST-MODIFIED:20180510T104105Z
UID:2003-1526497200-1526502600@huuru.ee
SUMMARY:Dokumentaalfilm "Juured"
DESCRIPTION:Dokumentaalfilm “Juured” jutustab kuus väga isiklikku lugu – esimene suur armastus\, lapse kaotus\, vananemine\, truuduse murdmine\, haprad suhted lähedastega. Kuus eri vaadet sellele\, mis meisse on jäänud – perekonna\, elukeskkonna kaudu – ja mis meist jääb.\nLugude autoriteks on tuntud Eesti naisrežissöörid\, vanuses 29-61 aastat\, kes lisaks filmitegijaks olemisele on ka emad\, tütred\, abikaasad. Miks mitte armukesed või maailmarändurid. Filmi tegevuspaikadeks on Makedoonia\, Tšehhi\, Tai ja Eesti. \nLood ja autorid:\nPOEEM ARMASTUSEST / režissöör Nora Särak\nOODATES IMET / režissöör Aljona Suržikova\nEMAKIVI / režissöör Kersti Uibo\n40 AASTAT HILJEM / režissöör Moonika Siimets\nEMAGA KLOOSTRIS / režissöör Anna Hints\nMU LIHA JA VERI / režissöör Heilika Pikkov \n“Juured” linastub Eesti Vabariik 100 filmiprogrammi raames.
URL:https://huuru.ee/sundmus/dokumentaalfilm-juured/
ATTACH;FMTTYPE=image/jpeg:https://huuru.ee/wp-content/uploads/2018/05/JUURED_digiplakat_Aljona_preview.jpeg
END:VEVENT
BEGIN:VEVENT
DTSTART;TZID=Europe/Tallinn:20180517T160000
DTEND;TZID=Europe/Tallinn:20180517T193000
DTSTAMP:20260423T015713
CREATED:20180421T092743Z
LAST-MODIFIED:20180421T092743Z
UID:1987-1526572800-1526585400@huuru.ee
SUMMARY:Keraamikaring
DESCRIPTION:Keraamikat on võimalik teha keeruliselt aga ka väga lihtsalt. Savist esemete voolimisega saavad hakkama kõik\, kes seda aga teha soovivad\, olenemata vanusest ja kogemustest. Enne töö põletamist peab see vähemalt nädala kuivama\, seejärel läheb voolitud ese ahju\, hiljem töö glasuuritakse ja põletatakse uuesti. Nii muutub savi keraamikaks. Saviga tegelemine mõjub väga teraapiliselt ja rahustavalt. Savi on omapärane algmaterjal\, mis kogub endasse voolija käte soojuse ja annab selle hiljem tagasi vaatajale.\nTule õpi endale uus oskus või kui oled juba vana tegija\, siis kasuta kodulähedal võimalust hobiga tegeleda.
URL:https://huuru.ee/sundmus/keraamikaring-3/
ATTACH;FMTTYPE=application/pdf:https://huuru.ee/wp-content/uploads/2018/04/Keraamikaring-1-3.pdf
END:VEVENT
BEGIN:VEVENT
DTSTART;TZID=Europe/Tallinn:20180517T180000
DTEND;TZID=Europe/Tallinn:20180517T193000
DTSTAMP:20260423T015713
CREATED:20180608T082130Z
LAST-MODIFIED:20180608T082217Z
UID:2060-1526580000-1526585400@huuru.ee
SUMMARY:Laste tantsutreening
DESCRIPTION:
URL:https://huuru.ee/sundmus/laste-tantsutreening-9/
END:VEVENT
BEGIN:VEVENT
DTSTART;TZID=Europe/Tallinn:20180517T193000
DTEND;TZID=Europe/Tallinn:20180517T210000
DTSTAMP:20260423T015713
CREATED:20180421T091437Z
LAST-MODIFIED:20180421T091437Z
UID:1981-1526585400-1526590800@huuru.ee
SUMMARY:Saue valla mänguteater "Transnaine"
DESCRIPTION:Hüüru mõisahoones esitas Saue valla mänguteater esitab “Transnaine”. \nTegemist on siis etendusega mis žanrilt on lavaline kompositsioon.\nÜks osa etendusest on Saue mõisahärra armastuskirjad oma pruudile (ette kantult pruudi poolt)  ja teist etenduse osa iseloomustab vast kõige paremini tsitaat lõpusosas –Me oleme lõhki kistud. Sinu ettekujutus meist võib olla ilus\, aga see ei vasta tõele. Ma kohtasin üht\, abiellusin teisega ja täna elan kolmandaga. Fantaasia tuleb asendada tegelikkusega\, hakkame elama . \nTransformatsioon on millegi muundamine\, ümberkujundamine\, teisendamine. Me muutume ja muudame teineteist kogu elu. Kas kulutame või täiustame teineteist transformatsioonides?\n\nPilet 5€
URL:https://huuru.ee/sundmus/saue-valla-manguteater-transnaine/
ATTACH;FMTTYPE=application/pdf:https://huuru.ee/wp-content/uploads/2018/04/2018.05.17__Saue-teater.pdf
END:VEVENT
BEGIN:VEVENT
DTSTART;TZID=Europe/Tallinn:20180519T153000
DTEND;TZID=Europe/Tallinn:20180519T220000
DTSTAMP:20260423T015713
CREATED:20180510T112624Z
LAST-MODIFIED:20180518T110532Z
UID:2008-1526743800-1526767200@huuru.ee
SUMMARY:Muuseumiöö - avame Konstantin Pätsi muuseumi uksed
DESCRIPTION:kell 15.30 mängib Raudtee Kultuuriseltsi laulu- ja pasunakoor Arne Haasma juhtimisel \nkell 15.45 – 16.15 Raudtee Kultuuriseltsi laulu- ja pasunakoor kontsert mõisasaalis Mariell Aren’I juhtimisel \nkell 18.00 Valdo Subi ja Jaan Audru ansambel „Puutöö“ esitamisele tuleb nii klassika ja popmuusikat \nkell 19.00 filmiprogramm: Jaan Kolberg “16 küünalt” ja “Kenotaaf” \nkell 21.00 filmiprogramm: Raamatuaasta “Viie ball” Vanemuises 1935 aastal\n“Kuidas Eesti Vabariik tähistas oma 20 aastapäeva 1938 aastal.”  MTÜ Konstantin Pätsi Muuseumi väljapanek ja vestlusring muuseumilugudest.\nMõisasaalis on vaatamiseks Ulvi Hallikmäe – alias Lusti-Leenu kogutud kalambuuride näitus. Kohvik – Presidendi kohv ja vanadest retseptidest hõrgutised!
URL:https://huuru.ee/sundmus/muuseumioo-avame-konstantin-patsi-muuseumi-uksed/
END:VEVENT
BEGIN:VEVENT
DTSTART;TZID=Europe/Tallinn:20180521T190000
DTEND;TZID=Europe/Tallinn:20180521T200000
DTSTAMP:20260423T015713
CREATED:20180421T093030Z
LAST-MODIFIED:20180421T093030Z
UID:1994-1526929200-1526932800@huuru.ee
SUMMARY:Täiskasvanute võimlemine
DESCRIPTION:
URL:https://huuru.ee/sundmus/taiskasvanute-voimlemine-48/
END:VEVENT
BEGIN:VEVENT
DTSTART;TZID=Europe/Tallinn:20180524T180000
DTEND;TZID=Europe/Tallinn:20180524T193000
DTSTAMP:20260423T015713
CREATED:20180608T082049Z
LAST-MODIFIED:20180608T082049Z
UID:2058-1527184800-1527190200@huuru.ee
SUMMARY:Laste tantsutreening
DESCRIPTION:
URL:https://huuru.ee/sundmus/laste-tantsutreening-8/
END:VEVENT
BEGIN:VEVENT
DTSTART;TZID=Europe/Tallinn:20180528T190000
DTEND;TZID=Europe/Tallinn:20180528T200000
DTSTAMP:20260423T015713
CREATED:20180421T093142Z
LAST-MODIFIED:20180421T093142Z
UID:1996-1527534000-1527537600@huuru.ee
SUMMARY:Täiskasvanute võimlemine
DESCRIPTION:
URL:https://huuru.ee/sundmus/taiskasvanute-voimlemine-49/
END:VEVENT
BEGIN:VEVENT
DTSTART;TZID=Europe/Tallinn:20180531T160000
DTEND;TZID=Europe/Tallinn:20180531T173000
DTSTAMP:20260423T015713
CREATED:20180523T111635Z
LAST-MODIFIED:20180523T111635Z
UID:2014-1527782400-1527787800@huuru.ee
SUMMARY:Keraamikaring lastele
DESCRIPTION:
URL:https://huuru.ee/sundmus/keraamikaring-lastele/
END:VEVENT
BEGIN:VEVENT
DTSTART;TZID=Europe/Tallinn:20180531T180000
DTEND;TZID=Europe/Tallinn:20180531T193000
DTSTAMP:20260423T015713
CREATED:20180523T112345Z
LAST-MODIFIED:20180523T112345Z
UID:2022-1527789600-1527795000@huuru.ee
SUMMARY:Keaamikaring täiskasvanutele
DESCRIPTION:
URL:https://huuru.ee/sundmus/keaamikaring-taiskasvanutele/
END:VEVENT
BEGIN:VEVENT
DTSTART;TZID=Europe/Tallinn:20180531T180000
DTEND;TZID=Europe/Tallinn:20180531T193000
DTSTAMP:20260423T015713
CREATED:20180608T082010Z
LAST-MODIFIED:20180608T082010Z
UID:2056-1527789600-1527795000@huuru.ee
SUMMARY:Laste tantsutreening
DESCRIPTION:
URL:https://huuru.ee/sundmus/laste-tantsutreening-7/
END:VEVENT
BEGIN:VEVENT
DTSTART;TZID=Europe/Tallinn:20180607T160000
DTEND;TZID=Europe/Tallinn:20180607T173000
DTSTAMP:20260423T015713
CREATED:20180608T081556Z
LAST-MODIFIED:20180608T081616Z
UID:2048-1528387200-1528392600@huuru.ee
SUMMARY:Keraamikaring lastele
DESCRIPTION:
URL:https://huuru.ee/sundmus/keraamikaring-lastele-2/
END:VEVENT
BEGIN:VEVENT
DTSTART;TZID=Europe/Tallinn:20180607T180000
DTEND;TZID=Europe/Tallinn:20180607T193000
DTSTAMP:20260423T015713
CREATED:20180608T081651Z
LAST-MODIFIED:20180608T081651Z
UID:2050-1528394400-1528399800@huuru.ee
SUMMARY:Keraamikaring täiskasvanutele
DESCRIPTION:
URL:https://huuru.ee/sundmus/keraamikaring-taiskasvanutele/
END:VEVENT
BEGIN:VEVENT
DTSTART;TZID=Europe/Tallinn:20180614T160000
DTEND;TZID=Europe/Tallinn:20180614T173000
DTSTAMP:20260423T015713
CREATED:20180608T081756Z
LAST-MODIFIED:20180608T081756Z
UID:2054-1528992000-1528997400@huuru.ee
SUMMARY:Keraamikaring lastele
DESCRIPTION:
URL:https://huuru.ee/sundmus/keraamikaring-lastele-3/
END:VEVENT
BEGIN:VEVENT
DTSTART;TZID=Europe/Tallinn:20180614T180000
DTEND;TZID=Europe/Tallinn:20180614T193000
DTSTAMP:20260423T015713
CREATED:20180608T081725Z
LAST-MODIFIED:20180608T081725Z
UID:2052-1528999200-1529004600@huuru.ee
SUMMARY:Keraamikaring täiskasvanutele
DESCRIPTION:
URL:https://huuru.ee/sundmus/keraamikaring-taiskasvanutele-2/
END:VEVENT
BEGIN:VEVENT
DTSTART;TZID=Europe/Tallinn:20180617T190000
DTEND;TZID=Europe/Tallinn:20180617T200000
DTSTAMP:20260423T015713
CREATED:20180606T083911Z
LAST-MODIFIED:20180606T083911Z
UID:2038-1529262000-1529265600@huuru.ee
SUMMARY:Margus Tabor. Jutud vahelepõigete ja kõrvalkalletega
DESCRIPTION:Mamma lugude autorina tuntud Margus Tabori monoloogid – jutud vahelepõigete ja kõrvalkalletega…\nPiletite broneerimine meili teel info@huuru.ee   ja telefonil 52 38 261\, piletite olemasolul ka enne etenduse algust kohapeal. \n\nPiletihind 15 eur-i ja sooduspilet 12 eur-i\n\nPiletid saab välja osta raamatukogu lahtioleku aegadel E ja N 12-19.00
URL:https://huuru.ee/sundmus/margus-tabor-jutud-vahelepoigete-ja-korvalkalletega/
ATTACH;FMTTYPE=image/jpeg:https://huuru.ee/wp-content/uploads/2018/06/hüüru_17_juuni-2.jpg
END:VEVENT
END:VCALENDAR