BEGIN:VCALENDAR
VERSION:2.0
PRODID:-//H&uuml;&uuml;ru m&otilde;is - ECPv6.15.20//NONSGML v1.0//EN
CALSCALE:GREGORIAN
METHOD:PUBLISH
X-ORIGINAL-URL:https://huuru.ee
X-WR-CALDESC:Events for H&uuml;&uuml;ru m&otilde;is
REFRESH-INTERVAL;VALUE=DURATION:PT1H
X-Robots-Tag:noindex
X-PUBLISHED-TTL:PT1H
BEGIN:VTIMEZONE
TZID:Europe/Tallinn
BEGIN:DAYLIGHT
TZOFFSETFROM:+0200
TZOFFSETTO:+0300
TZNAME:EEST
DTSTART:20180325T010000
END:DAYLIGHT
BEGIN:STANDARD
TZOFFSETFROM:+0300
TZOFFSETTO:+0200
TZNAME:EET
DTSTART:20181028T010000
END:STANDARD
BEGIN:DAYLIGHT
TZOFFSETFROM:+0200
TZOFFSETTO:+0300
TZNAME:EEST
DTSTART:20190331T010000
END:DAYLIGHT
BEGIN:STANDARD
TZOFFSETFROM:+0300
TZOFFSETTO:+0200
TZNAME:EET
DTSTART:20191027T010000
END:STANDARD
BEGIN:DAYLIGHT
TZOFFSETFROM:+0200
TZOFFSETTO:+0300
TZNAME:EEST
DTSTART:20200329T010000
END:DAYLIGHT
BEGIN:STANDARD
TZOFFSETFROM:+0300
TZOFFSETTO:+0200
TZNAME:EET
DTSTART:20201025T010000
END:STANDARD
END:VTIMEZONE
BEGIN:VEVENT
DTSTART;TZID=Europe/Tallinn:20190822T140000
DTEND;TZID=Europe/Tallinn:20190822T190000
DTSTAMP:20260424T025903
CREATED:20190808T150233Z
LAST-MODIFIED:20190808T150233Z
UID:2685-1566482400-1566500400@huuru.ee
SUMMARY:Saviring lastele ja täiskasvanutele
DESCRIPTION:Hüüru küla lastele juulis-augustis\, neljapäeviti 15-16.30 saviringis tasuta meisterdamine. \nRõõmsate kohtumisteni!
URL:https://huuru.ee/sundmus/saviring-lastele-ja-taiskasvanutele-25/
END:VEVENT
BEGIN:VEVENT
DTSTART;TZID=Europe/Tallinn:20190828T150000
DTEND;TZID=Europe/Tallinn:20190828T163000
DTSTAMP:20260424T025903
CREATED:20190827T094403Z
LAST-MODIFIED:20190827T094403Z
UID:2694-1567004400-1567009800@huuru.ee
SUMMARY:Väärikate jututuba kutsub kohtuma pr. Inge Bergmanniga
DESCRIPTION:Inge Bergmann on pea 80- aastane seiklejavaimuga arst\, päritoluga ida-Berliinist. Külastanud üle 100 riigi\, töötanud “piirideta arstid” projekti raames Filipiinidel ja Namiibias. Aktiivse ja liikuva eluhoiakuga inimene jagab ja muljetab oma tegemistest ja seiklustest maailmas.
URL:https://huuru.ee/sundmus/vaarikate-jututuba-kutsub-kohtuma-pr-inge-bergmanniga/
END:VEVENT
BEGIN:VEVENT
DTSTART;TZID=Europe/Tallinn:20190829T140000
DTEND;TZID=Europe/Tallinn:20190829T190000
DTSTAMP:20260424T025903
CREATED:20190808T150304Z
LAST-MODIFIED:20190808T150304Z
UID:2687-1567087200-1567105200@huuru.ee
SUMMARY:Saviring lastele ja täiskasvanutele
DESCRIPTION:Hüüru küla lastele juulis-augustis\, neljapäeviti 15-16.30 saviringis tasuta meisterdamine. \nRõõmsate kohtumisteni!
URL:https://huuru.ee/sundmus/saviring-lastele-ja-taiskasvanutele-26/
END:VEVENT
BEGIN:VEVENT
DTSTART;TZID=Europe/Tallinn:20190904T183000
DTEND;TZID=Europe/Tallinn:20190904T193000
DTSTAMP:20260424T025903
CREATED:20190902T142224Z
LAST-MODIFIED:20190902T142333Z
UID:2696-1567621800-1567625400@huuru.ee
SUMMARY:Laste tantsutrenn
DESCRIPTION:
URL:https://huuru.ee/sundmus/laste-tantsutreening-16/
END:VEVENT
BEGIN:VEVENT
DTSTART;TZID=Europe/Tallinn:20190905T150000
DTEND;TZID=Europe/Tallinn:20190905T163000
DTSTAMP:20260424T025903
CREATED:20190904T104351Z
LAST-MODIFIED:20190904T104458Z
UID:2706-1567695600-1567701000@huuru.ee
SUMMARY:Saviring lastele
DESCRIPTION:
URL:https://huuru.ee/sundmus/saviring-lastele-22/
END:VEVENT
BEGIN:VEVENT
DTSTART;TZID=Europe/Tallinn:20190905T170000
DTEND;TZID=Europe/Tallinn:20190905T190000
DTSTAMP:20260424T025903
CREATED:20190904T104428Z
LAST-MODIFIED:20190904T104518Z
UID:2708-1567702800-1567710000@huuru.ee
SUMMARY:Saviring täiskasvanutele
DESCRIPTION:
URL:https://huuru.ee/sundmus/saviring-taiskasvanutele-22/
END:VEVENT
BEGIN:VEVENT
DTSTART;TZID=Europe/Tallinn:20190905T180000
DTEND;TZID=Europe/Tallinn:20190905T190000
DTSTAMP:20260424T025903
CREATED:20190819T152809Z
LAST-MODIFIED:20190819T152809Z
UID:2691-1567706400-1567710000@huuru.ee
SUMMARY:Hüüru Külaseltsi koosolek
DESCRIPTION:
URL:https://huuru.ee/sundmus/huuru-kulaseltsi-koosolek-20/
END:VEVENT
BEGIN:VEVENT
DTSTART;TZID=Europe/Tallinn:20190911T183000
DTEND;TZID=Europe/Tallinn:20190911T193000
DTSTAMP:20260424T025903
CREATED:20190902T142400Z
LAST-MODIFIED:20190902T142400Z
UID:2699-1568226600-1568230200@huuru.ee
SUMMARY:Laste tantsutrenn
DESCRIPTION:
URL:https://huuru.ee/sundmus/laste-tantsutrenn-28/
END:VEVENT
BEGIN:VEVENT
DTSTART;TZID=Europe/Tallinn:20190912T150000
DTEND;TZID=Europe/Tallinn:20190912T163000
DTSTAMP:20260424T025903
CREATED:20190904T104604Z
LAST-MODIFIED:20190904T104604Z
UID:2710-1568300400-1568305800@huuru.ee
SUMMARY:Saviring lastele
DESCRIPTION:
URL:https://huuru.ee/sundmus/saviring-lastele-23/
END:VEVENT
BEGIN:VEVENT
DTSTART;TZID=Europe/Tallinn:20190912T170000
DTEND;TZID=Europe/Tallinn:20190912T190000
DTSTAMP:20260424T025903
CREATED:20190904T104631Z
LAST-MODIFIED:20190904T104631Z
UID:2712-1568307600-1568314800@huuru.ee
SUMMARY:Saviring täiskasvanutele
DESCRIPTION:
URL:https://huuru.ee/sundmus/saviring-taiskasvanutele-23/
END:VEVENT
BEGIN:VEVENT
DTSTART;TZID=Europe/Tallinn:20190914T100000
DTEND;TZID=Europe/Tallinn:20190914T150000
DTSTAMP:20260424T025903
CREATED:20190627T121523Z
LAST-MODIFIED:20190904T110659Z
UID:2640-1568455200-1568473200@huuru.ee
SUMMARY:Hüüru Sügislaat
DESCRIPTION:Ootame kauplema käsitöö\, kunsti\, talutoodangu ja taimedega. \nKauplejaks registreerumine kuni 5. septembrini \nkontaktidel: info@huuru.ee tel. 52 38 261\, 60 71 358
URL:https://huuru.ee/sundmus/huuru-sugislaat-2/
LOCATION:Hüüru Mõis\, Jõe tee 2\,\, Saue vald\, Hüüru\, 76911\, Eesti
ATTACH;FMTTYPE=application/pdf:https://huuru.ee/wp-content/uploads/2019/06/Lots-of-great-affordable-items-Everything-must-go.pdf
ORGANIZER;CN="MT%C3%9C H%C3%BC%C3%BCru K%C3%BClaselts":MAILTO:info@huuru.ee
END:VEVENT
BEGIN:VEVENT
DTSTART;TZID=Europe/Tallinn:20190918T183000
DTEND;TZID=Europe/Tallinn:20190918T193000
DTSTAMP:20260424T025903
CREATED:20190902T142424Z
LAST-MODIFIED:20190902T142424Z
UID:2701-1568831400-1568835000@huuru.ee
SUMMARY:Laste tantsutrenn
DESCRIPTION:
URL:https://huuru.ee/sundmus/laste-tantsutrenn-29/
END:VEVENT
BEGIN:VEVENT
DTSTART;TZID=Europe/Tallinn:20190919T150000
DTEND;TZID=Europe/Tallinn:20190919T170000
DTSTAMP:20260424T025903
CREATED:20190904T104718Z
LAST-MODIFIED:20190904T104718Z
UID:2714-1568905200-1568912400@huuru.ee
SUMMARY:Saviring lastele
DESCRIPTION:
URL:https://huuru.ee/sundmus/saviring-lastele-24/
END:VEVENT
BEGIN:VEVENT
DTSTART;TZID=Europe/Tallinn:20190919T170000
DTEND;TZID=Europe/Tallinn:20190919T190000
DTSTAMP:20260424T025903
CREATED:20190904T104800Z
LAST-MODIFIED:20190904T104800Z
UID:2716-1568912400-1568919600@huuru.ee
SUMMARY:Saviring täiskasvanutele
DESCRIPTION:
URL:https://huuru.ee/sundmus/saviring-taiskasvanutele-24/
END:VEVENT
BEGIN:VEVENT
DTSTART;TZID=Europe/Tallinn:20190925T183000
DTEND;TZID=Europe/Tallinn:20190925T193000
DTSTAMP:20260424T025903
CREATED:20190902T142450Z
LAST-MODIFIED:20190902T142450Z
UID:2703-1569436200-1569439800@huuru.ee
SUMMARY:Laste tantsutrenn
DESCRIPTION:
URL:https://huuru.ee/sundmus/laste-tantsutrenn-30/
END:VEVENT
BEGIN:VEVENT
DTSTART;TZID=Europe/Tallinn:20190926T150000
DTEND;TZID=Europe/Tallinn:20190926T163000
DTSTAMP:20260424T025903
CREATED:20190904T104847Z
LAST-MODIFIED:20190904T104847Z
UID:2718-1569510000-1569515400@huuru.ee
SUMMARY:Saviring lastele
DESCRIPTION:
URL:https://huuru.ee/sundmus/saviring-lastele-25/
END:VEVENT
BEGIN:VEVENT
DTSTART;TZID=Europe/Tallinn:20190926T170000
DTEND;TZID=Europe/Tallinn:20190926T190000
DTSTAMP:20260424T025903
CREATED:20190904T104921Z
LAST-MODIFIED:20190904T104921Z
UID:2720-1569517200-1569524400@huuru.ee
SUMMARY:Saviring täiskasvanutele
DESCRIPTION:
URL:https://huuru.ee/sundmus/saviring-taiskasvanutele-25/
END:VEVENT
BEGIN:VEVENT
DTSTART;TZID=Europe/Tallinn:20191001T190000
DTEND;TZID=Europe/Tallinn:20191001T193000
DTSTAMP:20260424T025903
CREATED:20191001T151633Z
LAST-MODIFIED:20191001T151633Z
UID:2768-1569956400-1569958200@huuru.ee
SUMMARY:Rahvusvaheline muusikapäev
DESCRIPTION:
URL:https://huuru.ee/sundmus/rahvusvaheline-muusikapaev/
ATTACH;FMTTYPE=application/pdf:https://huuru.ee/wp-content/uploads/2019/10/Lisage-pealkiri-1.pdf
END:VEVENT
BEGIN:VEVENT
DTSTART;TZID=Europe/Tallinn:20191002T183000
DTEND;TZID=Europe/Tallinn:20191002T193000
DTSTAMP:20260424T025903
CREATED:20191001T144410Z
LAST-MODIFIED:20191001T144410Z
UID:2738-1570041000-1570044600@huuru.ee
SUMMARY:Laste tantsutrenn
DESCRIPTION:
URL:https://huuru.ee/sundmus/laste-tantsutrenn-31/
END:VEVENT
BEGIN:VEVENT
DTSTART;TZID=Europe/Tallinn:20191003T150000
DTEND;TZID=Europe/Tallinn:20191003T163000
DTSTAMP:20260424T025903
CREATED:20191001T144645Z
LAST-MODIFIED:20191001T144645Z
UID:2748-1570114800-1570120200@huuru.ee
SUMMARY:Saviring lastele
DESCRIPTION:
URL:https://huuru.ee/sundmus/saviring-lastele-26/
END:VEVENT
BEGIN:VEVENT
DTSTART;TZID=Europe/Tallinn:20191003T170000
DTEND;TZID=Europe/Tallinn:20191003T190000
DTSTAMP:20260424T025903
CREATED:20191001T144724Z
LAST-MODIFIED:20191001T144724Z
UID:2750-1570122000-1570129200@huuru.ee
SUMMARY:Saviring täiskasvanutele
DESCRIPTION:
URL:https://huuru.ee/sundmus/saviring-taiskasvanutele-26/
END:VEVENT
BEGIN:VEVENT
DTSTART;TZID=Europe/Tallinn:20191003T180000
DTEND;TZID=Europe/Tallinn:20191003T190000
DTSTAMP:20260424T025903
CREATED:20191001T151726Z
LAST-MODIFIED:20191001T151726Z
UID:2771-1570125600-1570129200@huuru.ee
SUMMARY:Hüüru külaseltsi koosolek
DESCRIPTION:
URL:https://huuru.ee/sundmus/huuru-kulaseltsi-koosolek-21/
END:VEVENT
BEGIN:VEVENT
DTSTART;TZID=Europe/Tallinn:20191004T190000
DTEND;TZID=Europe/Tallinn:20191004T200000
DTSTAMP:20260424T025903
CREATED:20190916T135136Z
LAST-MODIFIED:20190916T135136Z
UID:2725-1570215600-1570219200@huuru.ee
SUMMARY:Loeng "Rasked kõnelused"
DESCRIPTION:Enmikul meist on tulnud pidada vestlusi\, mida püüame edasi lükata\, sest midagi head neist oodata ei ole – alluva vallandamine\, palgatõusu küsimine\, vabandamine. “Rasked kõnelused” aitab mõista selliste kõnelust tagamaid ja õpetab nende kulgu juhtima. \nLektor: Viigi Viil-Kangur\, arst\, NLP Master Practitioner\, kinesioloog \nOSALUSTASU 2 eur
URL:https://huuru.ee/sundmus/loeng-rasked-konelused/
ATTACH;FMTTYPE=application/pdf:https://huuru.ee/wp-content/uploads/2019/09/2019.10.4_Rasked-kõnelused.pdf
END:VEVENT
BEGIN:VEVENT
DTSTART;TZID=Europe/Tallinn:20191005T113000
DTEND;TZID=Europe/Tallinn:20191005T114500
DTSTAMP:20260424T025903
CREATED:20190923T152146Z
LAST-MODIFIED:20190923T152146Z
UID:2735-1570275000-1570275900@huuru.ee
SUMMARY:Ohtlike ja elektroonikajäätmete ning vanarehvide kogumisring
DESCRIPTION:Hüüru küla\, Hüüru mõisa parkla
URL:https://huuru.ee/sundmus/ohtlike-ja-elektroonikajaatmete-ning-vanarehvide-kogumisring/
END:VEVENT
BEGIN:VEVENT
DTSTART;TZID=Europe/Tallinn:20191006T180000
DTEND;TZID=Europe/Tallinn:20191006T193000
DTSTAMP:20260424T025903
CREATED:20190918T082515Z
LAST-MODIFIED:20190918T111408Z
UID:2728-1570384800-1570390200@huuru.ee
SUMMARY:Film "Kohtunik"
DESCRIPTION:Kohtunik (Mait Malmsten) on mees\, kes esindab kohtusaalis seadust ja rangeid reegleid\, kuid tema enda eraelus puudub igasugune kord. Kui ta oma järjekordsel kohtuistungil määrab pikaajalise vanglakaristuse naisele\, hakkab süüdimõistetud naise vend (Märt Avandi) teda jälitama. Vend leiab\, et langetatud otsus on ebaõiglane ning nõuab\, et kohtunik oma otsust muudaks. Kohtunik jääb endale kindlaks – otsus on langetatud. Meeste vahel tekkinud konflikti tõttu saab aga ühtäkki õigusemõistjast endast kurjategija. \nSuutmata oma süütegu tunnistada\, põgeneb kohtunik Soome. Oma teekonnal teisel pool lahte\, satub ta erinevatesse koomilistesse olukordadesse ja kohtab kummalisi inimesi. \n“Kohtunik” on musta huumoriga vürtsitatud road movie\, mille peaosades astuvad üles Mait Malmsten (“Kertu”\, “Rotilõks”) ja Märt Avandi (“Vehkleja”\, “Punane elavhõbe”). Filmi lavastaja ja stsenarist on Andres Puustusmaa (“Rohelised kassid”\, “18-14”\, “Punane elavhõbe”). Filmi tootis Leo Production ja levitab ACME Film. \nPilet 5€\nSooduspilet 3\,5€
URL:https://huuru.ee/sundmus/film-kohtunik/
ATTACH;FMTTYPE=application/pdf:https://huuru.ee/wp-content/uploads/2019/09/Lisage-alapealkiri.pdf
END:VEVENT
BEGIN:VEVENT
DTSTART;TZID=Europe/Tallinn:20191008T190000
DTEND;TZID=Europe/Tallinn:20191008T200000
DTSTAMP:20260424T025903
CREATED:20191003T084405Z
LAST-MODIFIED:20191003T084405Z
UID:2773-1570561200-1570564800@huuru.ee
SUMMARY:Täiskasvanute treening
DESCRIPTION:
URL:https://huuru.ee/sundmus/taiskasvanute-treening/
END:VEVENT
BEGIN:VEVENT
DTSTART;TZID=Europe/Tallinn:20191009T183000
DTEND;TZID=Europe/Tallinn:20191009T193000
DTSTAMP:20260424T025903
CREATED:20191001T144435Z
LAST-MODIFIED:20191001T144435Z
UID:2740-1570645800-1570649400@huuru.ee
SUMMARY:Laste tantsutrenn
DESCRIPTION:
URL:https://huuru.ee/sundmus/laste-tantsutrenn-32/
END:VEVENT
BEGIN:VEVENT
DTSTART;TZID=Europe/Tallinn:20191010T150000
DTEND;TZID=Europe/Tallinn:20191010T163000
DTSTAMP:20260424T025903
CREATED:20191001T144838Z
LAST-MODIFIED:20191001T144838Z
UID:2752-1570719600-1570725000@huuru.ee
SUMMARY:Saviring lastele
DESCRIPTION:
URL:https://huuru.ee/sundmus/saviring-lastele-27/
END:VEVENT
BEGIN:VEVENT
DTSTART;TZID=Europe/Tallinn:20191010T170000
DTEND;TZID=Europe/Tallinn:20191010T190000
DTSTAMP:20260424T025903
CREATED:20191001T144910Z
LAST-MODIFIED:20191001T144910Z
UID:2754-1570726800-1570734000@huuru.ee
SUMMARY:Saviring täiskasvanutele
DESCRIPTION:
URL:https://huuru.ee/sundmus/saviring-taiskasvanutele-27/
END:VEVENT
BEGIN:VEVENT
DTSTART;TZID=Europe/Tallinn:20191014T190000
DTEND;TZID=Europe/Tallinn:20191014T200000
DTSTAMP:20260424T025903
CREATED:20191003T084528Z
LAST-MODIFIED:20191003T084528Z
UID:2775-1571079600-1571083200@huuru.ee
SUMMARY:Täiskasvanute treening
DESCRIPTION:
URL:https://huuru.ee/sundmus/taiskasvanute-treening-2/
END:VEVENT
END:VCALENDAR