BEGIN:VCALENDAR
VERSION:2.0
PRODID:-//H&uuml;&uuml;ru m&otilde;is - ECPv6.15.20//NONSGML v1.0//EN
CALSCALE:GREGORIAN
METHOD:PUBLISH
X-ORIGINAL-URL:https://huuru.ee
X-WR-CALDESC:Events for H&uuml;&uuml;ru m&otilde;is
REFRESH-INTERVAL;VALUE=DURATION:PT1H
X-Robots-Tag:noindex
X-PUBLISHED-TTL:PT1H
BEGIN:VTIMEZONE
TZID:Europe/Tallinn
BEGIN:DAYLIGHT
TZOFFSETFROM:+0200
TZOFFSETTO:+0300
TZNAME:EEST
DTSTART:20160327T010000
END:DAYLIGHT
BEGIN:STANDARD
TZOFFSETFROM:+0300
TZOFFSETTO:+0200
TZNAME:EET
DTSTART:20161030T010000
END:STANDARD
BEGIN:DAYLIGHT
TZOFFSETFROM:+0200
TZOFFSETTO:+0300
TZNAME:EEST
DTSTART:20170326T010000
END:DAYLIGHT
BEGIN:STANDARD
TZOFFSETFROM:+0300
TZOFFSETTO:+0200
TZNAME:EET
DTSTART:20171029T010000
END:STANDARD
BEGIN:DAYLIGHT
TZOFFSETFROM:+0200
TZOFFSETTO:+0300
TZNAME:EEST
DTSTART:20180325T010000
END:DAYLIGHT
BEGIN:STANDARD
TZOFFSETFROM:+0300
TZOFFSETTO:+0200
TZNAME:EET
DTSTART:20181028T010000
END:STANDARD
END:VTIMEZONE
BEGIN:VEVENT
DTSTART;TZID=Europe/Tallinn:20171026T093000
DTEND;TZID=Europe/Tallinn:20171026T140000
DTSTAMP:20260422T145230
CREATED:20171004T102358Z
LAST-MODIFIED:20171004T102358Z
UID:1635-1509010200-1509026400@huuru.ee
SUMMARY:Lastelaager Mectory tehnoloogiakeskuses
DESCRIPTION:
URL:https://huuru.ee/sundmus/lastelaager-mectory-tehnoloogiakeskuses-4/
LOCATION:mectory\, Raja 15\, Tallinn\, Eesti
END:VEVENT
BEGIN:VEVENT
DTSTART;TZID=Europe/Tallinn:20171026T103000
DTEND;TZID=Europe/Tallinn:20171026T113000
DTSTAMP:20260422T145230
CREATED:20171005T121711Z
LAST-MODIFIED:20171005T121711Z
UID:1645-1509013800-1509017400@huuru.ee
SUMMARY:Väärikate liikumistund
DESCRIPTION:
URL:https://huuru.ee/sundmus/vaarikate-liikumistund-4/
END:VEVENT
BEGIN:VEVENT
DTSTART;TZID=Europe/Tallinn:20171026T183000
DTEND;TZID=Europe/Tallinn:20171026T193000
DTSTAMP:20260422T145230
CREATED:20170925T125155Z
LAST-MODIFIED:20170925T125155Z
UID:1599-1509042600-1509046200@huuru.ee
SUMMARY:Tantsutreening lastele
DESCRIPTION:
URL:https://huuru.ee/sundmus/tantsutreening-lastele-23/
END:VEVENT
BEGIN:VEVENT
DTSTART;TZID=Europe/Tallinn:20171027T190000
DTEND;TZID=Europe/Tallinn:20171027T203000
DTSTAMP:20260422T145230
CREATED:20170929T083306Z
LAST-MODIFIED:20170929T083306Z
UID:1622-1509130800-1509136200@huuru.ee
SUMMARY:Margus Tabor - Jutud vahelepõigete ja kõrvalekalletega...
DESCRIPTION:Hüüru mõisas Mamma lugude esitajana tuntud Margus Tabor – jutud vahelepõigete ja kõrvalkalletega…\n\nPiletite broneerimine meili teel info@huuru.ee  ja telefonil 52 38 261\, piletite jätkumisel ka enne etenduse algust kohapeal.
URL:https://huuru.ee/sundmus/margus-tabor-jutud-vahelepoigete-ja-korvalekalletega/
END:VEVENT
BEGIN:VEVENT
DTSTART;TZID=Europe/Tallinn:20171028T100000
DTEND;TZID=Europe/Tallinn:20171028T150000
DTSTAMP:20260422T145230
CREATED:20171018T093302Z
LAST-MODIFIED:20171018T093302Z
UID:1652-1509184800-1509202800@huuru.ee
SUMMARY:Hüüru Külaseltsi sügistalgud
DESCRIPTION:
URL:https://huuru.ee/sundmus/huuru-kulaseltsi-sugistalgud/
END:VEVENT
BEGIN:VEVENT
DTSTART;TZID=Europe/Tallinn:20171030T190000
DTEND;TZID=Europe/Tallinn:20171030T200000
DTSTAMP:20260422T145230
CREATED:20170929T083435Z
LAST-MODIFIED:20170929T083435Z
UID:1626-1509390000-1509393600@huuru.ee
SUMMARY:Täiskasvanute võimlemine
DESCRIPTION:
URL:https://huuru.ee/sundmus/taiskasvanute-voimlemine-23/
END:VEVENT
BEGIN:VEVENT
DTSTART;TZID=Europe/Tallinn:20171102T103000
DTEND;TZID=Europe/Tallinn:20171102T113000
DTSTAMP:20260422T145230
CREATED:20171109T124459Z
LAST-MODIFIED:20171109T124459Z
UID:1706-1509618600-1509622200@huuru.ee
SUMMARY:Väärikate liikumistund
DESCRIPTION:
URL:https://huuru.ee/sundmus/vaarikate-liikumistund-9/
END:VEVENT
BEGIN:VEVENT
DTSTART;TZID=Europe/Tallinn:20171102T180000
DTEND;TZID=Europe/Tallinn:20171102T190000
DTSTAMP:20260422T145230
CREATED:20171026T153815Z
LAST-MODIFIED:20171026T153815Z
UID:1656-1509645600-1509649200@huuru.ee
SUMMARY:Hüüru Külaseltsi koosolek
DESCRIPTION:
URL:https://huuru.ee/sundmus/huuru-kulaseltsi-koosolek-5/
END:VEVENT
BEGIN:VEVENT
DTSTART;TZID=Europe/Tallinn:20171102T183000
DTEND;TZID=Europe/Tallinn:20171102T193000
DTSTAMP:20260422T145230
CREATED:20171026T154501Z
LAST-MODIFIED:20171026T154501Z
UID:1668-1509647400-1509651000@huuru.ee
SUMMARY:Tantsutreening lastele
DESCRIPTION:
URL:https://huuru.ee/sundmus/tantsutreening-lastele-24/
END:VEVENT
BEGIN:VEVENT
DTSTART;TZID=Europe/Tallinn:20171103T120000
DTEND;TZID=Europe/Tallinn:20171103T133000
DTSTAMP:20260422T145230
CREATED:20171103T105724Z
LAST-MODIFIED:20171103T105724Z
UID:1685-1509710400-1509715800@huuru.ee
SUMMARY:Väärikate jututuba - mälutreening
DESCRIPTION:
URL:https://huuru.ee/sundmus/vaarikate-jututuba-malutreening/
END:VEVENT
BEGIN:VEVENT
DTSTART;TZID=Europe/Tallinn:20171106T190000
DTEND;TZID=Europe/Tallinn:20171106T200000
DTSTAMP:20260422T145230
CREATED:20171026T154244Z
LAST-MODIFIED:20171026T154244Z
UID:1664-1509994800-1509998400@huuru.ee
SUMMARY:Täiskasvanute võimlemine
DESCRIPTION:
URL:https://huuru.ee/sundmus/taiskasvanute-voimlemine-27/
END:VEVENT
BEGIN:VEVENT
DTSTART;TZID=Europe/Tallinn:20171109T103000
DTEND;TZID=Europe/Tallinn:20171109T113000
DTSTAMP:20260422T145230
CREATED:20171109T124216Z
LAST-MODIFIED:20171109T124216Z
UID:1697-1510223400-1510227000@huuru.ee
SUMMARY:Väärikate liikumistund
DESCRIPTION:
URL:https://huuru.ee/sundmus/vaarikate-liikumistund-5/
END:VEVENT
BEGIN:VEVENT
DTSTART;TZID=Europe/Tallinn:20171109T183000
DTEND;TZID=Europe/Tallinn:20171109T193000
DTSTAMP:20260422T145230
CREATED:20171026T154542Z
LAST-MODIFIED:20171026T154542Z
UID:1670-1510252200-1510255800@huuru.ee
SUMMARY:Tantsutreening lastele
DESCRIPTION:
URL:https://huuru.ee/sundmus/tantsutreening-lastele-25/
END:VEVENT
BEGIN:VEVENT
DTSTART;TZID=Europe/Tallinn:20171113T190000
DTEND;TZID=Europe/Tallinn:20171113T200000
DTSTAMP:20260422T145230
CREATED:20171026T153953Z
LAST-MODIFIED:20171026T154153Z
UID:1660-1510599600-1510603200@huuru.ee
SUMMARY:Täiskasvanute võimlemine
DESCRIPTION:
URL:https://huuru.ee/sundmus/taiskasvanute-voimlemine-25/
END:VEVENT
BEGIN:VEVENT
DTSTART;TZID=Europe/Tallinn:20171116T103000
DTEND;TZID=Europe/Tallinn:20171116T113000
DTSTAMP:20260422T145230
CREATED:20171109T124254Z
LAST-MODIFIED:20171109T124254Z
UID:1699-1510828200-1510831800@huuru.ee
SUMMARY:Väärikate liikumistund
DESCRIPTION:
URL:https://huuru.ee/sundmus/vaarikate-liikumistund-6/
END:VEVENT
BEGIN:VEVENT
DTSTART;TZID=Europe/Tallinn:20171116T183000
DTEND;TZID=Europe/Tallinn:20171116T193000
DTSTAMP:20260422T145230
CREATED:20171026T154659Z
LAST-MODIFIED:20171026T154659Z
UID:1674-1510857000-1510860600@huuru.ee
SUMMARY:Tantsutreening lastele
DESCRIPTION:
URL:https://huuru.ee/sundmus/tantsutreening-lastele-27/
END:VEVENT
BEGIN:VEVENT
DTSTART;TZID=Europe/Tallinn:20171120T190000
DTEND;TZID=Europe/Tallinn:20171120T200000
DTSTAMP:20260422T145230
CREATED:20171026T154045Z
LAST-MODIFIED:20171026T154045Z
UID:1662-1511204400-1511208000@huuru.ee
SUMMARY:Täiskasvanute võimlemine
DESCRIPTION:
URL:https://huuru.ee/sundmus/taiskasvanute-voimlemine-26/
END:VEVENT
BEGIN:VEVENT
DTSTART;TZID=Europe/Tallinn:20171123T103000
DTEND;TZID=Europe/Tallinn:20171123T113000
DTSTAMP:20260422T145230
CREATED:20171109T124325Z
LAST-MODIFIED:20171109T124325Z
UID:1701-1511433000-1511436600@huuru.ee
SUMMARY:Väärikate liikumistund
DESCRIPTION:
URL:https://huuru.ee/sundmus/vaarikate-liikumistund-7/
END:VEVENT
BEGIN:VEVENT
DTSTART;TZID=Europe/Tallinn:20171123T183000
DTEND;TZID=Europe/Tallinn:20171123T193000
DTSTAMP:20260422T145230
CREATED:20171026T154613Z
LAST-MODIFIED:20171026T154613Z
UID:1672-1511461800-1511465400@huuru.ee
SUMMARY:Tantsutreening lastele
DESCRIPTION:
URL:https://huuru.ee/sundmus/tantsutreening-lastele-26/
END:VEVENT
BEGIN:VEVENT
DTSTART;TZID=Europe/Tallinn:20171127T190000
DTEND;TZID=Europe/Tallinn:20171127T200000
DTSTAMP:20260422T145230
CREATED:20171026T154321Z
LAST-MODIFIED:20171026T154321Z
UID:1666-1511809200-1511812800@huuru.ee
SUMMARY:Täiskasvanute võimlemine
DESCRIPTION:
URL:https://huuru.ee/sundmus/taiskasvanute-voimlemine-28/
END:VEVENT
BEGIN:VEVENT
DTSTART;TZID=Europe/Tallinn:20171130T103000
DTEND;TZID=Europe/Tallinn:20171130T113000
DTSTAMP:20260422T145230
CREATED:20171109T124403Z
LAST-MODIFIED:20171109T124403Z
UID:1703-1512037800-1512041400@huuru.ee
SUMMARY:Väärikate liikumistund
DESCRIPTION:
URL:https://huuru.ee/sundmus/vaarikate-liikumistund-8/
END:VEVENT
BEGIN:VEVENT
DTSTART;TZID=Europe/Tallinn:20171130T183000
DTEND;TZID=Europe/Tallinn:20171130T193000
DTSTAMP:20260422T145230
CREATED:20171026T154753Z
LAST-MODIFIED:20171026T154753Z
UID:1676-1512066600-1512070200@huuru.ee
SUMMARY:Tantsutreening lastele
DESCRIPTION:
URL:https://huuru.ee/sundmus/tantsutreening-lastele-28/
END:VEVENT
BEGIN:VEVENT
DTSTART;TZID=Europe/Tallinn:20171202T090000
DTEND;TZID=Europe/Tallinn:20171202T170000
DTSTAMP:20260422T145230
CREATED:20171109T125437Z
LAST-MODIFIED:20171109T125448Z
UID:1724-1512205200-1512234000@huuru.ee
SUMMARY:Väärikate ühendus "Sügiskuld" sõidab külastama Raplamaad
DESCRIPTION:
URL:https://huuru.ee/sundmus/vaarikate-uhendussugiskuld-soidab-kulastama-raplamaad/
END:VEVENT
BEGIN:VEVENT
DTSTART;TZID=Europe/Tallinn:20171202T110000
DTEND;TZID=Europe/Tallinn:20171202T140000
DTSTAMP:20260422T145230
CREATED:20171109T123930Z
LAST-MODIFIED:20171109T123930Z
UID:1694-1512212400-1512223200@huuru.ee
SUMMARY:Jõulupärgade valmistamine Hüüru mõisamajas
DESCRIPTION:Esimese Advendipühade eel laupäeval\,\n2. detsembril 11-14.00 valmistame Hüüru mõisamajas jõulupärgi.\nOsalustasu 10 eur-i\, sisaldab pärjamaterjali.\nVõib kaasa võtta jõuluehteid\, paelu – meelepäraseid kaunistamise ja dekoreerimise vahendeid.\nEelregistreerumine: info@huuru.ee\, tel: 52 38 261
URL:https://huuru.ee/sundmus/joulupargade-valmistamine-huuru-moisamajas/
LOCATION:Hüüru Mõis\, Jõe tee 2\,\, Saue vald\, Hüüru\, 76911\, Eesti
END:VEVENT
BEGIN:VEVENT
DTSTART;TZID=Europe/Tallinn:20171204T190000
DTEND;TZID=Europe/Tallinn:20171204T200000
DTSTAMP:20260422T145230
CREATED:20171109T124817Z
LAST-MODIFIED:20171109T124817Z
UID:1715-1512414000-1512417600@huuru.ee
SUMMARY:Täiskasvanute võimlemine
DESCRIPTION:
URL:https://huuru.ee/sundmus/taiskasvanute-voimlemine-24/
END:VEVENT
BEGIN:VEVENT
DTSTART;TZID=Europe/Tallinn:20171207T103000
DTEND;TZID=Europe/Tallinn:20171207T113000
DTSTAMP:20260422T145230
CREATED:20171109T124539Z
LAST-MODIFIED:20171109T124539Z
UID:1708-1512642600-1512646200@huuru.ee
SUMMARY:Väärikate liikumistund
DESCRIPTION:
URL:https://huuru.ee/sundmus/vaarikate-liikumistund-10/
END:VEVENT
BEGIN:VEVENT
DTSTART;TZID=Europe/Tallinn:20171207T163000
DTEND;TZID=Europe/Tallinn:20171207T183000
DTSTAMP:20260422T145230
CREATED:20171106T151930Z
LAST-MODIFIED:20171106T152243Z
UID:1689-1512664200-1512671400@huuru.ee
SUMMARY:"Ehime koos mõisa jõulukuuse" - valmistame jõuluehted
DESCRIPTION:  \nLaste ja noorte kultuuriaasta lõpetame Hüürus ühise projektiga\n„Ehime koos mõisa jõulukuuse.“\nNeljapäeval 7. detsembril kell 16.30\, ootame mõisamajja jõuluehteid meisterdama.
URL:https://huuru.ee/sundmus/ehime-koos-moisa-joulukuuse/
END:VEVENT
BEGIN:VEVENT
DTSTART;TZID=Europe/Tallinn:20171207T180000
DTEND;TZID=Europe/Tallinn:20171207T193000
DTSTAMP:20260422T145230
CREATED:20180111T120535Z
LAST-MODIFIED:20180111T120649Z
UID:1786-1512669600-1512675000@huuru.ee
SUMMARY:Hüüru Külaseltsi koosolek
DESCRIPTION:
URL:https://huuru.ee/sundmus/kulaseltsi-koosolek/
END:VEVENT
BEGIN:VEVENT
DTSTART;TZID=Europe/Tallinn:20171211T190000
DTEND;TZID=Europe/Tallinn:20171211T200000
DTSTAMP:20260422T145230
CREATED:20171109T124856Z
LAST-MODIFIED:20171109T124856Z
UID:1717-1513018800-1513022400@huuru.ee
SUMMARY:Täiskasvanute võimlemine
DESCRIPTION:
URL:https://huuru.ee/sundmus/taiskasvanute-voimlemine-29/
END:VEVENT
BEGIN:VEVENT
DTSTART;TZID=Europe/Tallinn:20171214T103000
DTEND;TZID=Europe/Tallinn:20171214T113000
DTSTAMP:20260422T145230
CREATED:20171109T124610Z
LAST-MODIFIED:20171109T124610Z
UID:1710-1513247400-1513251000@huuru.ee
SUMMARY:Väärikate liikumistund
DESCRIPTION:
URL:https://huuru.ee/sundmus/vaarikate-liikumistund-11/
END:VEVENT
END:VCALENDAR