BEGIN:VCALENDAR
VERSION:2.0
PRODID:-//H&uuml;&uuml;ru m&otilde;is - ECPv6.15.20//NONSGML v1.0//EN
CALSCALE:GREGORIAN
METHOD:PUBLISH
X-WR-CALNAME:H&uuml;&uuml;ru m&otilde;is
X-ORIGINAL-URL:https://huuru.ee
X-WR-CALDESC:Events for H&uuml;&uuml;ru m&otilde;is
REFRESH-INTERVAL;VALUE=DURATION:PT1H
X-Robots-Tag:noindex
X-PUBLISHED-TTL:PT1H
BEGIN:VTIMEZONE
TZID:Europe/Tallinn
BEGIN:DAYLIGHT
TZOFFSETFROM:+0200
TZOFFSETTO:+0300
TZNAME:EEST
DTSTART:20190331T010000
END:DAYLIGHT
BEGIN:STANDARD
TZOFFSETFROM:+0300
TZOFFSETTO:+0200
TZNAME:EET
DTSTART:20191027T010000
END:STANDARD
BEGIN:DAYLIGHT
TZOFFSETFROM:+0200
TZOFFSETTO:+0300
TZNAME:EEST
DTSTART:20200329T010000
END:DAYLIGHT
BEGIN:STANDARD
TZOFFSETFROM:+0300
TZOFFSETTO:+0200
TZNAME:EET
DTSTART:20201025T010000
END:STANDARD
BEGIN:DAYLIGHT
TZOFFSETFROM:+0200
TZOFFSETTO:+0300
TZNAME:EEST
DTSTART:20210328T010000
END:DAYLIGHT
BEGIN:STANDARD
TZOFFSETFROM:+0300
TZOFFSETTO:+0200
TZNAME:EET
DTSTART:20211031T010000
END:STANDARD
END:VTIMEZONE
BEGIN:VEVENT
DTSTART;TZID=Europe/Tallinn:20201118T180000
DTEND;TZID=Europe/Tallinn:20201118T200000
DTSTAMP:20260425T134235
CREATED:20201021T155648Z
LAST-MODIFIED:20201021T155648Z
UID:3104-1605722400-1605729600@huuru.ee
SUMMARY:Loodeteatri õppestuudio
DESCRIPTION:
URL:https://huuru.ee/sundmus/loodeteatri-oppestuudio-24/
END:VEVENT
BEGIN:VEVENT
DTSTART;TZID=Europe/Tallinn:20201119T094500
DTEND;TZID=Europe/Tallinn:20201119T123000
DTSTAMP:20260425T134235
CREATED:20201104T114354Z
LAST-MODIFIED:20201104T114354Z
UID:3153-1605779100-1605789000@huuru.ee
SUMMARY:Beebikool
DESCRIPTION:
URL:https://huuru.ee/sundmus/beebikool-4/
ATTACH;FMTTYPE=image/png:https://huuru.ee/wp-content/uploads/2020/11/Copy-of-Huuru-poster.png
END:VEVENT
BEGIN:VEVENT
DTSTART;TZID=Europe/Tallinn:20201119T173000
DTEND;TZID=Europe/Tallinn:20201119T200000
DTSTAMP:20260425T134235
CREATED:20201021T160651Z
LAST-MODIFIED:20201021T160651Z
UID:3126-1605807000-1605816000@huuru.ee
SUMMARY:Saviring täiskasvanutele
DESCRIPTION:
URL:https://huuru.ee/sundmus/saviring-taiskasvanutele-43/
END:VEVENT
BEGIN:VEVENT
DTSTART;TZID=Europe/Tallinn:20201121T110000
DTEND;TZID=Europe/Tallinn:20201121T160000
DTSTAMP:20260425T134235
CREATED:20201110T135117Z
LAST-MODIFIED:20201110T135117Z
UID:3160-1605956400-1605974400@huuru.ee
SUMMARY:Kriidivärvi koolitus
DESCRIPTION:Kriidivärvi koolitus pakub võimalust omandada teadmisi ja oskusi\, kuidas värskendada\, vanutada ja dekoreerida erinevast materjalist esemeid ja pindasid.\nKui oled uudishimulik ja tahad teada\,\n– mis on kriidivärv\n– kuidas kasutada kriidivärvi\n– mida saab kriidivärviga värvida\nJa kui oled julge ning tahad proovida;\n-kuidas erinevaid tehnikaid (pahtel-\, šabloon-\, decoupage-\, kahe värvi-\, kuiva pintsli- ja kraklee-) kasutades saab luua põnevaid tekstuure\n-kuidas kriidivärve omavahel segades luua erinevaid toone ja varje\n– kuidas valmistada ja kasutada värvilist viimistlusvaha\n– kuidas metalsete värvidega lisada luksust ja sära…\n– kuidas proovitud tehnikaid kasutades disainida endale isikupärane mööbliese või mõni muu sisustusaksessuaar\,..\n..siis anna oma tulekust teada hiljemalt\n18. novembril (info@huuru.ee)\nTulles võta kaasa ese (tool\, pildiraam\, küünlajalg\, kohver\, riiul vms)\, millele soovid koolitusel omandatud oskusi kasutades\, anda uus ilme.\nKoolitus sisaldab kõiki materjale ja vahendeid. Samuti kohvi- ja suupiste pausi. Koolitus kestab 5 h.\nKoolitusel kasutatakse Vintro kriidivärve\, vahasid ja lakke.\nOsalustasu 40.00\nP.S. Koolitusel osalejate arv on piiratud.
URL:https://huuru.ee/sundmus/kriidivarvi-koolitus/
ATTACH;FMTTYPE=image/jpeg:https://huuru.ee/wp-content/uploads/2020/11/124716142_835147807024006_4452732094995763196_n.jpg
END:VEVENT
BEGIN:VEVENT
DTSTART;TZID=Europe/Tallinn:20201122T120000
DTEND;TZID=Europe/Tallinn:20201122T140000
DTSTAMP:20260425T134235
CREATED:20201117T101316Z
LAST-MODIFIED:20201117T101404Z
UID:3193-1606046400-1606053600@huuru.ee
SUMMARY:Lastehommik Hüüru mõisas
DESCRIPTION:*12:00 Avab uksed PANNKOOGIKOHVIK\,\nolete kõik lahkesti oodatud maiustama!\n*13:00 Tuleb külla TEATER TRUMM!\n*Kohal PÄKAPIKK\, kes laste kingisoove kogub \nPILET 5€ (Saadaval kohapeal)\nKohvikus ja pileti eest saab tasuda vaid sularahas.
URL:https://huuru.ee/sundmus/lastehommik-huuru-moisas/
ATTACH;FMTTYPE=image/jpeg:https://huuru.ee/wp-content/uploads/2020/11/lastehommik-copy-page-001-1.jpg
END:VEVENT
BEGIN:VEVENT
DTSTART;TZID=Europe/Tallinn:20201123T180000
DTEND;TZID=Europe/Tallinn:20201123T200000
DTSTAMP:20260425T134235
CREATED:20201117T093212Z
LAST-MODIFIED:20201117T093212Z
UID:3169-1606154400-1606161600@huuru.ee
SUMMARY:Loodeteatri õppestuudio
DESCRIPTION:
URL:https://huuru.ee/sundmus/loodeteatri-oppestuudio-27/
END:VEVENT
BEGIN:VEVENT
DTSTART;TZID=Europe/Tallinn:20201124T160000
DTEND;TZID=Europe/Tallinn:20201124T173000
DTSTAMP:20260425T134235
CREATED:20201021T160350Z
LAST-MODIFIED:20201021T160350Z
UID:3120-1606233600-1606239000@huuru.ee
SUMMARY:Saviring lastele
DESCRIPTION:
URL:https://huuru.ee/sundmus/saviring-lastele-42/
END:VEVENT
BEGIN:VEVENT
DTSTART;TZID=Europe/Tallinn:20201124T183000
DTEND;TZID=Europe/Tallinn:20201124T193000
DTSTAMP:20260425T134235
CREATED:20201021T160012Z
LAST-MODIFIED:20201021T160012Z
UID:3112-1606242600-1606246200@huuru.ee
SUMMARY:Laste tantsutreening
DESCRIPTION:
URL:https://huuru.ee/sundmus/laste-tantsutreening-24/
END:VEVENT
BEGIN:VEVENT
DTSTART;TZID=Europe/Tallinn:20201125T180000
DTEND;TZID=Europe/Tallinn:20201125T200000
DTSTAMP:20260425T134235
CREATED:20201021T155502Z
LAST-MODIFIED:20201021T155502Z
UID:3100-1606327200-1606334400@huuru.ee
SUMMARY:Loodeteatri õppestuudio
DESCRIPTION:
URL:https://huuru.ee/sundmus/loodeteatri-oppestuudio-22/
END:VEVENT
BEGIN:VEVENT
DTSTART;TZID=Europe/Tallinn:20201126T094500
DTEND;TZID=Europe/Tallinn:20201126T123000
DTSTAMP:20260425T134235
CREATED:20201104T114306Z
LAST-MODIFIED:20201126T072442Z
UID:3151-1606383900-1606393800@huuru.ee
SUMMARY:Beebikool-jääb ära
DESCRIPTION:
URL:https://huuru.ee/sundmus/beebikool-3/
ATTACH;FMTTYPE=image/png:https://huuru.ee/wp-content/uploads/2020/11/Copy-of-Huuru-poster.png
END:VEVENT
BEGIN:VEVENT
DTSTART;TZID=Europe/Tallinn:20201126T173000
DTEND;TZID=Europe/Tallinn:20201126T200000
DTSTAMP:20260425T134235
CREATED:20201021T160719Z
LAST-MODIFIED:20201021T160719Z
UID:3128-1606411800-1606420800@huuru.ee
SUMMARY:Saviring täiskasvanutele
DESCRIPTION:
URL:https://huuru.ee/sundmus/saviring-taiskasvanutele-44/
END:VEVENT
BEGIN:VEVENT
DTSTART;TZID=Europe/Tallinn:20201130T180000
DTEND;TZID=Europe/Tallinn:20201130T200000
DTSTAMP:20260425T134235
CREATED:20201021T155117Z
LAST-MODIFIED:20201021T155117Z
UID:3092-1606759200-1606766400@huuru.ee
SUMMARY:Loodeteatri õppestuudio
DESCRIPTION:
URL:https://huuru.ee/sundmus/loodeteatri-oppestuudio-18/
END:VEVENT
BEGIN:VEVENT
DTSTART;TZID=Europe/Tallinn:20201201T160000
DTEND;TZID=Europe/Tallinn:20201201T173000
DTSTAMP:20260425T134235
CREATED:20201117T093903Z
LAST-MODIFIED:20201117T093903Z
UID:3183-1606838400-1606843800@huuru.ee
SUMMARY:Saviring lastele
DESCRIPTION:
URL:https://huuru.ee/sundmus/saviring-lastele-43/
END:VEVENT
BEGIN:VEVENT
DTSTART;TZID=Europe/Tallinn:20201202T180000
DTEND;TZID=Europe/Tallinn:20201202T200000
DTSTAMP:20260425T134235
CREATED:20201117T093416Z
LAST-MODIFIED:20201117T093416Z
UID:3175-1606932000-1606939200@huuru.ee
SUMMARY:Loodeteatri õppestuudio
DESCRIPTION:
URL:https://huuru.ee/sundmus/loodeteatri-oppestuudio-30/
END:VEVENT
BEGIN:VEVENT
DTSTART;TZID=Europe/Tallinn:20201203T173000
DTEND;TZID=Europe/Tallinn:20201203T200000
DTSTAMP:20260425T134235
CREATED:20201202T115312Z
LAST-MODIFIED:20201202T115312Z
UID:3208-1607016600-1607025600@huuru.ee
SUMMARY:Saviring täiskasvanutele
DESCRIPTION:
URL:https://huuru.ee/sundmus/saviring-taiskasvanutele-45/
END:VEVENT
BEGIN:VEVENT
DTSTART;TZID=Europe/Tallinn:20201204T173000
DTEND;TZID=Europe/Tallinn:20201204T200000
DTSTAMP:20260425T134235
CREATED:20201126T141354Z
LAST-MODIFIED:20201126T142110Z
UID:3202-1607103000-1607112000@huuru.ee
SUMMARY:Jõulupärgade töötuba
DESCRIPTION:HÜÜRU MÕISAS\, 4. detsemberil 17.30-20.00\nosalustasu 12 €\nOsalustasu sisaldab kõik vajalikud materjalid pärja meisterdamiseks.\nMeelepäraseid kaunistusi võib osaleja lisaks kaasa võtta.\nJuhendab Epp-Mari Kuusmaa\nVajalik eelregistreeriumine\ninfo@huuru.ee\ntel. 52 38 261
URL:https://huuru.ee/sundmus/joulupargade-tootuba-3/
ATTACH;FMTTYPE=image/jpeg:https://huuru.ee/wp-content/uploads/2020/11/Joulupargade-tootuba-1-page-001-1-scaled.jpg
END:VEVENT
BEGIN:VEVENT
DTSTART;TZID=Europe/Tallinn:20201205T110000
DTEND;TZID=Europe/Tallinn:20201205T140000
DTSTAMP:20260425T134235
CREATED:20201202T115448Z
LAST-MODIFIED:20201202T115459Z
UID:3210-1607166000-1607176800@huuru.ee
SUMMARY:Savitoas inglite meisterdamise töötuba
DESCRIPTION:
URL:https://huuru.ee/sundmus/savitoas-inglite-meisterdamise-tootuba/
END:VEVENT
BEGIN:VEVENT
DTSTART;TZID=Europe/Tallinn:20201207T180000
DTEND;TZID=Europe/Tallinn:20201207T200000
DTSTAMP:20260425T134235
CREATED:20201117T093117Z
LAST-MODIFIED:20201117T093129Z
UID:3165-1607364000-1607371200@huuru.ee
SUMMARY:Loodeteatri õppestuudio
DESCRIPTION:
URL:https://huuru.ee/sundmus/loodeteatri-oppestuudio-25/
END:VEVENT
BEGIN:VEVENT
DTSTART;TZID=Europe/Tallinn:20201208T160000
DTEND;TZID=Europe/Tallinn:20201208T173000
DTSTAMP:20260425T134235
CREATED:20201117T093926Z
LAST-MODIFIED:20201117T093926Z
UID:3185-1607443200-1607448600@huuru.ee
SUMMARY:Saviring lastele
DESCRIPTION:
URL:https://huuru.ee/sundmus/saviring-lastele-44/
END:VEVENT
BEGIN:VEVENT
DTSTART;TZID=Europe/Tallinn:20201209T180000
DTEND;TZID=Europe/Tallinn:20201209T200000
DTSTAMP:20260425T134235
CREATED:20201117T093644Z
LAST-MODIFIED:20201117T093644Z
UID:3181-1607536800-1607544000@huuru.ee
SUMMARY:Loodeteatri õppestuudio
DESCRIPTION:
URL:https://huuru.ee/sundmus/loodeteatri-oppestuudio-32/
END:VEVENT
BEGIN:VEVENT
DTSTART;TZID=Europe/Tallinn:20201210T173000
DTEND;TZID=Europe/Tallinn:20201210T200000
DTSTAMP:20260425T134235
CREATED:20201202T115548Z
LAST-MODIFIED:20201202T115548Z
UID:3213-1607621400-1607630400@huuru.ee
SUMMARY:Saviring täiskasvanutele
DESCRIPTION:
URL:https://huuru.ee/sundmus/saviring-taiskasvanutele-46/
END:VEVENT
BEGIN:VEVENT
DTSTART;TZID=Europe/Tallinn:20201214T180000
DTEND;TZID=Europe/Tallinn:20201214T200000
DTSTAMP:20260425T134235
CREATED:20201117T093346Z
LAST-MODIFIED:20201117T093346Z
UID:3173-1607968800-1607976000@huuru.ee
SUMMARY:Loodeteatri õppestuudio
DESCRIPTION:
URL:https://huuru.ee/sundmus/loodeteatri-oppestuudio-29/
END:VEVENT
BEGIN:VEVENT
DTSTART;TZID=Europe/Tallinn:20201215T160000
DTEND;TZID=Europe/Tallinn:20201215T173000
DTSTAMP:20260425T134235
CREATED:20201117T093947Z
LAST-MODIFIED:20201218T095447Z
UID:3187-1608048000-1608053400@huuru.ee
SUMMARY:Saviring lastele toimub individuaalõpe korras
DESCRIPTION:
URL:https://huuru.ee/sundmus/saviring-lastele-45/
END:VEVENT
BEGIN:VEVENT
DTSTART;TZID=Europe/Tallinn:20201216T180000
DTEND;TZID=Europe/Tallinn:20201216T200000
DTSTAMP:20260425T134235
CREATED:20201117T093617Z
LAST-MODIFIED:20201117T093617Z
UID:3179-1608141600-1608148800@huuru.ee
SUMMARY:Loodeteatri õppestuudio
DESCRIPTION:
URL:https://huuru.ee/sundmus/loodeteatri-oppestuudio-31/
END:VEVENT
BEGIN:VEVENT
DTSTART;TZID=Europe/Tallinn:20201218T180000
DTEND;TZID=Europe/Tallinn:20201218T200000
DTSTAMP:20260425T134235
CREATED:20201207T164516Z
LAST-MODIFIED:20201207T164516Z
UID:3216-1608314400-1608321600@huuru.ee
SUMMARY:Jõulukuuse ehtimise töötuba Taivo Pilleri juhendamisel
DESCRIPTION:Jõulukuuse ehtimise traditsioonidest ja trendidest. \nSHISHI jõuluehete soetamise võimalus.\nTöötoa osalustasu 5€\, osalejate arv on piiratud. \nPalume tulekust teada anda: info@huuru.ee või telefonil 52 38 261
URL:https://huuru.ee/sundmus/joulukuuse-ehtimise-tootuba-taivo-pilleri-juhendamisel/
ATTACH;FMTTYPE=image/jpeg:https://huuru.ee/wp-content/uploads/2020/12/Christmas-Party-Poster-1-page-001-scaled.jpg
END:VEVENT
BEGIN:VEVENT
DTSTART;TZID=Europe/Tallinn:20201220T160000
DTEND;TZID=Europe/Tallinn:20201220T180000
DTSTAMP:20260425T134235
CREATED:20201127T121053Z
LAST-MODIFIED:20201127T121053Z
UID:3205-1608480000-1608487200@huuru.ee
SUMMARY:Hüüru küla laste jõulupidu
DESCRIPTION:Hea Hüüru küla laps vanuses 10. eluaastat k.a. 20.12.2020 kell 16.00 ootame Sind Hüüru mõisa  \nJõuluetendusele\, külla tuleb JÕULUVANA! \nEt jõuluvana teaks palju kingitusi kaasa võtta\, palume lapse nime\, vanuse ja aadressi teada anda \nkuni 10.12.2020 telefonil 52 38 261 või info@huuru.ee \nosavõtutasu 5€ palume kanda MTÜ Hüüru külaseltsi arvele EE862200221041509459 \nselgituseks lapse nimi
URL:https://huuru.ee/sundmus/huuru-kula-laste-joulupidu-3/
ATTACH;FMTTYPE=image/jpeg:https://huuru.ee/wp-content/uploads/2020/11/Evans-Family-Reunion-page-001.jpg
END:VEVENT
BEGIN:VEVENT
DTSTART;TZID=Europe/Tallinn:20201221T180000
DTEND;TZID=Europe/Tallinn:20201221T200000
DTSTAMP:20260425T134235
CREATED:20201117T093248Z
LAST-MODIFIED:20201117T093320Z
UID:3171-1608573600-1608580800@huuru.ee
SUMMARY:Loodeteatri õppestuudio
DESCRIPTION:
URL:https://huuru.ee/sundmus/loodeteatri-oppestuudio-28/
END:VEVENT
BEGIN:VEVENT
DTSTART;TZID=Europe/Tallinn:20201222T160000
DTEND;TZID=Europe/Tallinn:20201222T173000
DTSTAMP:20260425T134235
CREATED:20201117T094029Z
LAST-MODIFIED:20201218T095400Z
UID:3189-1608652800-1608658200@huuru.ee
SUMMARY:Saviring lastele\, toimub individuaalõpe korras
DESCRIPTION:
URL:https://huuru.ee/sundmus/saviring-lastele-46/
END:VEVENT
BEGIN:VEVENT
DTSTART;TZID=Europe/Tallinn:20201223T180000
DTEND;TZID=Europe/Tallinn:20201223T200000
DTSTAMP:20260425T134235
CREATED:20201021T155331Z
LAST-MODIFIED:20201021T155432Z
UID:3098-1608746400-1608753600@huuru.ee
SUMMARY:Loodeteatri õppestuudio
DESCRIPTION:
URL:https://huuru.ee/sundmus/loodeteatri-oppestuudio-21/
END:VEVENT
BEGIN:VEVENT
DTSTART;TZID=Europe/Tallinn:20201229T160000
DTEND;TZID=Europe/Tallinn:20201229T173000
DTSTAMP:20260425T134235
CREATED:20201117T094431Z
LAST-MODIFIED:20201218T095420Z
UID:3191-1609257600-1609263000@huuru.ee
SUMMARY:Saviring lastele toimub individuaalõpe korras
DESCRIPTION:
URL:https://huuru.ee/sundmus/saviring-lastele-47/
END:VEVENT
END:VCALENDAR