BEGIN:VCALENDAR
VERSION:2.0
PRODID:-//H&uuml;&uuml;ru m&otilde;is - ECPv6.15.20//NONSGML v1.0//EN
CALSCALE:GREGORIAN
METHOD:PUBLISH
X-WR-CALNAME:H&uuml;&uuml;ru m&otilde;is
X-ORIGINAL-URL:https://huuru.ee
X-WR-CALDESC:Events for H&uuml;&uuml;ru m&otilde;is
REFRESH-INTERVAL;VALUE=DURATION:PT1H
X-Robots-Tag:noindex
X-PUBLISHED-TTL:PT1H
BEGIN:VTIMEZONE
TZID:Europe/Tallinn
BEGIN:DAYLIGHT
TZOFFSETFROM:+0200
TZOFFSETTO:+0300
TZNAME:EEST
DTSTART:20200329T010000
END:DAYLIGHT
BEGIN:STANDARD
TZOFFSETFROM:+0300
TZOFFSETTO:+0200
TZNAME:EET
DTSTART:20201025T010000
END:STANDARD
BEGIN:DAYLIGHT
TZOFFSETFROM:+0200
TZOFFSETTO:+0300
TZNAME:EEST
DTSTART:20210328T010000
END:DAYLIGHT
BEGIN:STANDARD
TZOFFSETFROM:+0300
TZOFFSETTO:+0200
TZNAME:EET
DTSTART:20211031T010000
END:STANDARD
BEGIN:DAYLIGHT
TZOFFSETFROM:+0200
TZOFFSETTO:+0300
TZNAME:EEST
DTSTART:20220327T010000
END:DAYLIGHT
BEGIN:STANDARD
TZOFFSETFROM:+0300
TZOFFSETTO:+0200
TZNAME:EET
DTSTART:20221030T010000
END:STANDARD
END:VTIMEZONE
BEGIN:VEVENT
DTSTART;TZID=Europe/Tallinn:20210826T130000
DTEND;TZID=Europe/Tallinn:20210826T200000
DTSTAMP:20260426T041234
CREATED:20210803T063047Z
LAST-MODIFIED:20210803T063047Z
UID:3532-1629982800-1630008000@huuru.ee
SUMMARY:Saviring lastele ja täiskasvanutele suvine vabagraafik
DESCRIPTION:
URL:https://huuru.ee/sundmus/saviring-lastele-ja-taiskasvanutele-suvine-vabagraafik-15/
END:VEVENT
BEGIN:VEVENT
DTSTART;TZID=Europe/Tallinn:20210826T190000
DTEND;TZID=Europe/Tallinn:20210826T203000
DTSTAMP:20260426T041234
CREATED:20210711T052334Z
LAST-MODIFIED:20210711T052334Z
UID:3488-1630004400-1630009800@huuru.ee
SUMMARY:"Sinihabe" etendus
DESCRIPTION:“Sinihabe” Amelie Nothomb\nKui tuba Pariisi eliitrajoonis renditakse välja naeruväärse summa eest ning eelmised kaheksa üürnikku on salapärastel põhjustel kadunud\, peaks kõik näima piisavalt kahtlane\, kuid noor kunstiõpetaja Saturine vajab kiiresti elukohta ja otsustab neid fakte ignoreerida. Villa omanikust  aristokraat  ei käi kunagi majast väljas väites\, et maailm oma argisuses on labane ja igav. Igaõhtustest elektrit täis vestlustest hakkavad kooruma mehe motiivid ja tema hoitud saladused…..\n Kirgiküttev isikuandmete kaitse määrus on heaks fooniks loole\, kus teema veereb õiguse omada privaatsust ja saladust ning kokkuleppe rikkumisele järgneva karistuse vahel. Aadlik  on lõpetanud väljaskäimise 90ndatel\, ta ei oma arvutit\, ega tea midagi kaasaegsest tehnoloogiast\, rääkimata sotsiaalvõrgustikest. Just see muudab ta vanamoeliseks\,aegunuks\, imelikuks. Sotsiaalsuse on ta asendanud muude tegevuste ja hobidega\, talle on oluline tema isiklik ruum ning õigus omada saladust. Ning kui privaatsust on rikutud ning karistus on järgnenud\, siis kes on süüdi? Karistuse määraja või reeglite rikkuja? Inimene\, olgu ta nii intelligentne ja nii rikas kui tahes\, ei suuda loobuda täiuslikkuse püüdlusest ja kaotab selle nimel tihti reaalsustaju. Ta hakkab ennast pidama jumalaks. Kindlasti on see lugu ka eksiilist- nii füüsilisest kui mentaalsest.\nLoo autor Amélie Nothomb (sündinud 1966) on hinnatud Belgia kirjanik. Ta on avaldanud 14 romaani ja võitnud 1999. aastal Belgia romaaniauhinna. Nothomb´i sulest on eesti keeles varem ilmunud  veel “Jumala lapsepõlv”\, “Jahmatus ja värinad” ja “Armastuse sõda”.  2002. aastal ilmunud „Vaenlase kosmeetika” on lavale jõudnud aga kahel korral – 2006. aastal VAT Teatris (lav.Peeter Raudsepp) ja 2015. aastal Vene Teatris (lav. Artjom Garejev).\n\nAutor: Amelie Nothomb\nTõlkija: Pille Kruus\nDramatiseering: Margo Teder\, Triin Hook\nLavastaja: Margo Teder (VAT Teater)\nKunstnik: Liina Unt (teater „Endla“)\nMuusikaline kujundaja: Peeter Rebane\nLiikumisjuht: Olga Privis (Vene Teater)\nValguskujundaja: Triin Hook\nOsades: Karolin Jürise ja Lauri Saatpalu\nFoto autor: Marie Cecilie Thijs (Cat with a white collar)\nPlakati kujundus: Kaire van der Toorn-Guthan\nVideo kujundus: Umut Vedat\nProdutsent: Triin Hook\n\nEtendused: 24-28. juulil kell 19 Hüüru mõisa saalis (Harjumaal\, Saue vallas\, Jõe tn 2.).\nPiletid müügil https://www.piletilevi.ee/est/piletid/sinihabe-73847/\n\nEtendus kestab ilma vaheajata 1 tund ja 30 minutit.\nAlla 14. aastastele ei soovita.\nIstumine on vaba ja hajutatult\, kõikidelt istekohtadelt näeb hästi!
URL:https://huuru.ee/sundmus/sinihabe-etendus-12/
END:VEVENT
BEGIN:VEVENT
DTSTART;TZID=Europe/Tallinn:20210827T190000
DTEND;TZID=Europe/Tallinn:20210827T203000
DTSTAMP:20260426T041234
CREATED:20210711T052420Z
LAST-MODIFIED:20210711T052420Z
UID:3490-1630090800-1630096200@huuru.ee
SUMMARY:"Sinihabe" etendus
DESCRIPTION:“Sinihabe” Amelie Nothomb\nKui tuba Pariisi eliitrajoonis renditakse välja naeruväärse summa eest ning eelmised kaheksa üürnikku on salapärastel põhjustel kadunud\, peaks kõik näima piisavalt kahtlane\, kuid noor kunstiõpetaja Saturine vajab kiiresti elukohta ja otsustab neid fakte ignoreerida. Villa omanikust  aristokraat  ei käi kunagi majast väljas väites\, et maailm oma argisuses on labane ja igav. Igaõhtustest elektrit täis vestlustest hakkavad kooruma mehe motiivid ja tema hoitud saladused…..\n Kirgiküttev isikuandmete kaitse määrus on heaks fooniks loole\, kus teema veereb õiguse omada privaatsust ja saladust ning kokkuleppe rikkumisele järgneva karistuse vahel. Aadlik  on lõpetanud väljaskäimise 90ndatel\, ta ei oma arvutit\, ega tea midagi kaasaegsest tehnoloogiast\, rääkimata sotsiaalvõrgustikest. Just see muudab ta vanamoeliseks\,aegunuks\, imelikuks. Sotsiaalsuse on ta asendanud muude tegevuste ja hobidega\, talle on oluline tema isiklik ruum ning õigus omada saladust. Ning kui privaatsust on rikutud ning karistus on järgnenud\, siis kes on süüdi? Karistuse määraja või reeglite rikkuja? Inimene\, olgu ta nii intelligentne ja nii rikas kui tahes\, ei suuda loobuda täiuslikkuse püüdlusest ja kaotab selle nimel tihti reaalsustaju. Ta hakkab ennast pidama jumalaks. Kindlasti on see lugu ka eksiilist- nii füüsilisest kui mentaalsest.\nLoo autor Amélie Nothomb (sündinud 1966) on hinnatud Belgia kirjanik. Ta on avaldanud 14 romaani ja võitnud 1999. aastal Belgia romaaniauhinna. Nothomb´i sulest on eesti keeles varem ilmunud  veel “Jumala lapsepõlv”\, “Jahmatus ja värinad” ja “Armastuse sõda”.  2002. aastal ilmunud „Vaenlase kosmeetika” on lavale jõudnud aga kahel korral – 2006. aastal VAT Teatris (lav.Peeter Raudsepp) ja 2015. aastal Vene Teatris (lav. Artjom Garejev).\n\nAutor: Amelie Nothomb\nTõlkija: Pille Kruus\nDramatiseering: Margo Teder\, Triin Hook\nLavastaja: Margo Teder (VAT Teater)\nKunstnik: Liina Unt (teater „Endla“)\nMuusikaline kujundaja: Peeter Rebane\nLiikumisjuht: Olga Privis (Vene Teater)\nValguskujundaja: Triin Hook\nOsades: Karolin Jürise ja Lauri Saatpalu\nFoto autor: Marie Cecilie Thijs (Cat with a white collar)\nPlakati kujundus: Kaire van der Toorn-Guthan\nVideo kujundus: Umut Vedat\nProdutsent: Triin Hook\n\nEtendused: 24-28. juulil kell 19 Hüüru mõisa saalis (Harjumaal\, Saue vallas\, Jõe tn 2.).\nPiletid müügil https://www.piletilevi.ee/est/piletid/sinihabe-73847/\n\nEtendus kestab ilma vaheajata 1 tund ja 30 minutit.\nAlla 14. aastastele ei soovita.\nIstumine on vaba ja hajutatult\, kõikidelt istekohtadelt näeb hästi!
URL:https://huuru.ee/sundmus/sinihabe-etendus-13/
END:VEVENT
BEGIN:VEVENT
DTSTART;TZID=Europe/Tallinn:20210828T190000
DTEND;TZID=Europe/Tallinn:20210828T203000
DTSTAMP:20260426T041234
CREATED:20210711T052522Z
LAST-MODIFIED:20210711T052522Z
UID:3492-1630177200-1630182600@huuru.ee
SUMMARY:"Sinihabe" etendus
DESCRIPTION:“Sinihabe” Amelie Nothomb\nKui tuba Pariisi eliitrajoonis renditakse välja naeruväärse summa eest ning eelmised kaheksa üürnikku on salapärastel põhjustel kadunud\, peaks kõik näima piisavalt kahtlane\, kuid noor kunstiõpetaja Saturine vajab kiiresti elukohta ja otsustab neid fakte ignoreerida. Villa omanikust  aristokraat  ei käi kunagi majast väljas väites\, et maailm oma argisuses on labane ja igav. Igaõhtustest elektrit täis vestlustest hakkavad kooruma mehe motiivid ja tema hoitud saladused…..\n Kirgiküttev isikuandmete kaitse määrus on heaks fooniks loole\, kus teema veereb õiguse omada privaatsust ja saladust ning kokkuleppe rikkumisele järgneva karistuse vahel. Aadlik  on lõpetanud väljaskäimise 90ndatel\, ta ei oma arvutit\, ega tea midagi kaasaegsest tehnoloogiast\, rääkimata sotsiaalvõrgustikest. Just see muudab ta vanamoeliseks\,aegunuks\, imelikuks. Sotsiaalsuse on ta asendanud muude tegevuste ja hobidega\, talle on oluline tema isiklik ruum ning õigus omada saladust. Ning kui privaatsust on rikutud ning karistus on järgnenud\, siis kes on süüdi? Karistuse määraja või reeglite rikkuja? Inimene\, olgu ta nii intelligentne ja nii rikas kui tahes\, ei suuda loobuda täiuslikkuse püüdlusest ja kaotab selle nimel tihti reaalsustaju. Ta hakkab ennast pidama jumalaks. Kindlasti on see lugu ka eksiilist- nii füüsilisest kui mentaalsest.\nLoo autor Amélie Nothomb (sündinud 1966) on hinnatud Belgia kirjanik. Ta on avaldanud 14 romaani ja võitnud 1999. aastal Belgia romaaniauhinna. Nothomb´i sulest on eesti keeles varem ilmunud  veel “Jumala lapsepõlv”\, “Jahmatus ja värinad” ja “Armastuse sõda”.  2002. aastal ilmunud „Vaenlase kosmeetika” on lavale jõudnud aga kahel korral – 2006. aastal VAT Teatris (lav.Peeter Raudsepp) ja 2015. aastal Vene Teatris (lav. Artjom Garejev).\n\nAutor: Amelie Nothomb\nTõlkija: Pille Kruus\nDramatiseering: Margo Teder\, Triin Hook\nLavastaja: Margo Teder (VAT Teater)\nKunstnik: Liina Unt (teater „Endla“)\nMuusikaline kujundaja: Peeter Rebane\nLiikumisjuht: Olga Privis (Vene Teater)\nValguskujundaja: Triin Hook\nOsades: Karolin Jürise ja Lauri Saatpalu\nFoto autor: Marie Cecilie Thijs (Cat with a white collar)\nPlakati kujundus: Kaire van der Toorn-Guthan\nVideo kujundus: Umut Vedat\nProdutsent: Triin Hook\n\nEtendused: 24-28. juulil kell 19 Hüüru mõisa saalis (Harjumaal\, Saue vallas\, Jõe tn 2.).\nPiletid müügil https://www.piletilevi.ee/est/piletid/sinihabe-73847/\n\nEtendus kestab ilma vaheajata 1 tund ja 30 minutit.\nAlla 14. aastastele ei soovita.\nIstumine on vaba ja hajutatult\, kõikidelt istekohtadelt näeb hästi!
URL:https://huuru.ee/sundmus/sinihabe-etendus-14/
END:VEVENT
BEGIN:VEVENT
DTSTART;TZID=Europe/Tallinn:20210829T120000
DTEND;TZID=Europe/Tallinn:20210829T170000
DTSTAMP:20260426T041234
CREATED:20210819T120843Z
LAST-MODIFIED:20220525T093543Z
UID:3547-1630238400-1630256400@huuru.ee
SUMMARY:Kriidivärvi koolitus\, projekt "Hüüru kogukonnakeskuse rohelised töötoad"
DESCRIPTION:Kriidivärvi koolitus pakub võimalust omandada teadmisi ja oskusi\, kuidas värskendada\, vanutada ja dekoreerida erinevast materjalist esemeid ja pindasid. \nKui tahad teada\,- mis on kriidivärv- kuidas kasutada kriidivärvi- mida saab kriidivärviga värvida ning tahad proovida;-kuidas erinevaid tehnikaid (pahtel-\, šabloon-\, decoupage-\, kahe värvi-\, kuiva pintsli- ja kraklee-) kasutades saab luua põnevaid tekstuure-kuidas kriidivärve omavahel segades luua erinevaid toone ja varje- kuidas valmistada ja kasutada värvilist viimistlusvaha- kuidas metalsete värvidega lisada luksust ja sära…- kuidas proovitud tehnikaid kasutades disainida endale isikupärane mööbliese või mõni muu sisustusaksessuaar\, siis anna oma tulekust teada hiljemalt \n27. augustiks info@huuru.ee \nKoolitusele võta kaasa ese (tool\, pildiraam\, küünlajalg\, kohver\, riiul vms)\, millele soovid anda uus ilme. \nKoolitus sisaldab kõiki materjale ja vahendeid. \nOsalustasu 15.00 \nRoheliste töötubade projekt Hüüru mõisa käsitöötoas on ellu kutsutud Nelja valla kogu Vihmavarjuprojekti Leader projektitaotluse toel
URL:https://huuru.ee/sundmus/kriidivarvi-koolitus-2/
ATTACH;FMTTYPE=image/jpeg:https://huuru.ee/wp-content/uploads/2021/08/2021.08.29_kriidivarvi-tootuba-page-001-scaled.jpg
END:VEVENT
BEGIN:VEVENT
DTSTART;TZID=Europe/Tallinn:20210831T130000
DTEND;TZID=Europe/Tallinn:20210831T200000
DTSTAMP:20260426T041234
CREATED:20210901T092806Z
LAST-MODIFIED:20210901T092806Z
UID:3585-1630414800-1630440000@huuru.ee
SUMMARY:Saviring lastele ja täiskasvanutele suvine vabagraafik
DESCRIPTION:
URL:https://huuru.ee/sundmus/saviring-lastele-ja-taiskasvanutele-suvine-vabagraafik-16/
END:VEVENT
BEGIN:VEVENT
DTSTART;TZID=Europe/Tallinn:20210902T130000
DTEND;TZID=Europe/Tallinn:20210902T200000
DTSTAMP:20260426T041234
CREATED:20210901T090920Z
LAST-MODIFIED:20210901T090920Z
UID:3551-1630587600-1630612800@huuru.ee
SUMMARY:Saviring täiskasvanutele
DESCRIPTION:
URL:https://huuru.ee/sundmus/saviring-taiskasvanutele-58/
END:VEVENT
BEGIN:VEVENT
DTSTART;TZID=Europe/Tallinn:20210902T180000
DTEND;TZID=Europe/Tallinn:20210902T183000
DTSTAMP:20260426T041234
CREATED:20210901T090949Z
LAST-MODIFIED:20210901T091010Z
UID:3553-1630605600-1630607400@huuru.ee
SUMMARY:Hüüru külaseltsi koosolek
DESCRIPTION:
URL:https://huuru.ee/sundmus/huuru-kulaseltsi-koosolek-28/
END:VEVENT
BEGIN:VEVENT
DTSTART;TZID=Europe/Tallinn:20210904T100000
DTEND;TZID=Europe/Tallinn:20210904T150000
DTSTAMP:20260426T041234
CREATED:20210706T185649Z
LAST-MODIFIED:20210812T180803Z
UID:3466-1630749600-1630767600@huuru.ee
SUMMARY:Hüüru sügislaat
DESCRIPTION:Kauplemine käsitöö\, talutoodangu ja taimedega\, laadaloos\, mõisakohviku hõrgutised!\nKauplejaks registreerumine kuni 1. septembrini kontaktidel: info@huuru.ee tel. 52 38 261\, 60 71 358
URL:https://huuru.ee/sundmus/huuru-sugislaat-3/
ATTACH;FMTTYPE=image/jpeg:https://huuru.ee/wp-content/uploads/2021/07/Lots-of-great-affordable-items-Everything-must-go-page-001-scaled.jpg
END:VEVENT
BEGIN:VEVENT
DTSTART;TZID=Europe/Tallinn:20210907T103000
DTEND;TZID=Europe/Tallinn:20210907T113000
DTSTAMP:20260426T041234
CREATED:20210901T091554Z
LAST-MODIFIED:20210901T091554Z
UID:3565-1631010600-1631014200@huuru.ee
SUMMARY:Beebikool 1-2 aastased
DESCRIPTION:
URL:https://huuru.ee/sundmus/beebikool-1-2-aastased/
ATTACH;FMTTYPE=image/jpeg:https://huuru.ee/wp-content/uploads/2021/09/BEEBIKOOL-HUURU-MOISAS-1-page-001-scaled.jpg
END:VEVENT
BEGIN:VEVENT
DTSTART;TZID=Europe/Tallinn:20210907T113000
DTEND;TZID=Europe/Tallinn:20210907T123000
DTSTAMP:20260426T041234
CREATED:20210901T091642Z
LAST-MODIFIED:20210901T091722Z
UID:3568-1631014200-1631017800@huuru.ee
SUMMARY:Beebikool 0-12 kuud
DESCRIPTION:
URL:https://huuru.ee/sundmus/beebikool-10/
ATTACH;FMTTYPE=image/jpeg:https://huuru.ee/wp-content/uploads/2021/09/BEEBIKOOL-HUURU-MOISAS-1-page-001-scaled.jpg
END:VEVENT
BEGIN:VEVENT
DTSTART;TZID=Europe/Tallinn:20210907T160000
DTEND;TZID=Europe/Tallinn:20210907T173000
DTSTAMP:20260426T041234
CREATED:20210901T091043Z
LAST-MODIFIED:20210901T091043Z
UID:3555-1631030400-1631035800@huuru.ee
SUMMARY:Saviring lastele
DESCRIPTION:
URL:https://huuru.ee/sundmus/saviring-lastele-58/
END:VEVENT
BEGIN:VEVENT
DTSTART;TZID=Europe/Tallinn:20210909T130000
DTEND;TZID=Europe/Tallinn:20210909T200000
DTSTAMP:20260426T041234
CREATED:20210901T091110Z
LAST-MODIFIED:20210901T091110Z
UID:3557-1631192400-1631217600@huuru.ee
SUMMARY:Saviring täiskasvanutele
DESCRIPTION:
URL:https://huuru.ee/sundmus/saviring-taiskasvanutele-59/
END:VEVENT
BEGIN:VEVENT
DTSTART;TZID=Europe/Tallinn:20210913T190000
DTEND;TZID=Europe/Tallinn:20210913T200000
DTSTAMP:20260426T041234
CREATED:20210901T092610Z
LAST-MODIFIED:20210901T092610Z
UID:3583-1631559600-1631563200@huuru.ee
SUMMARY:Loodeteatri stuudio katsed uutele trupi liikmetele
DESCRIPTION:
URL:https://huuru.ee/sundmus/loodeteatri-stuudio-katsed-uutele-trupi-liikmetele/
END:VEVENT
BEGIN:VEVENT
DTSTART;TZID=Europe/Tallinn:20210914T103000
DTEND;TZID=Europe/Tallinn:20210914T113000
DTSTAMP:20260426T041234
CREATED:20210901T092907Z
LAST-MODIFIED:20210901T092907Z
UID:3587-1631615400-1631619000@huuru.ee
SUMMARY:Beebikool 1-2 aastased
DESCRIPTION:
URL:https://huuru.ee/sundmus/beebikool-1-2-aastased-2/
END:VEVENT
BEGIN:VEVENT
DTSTART;TZID=Europe/Tallinn:20210914T113000
DTEND;TZID=Europe/Tallinn:20210914T123000
DTSTAMP:20260426T041234
CREATED:20210901T092955Z
LAST-MODIFIED:20210901T093101Z
UID:3589-1631619000-1631622600@huuru.ee
SUMMARY:Beebikool 0-12 kuused
DESCRIPTION:
URL:https://huuru.ee/sundmus/beebikool-0-12-kuused/
ATTACH;FMTTYPE=image/jpeg:https://huuru.ee/wp-content/uploads/2021/09/BEEBIKOOL-HUURU-MOISAS-1-page-001-scaled.jpg
END:VEVENT
BEGIN:VEVENT
DTSTART;TZID=Europe/Tallinn:20210914T150000
DTEND;TZID=Europe/Tallinn:20210914T200000
DTSTAMP:20260426T041234
CREATED:20210901T092217Z
LAST-MODIFIED:20210901T092217Z
UID:3577-1631631600-1631649600@huuru.ee
SUMMARY:Massaaž
DESCRIPTION:
URL:https://huuru.ee/sundmus/massaaz/
END:VEVENT
BEGIN:VEVENT
DTSTART;TZID=Europe/Tallinn:20210914T160000
DTEND;TZID=Europe/Tallinn:20210914T173000
DTSTAMP:20260426T041234
CREATED:20210901T091212Z
LAST-MODIFIED:20210901T091212Z
UID:3559-1631635200-1631640600@huuru.ee
SUMMARY:Saviring lastele
DESCRIPTION:
URL:https://huuru.ee/sundmus/saviring-lastele-60/
END:VEVENT
BEGIN:VEVENT
DTSTART;TZID=Europe/Tallinn:20210916T130000
DTEND;TZID=Europe/Tallinn:20210916T200000
DTSTAMP:20260426T041234
CREATED:20210901T091249Z
LAST-MODIFIED:20210901T091249Z
UID:3561-1631797200-1631822400@huuru.ee
SUMMARY:Saviring täiskasvanutele
DESCRIPTION:
URL:https://huuru.ee/sundmus/saviring-taiskasvanutele-60/
END:VEVENT
BEGIN:VEVENT
DTSTART;TZID=Europe/Tallinn:20210916T180000
DTEND;TZID=Europe/Tallinn:20210916T180000
DTSTAMP:20260426T041234
CREATED:20210901T092452Z
LAST-MODIFIED:20210901T092452Z
UID:3581-1631815200-1631815200@huuru.ee
SUMMARY:Näitekunstistuudio noortele
DESCRIPTION:
URL:https://huuru.ee/sundmus/naitekunstistuudio-noortele/
END:VEVENT
BEGIN:VEVENT
DTSTART;TZID=Europe/Tallinn:20210918T095500
DTEND;TZID=Europe/Tallinn:20210918T102000
DTSTAMP:20260426T041234
CREATED:20210902T115520Z
LAST-MODIFIED:20210909T062602Z
UID:3595-1631958900-1631960400@huuru.ee
SUMMARY:Ohtlike ja elektroonikajäätmete ning vanarehvide kogumisring
DESCRIPTION:Kogumisringide ajal kogutakse Saue valla elanikelt kokku kodumajapidamises tekkivaid ohtlikke jäätmeid\, velgedeta vanarehve\, elektroonikajäätmeid ja eterniiti.\n\nAsutused ja ettevõtted peavad jäätmed (sh vanarehvid ja eterniidi) ise üle andma otselepingutega vastavatele jäätmekäitlusettevõtetele.\n\nVanarehvid peavad olema velgedeta ja suurema mustuseta (st rehvi sisemuses ei tohi olla mulda\, lehti vms). Mulla alt välja kaevatud või näiteks põllumajanduses muuks otstarbeks kasutatud määrdunud rehve tuleb enne üleandmist puhastada.\n\nEterniiti võetakse vastu igalt inimeselt kuni 2m3.\nLisainfo: https://sauevald.ee/et/jaatmeringid
URL:https://huuru.ee/sundmus/ohtlike-ja-elektroonikajaatmete-ning-vanarehvide-kogumisring-2/
LOCATION:Hüüru Mõis\, Jõe tee 2\,\, Saue vald\, Hüüru\, 76911\, Eesti
END:VEVENT
BEGIN:VEVENT
DTSTART;TZID=Europe/Tallinn:20210920T180000
DTEND;TZID=Europe/Tallinn:20210920T200000
DTSTAMP:20260426T041234
CREATED:20210902T111253Z
LAST-MODIFIED:20210902T111253Z
UID:3591-1632160800-1632168000@huuru.ee
SUMMARY:Loodeteatri õppestuudio
DESCRIPTION:
URL:https://huuru.ee/sundmus/loodeteatri-oppestuudio-37/
END:VEVENT
BEGIN:VEVENT
DTSTART;TZID=Europe/Tallinn:20210921T103000
DTEND;TZID=Europe/Tallinn:20210921T113000
DTSTAMP:20260426T041234
CREATED:20210922T150638Z
LAST-MODIFIED:20210922T150638Z
UID:3650-1632220200-1632223800@huuru.ee
SUMMARY:Beebikool
DESCRIPTION:
URL:https://huuru.ee/sundmus/beebikool-15/
END:VEVENT
BEGIN:VEVENT
DTSTART;TZID=Europe/Tallinn:20210921T150000
DTEND;TZID=Europe/Tallinn:20210921T200000
DTSTAMP:20260426T041234
CREATED:20210901T092300Z
LAST-MODIFIED:20210901T092300Z
UID:3579-1632236400-1632254400@huuru.ee
SUMMARY:Massaaž
DESCRIPTION:
URL:https://huuru.ee/sundmus/massaaz-2/
END:VEVENT
BEGIN:VEVENT
DTSTART;TZID=Europe/Tallinn:20210921T160000
DTEND;TZID=Europe/Tallinn:20210921T173000
DTSTAMP:20260426T041234
CREATED:20210901T091340Z
LAST-MODIFIED:20210901T091346Z
UID:3563-1632240000-1632245400@huuru.ee
SUMMARY:Saviring lastele
DESCRIPTION:
URL:https://huuru.ee/sundmus/saviring-lastele-61/
END:VEVENT
BEGIN:VEVENT
DTSTART;TZID=Europe/Tallinn:20210922T183000
DTEND;TZID=Europe/Tallinn:20210922T194500
DTSTAMP:20260426T041234
CREATED:20210902T125015Z
LAST-MODIFIED:20210902T125015Z
UID:3607-1632335400-1632339900@huuru.ee
SUMMARY:Alustab "Revalia" seltskonnatantsukursus edasijõudnutele
DESCRIPTION:
URL:https://huuru.ee/sundmus/alustab-revalia-seltskonnatantsukursus-edasijoudnutele-2/
END:VEVENT
BEGIN:VEVENT
DTSTART;TZID=Europe/Tallinn:20210922T194500
DTEND;TZID=Europe/Tallinn:20210922T210000
DTSTAMP:20260426T041234
CREATED:20210902T124541Z
LAST-MODIFIED:20210902T124541Z
UID:3597-1632339900-1632344400@huuru.ee
SUMMARY:Alustab "Revalia" seltskonnatantsukursus algajatele
DESCRIPTION:
URL:https://huuru.ee/sundmus/alustab-revalia-seltskonnatantsukursus-algajatele/
ATTACH;FMTTYPE=image/jpeg:https://huuru.ee/wp-content/uploads/2021/09/revalia_hyyru_FB_1080x1080px.jpg
END:VEVENT
BEGIN:VEVENT
DTSTART;TZID=Europe/Tallinn:20210923T130000
DTEND;TZID=Europe/Tallinn:20210923T200000
DTSTAMP:20260426T041234
CREATED:20210901T091803Z
LAST-MODIFIED:20210901T091803Z
UID:3571-1632402000-1632427200@huuru.ee
SUMMARY:Saviring täiskasvanutele
DESCRIPTION:
URL:https://huuru.ee/sundmus/saviring-taiskasvanutele-61/
END:VEVENT
BEGIN:VEVENT
DTSTART;TZID=Europe/Tallinn:20210924T170000
DTEND;TZID=Europe/Tallinn:20210924T200000
DTSTAMP:20260426T041234
CREATED:20210910T094845Z
LAST-MODIFIED:20220525T093500Z
UID:3614-1632502800-1632513600@huuru.ee
SUMMARY:Töötuba "Vanast triiksärgist põll" projekt "Hüüru kogukonnakeskuse rohelised töötoad"
DESCRIPTION:Nelja Valla Kogu Vihmavarjuprojekti rahasuse toel\, toimub järjekordne roheline töötuba: “Vanast triiksärgist põll”. Töötoas osalemine on võimalik kahel päeval 24.09 algusega kella 17.00 ja 25.00 algusega kella 12.00.\nTöötoa hind on 15€. Kõik vajalikud materjalid kohapeal olemas. Võimalusel tule oma õmblusmasinaga ja soovi korral võid endale meelepärast riidekraami põlle õmblemiseks lisaks tuua. \nLisainfo ja registreerumine: info@huuru.ee\nHüüru mõisas toimub huviringi tegevus COVID tõendi või kohapealse kiirtesti alusel.
URL:https://huuru.ee/sundmus/roheline-tootuba-vanast-triiksargist-poll/
ATTACH;FMTTYPE=image/jpeg:https://huuru.ee/wp-content/uploads/2021/09/24-25.09_polle-tootuba-page-001-scaled.jpg
END:VEVENT
BEGIN:VEVENT
DTSTART;TZID=Europe/Tallinn:20210925T120000
DTEND;TZID=Europe/Tallinn:20210925T150000
DTSTAMP:20260426T041234
CREATED:20210910T095513Z
LAST-MODIFIED:20220525T093427Z
UID:3617-1632571200-1632582000@huuru.ee
SUMMARY:Töötuba "Vanast triiksärgist põll" projekt "Hüüru kogukonnakeskuse rohelised töötoad"
DESCRIPTION:Nelja Valla Kogu Vihmavarjuprojekti rahasuse toel\, toimub järjekordne roheline töötuba: “Vanast triiksärgist põll”. Töötoas osalemine on võimalik kahel päeval 24.09 algusega kella 17.00 ja 25.00 algusega kella 12.00.\nTöötoa hind on 15€. Kõik vajalikud materjalid kohapeal olemas. Võimalusel tule oma õmblusmasinaga ja soovi korral võid endale meelepärast riidekraami põlle õmblemiseks lisaks tuua. \nLisainfo ja registreerumine: info@huuru.ee\nHüüru mõisas toimub huviringi tegevus COVID tõendi või kohapealse kiirtesti alusel.
URL:https://huuru.ee/sundmus/vanast-triiksargist-poll/
ATTACH;FMTTYPE=image/jpeg:https://huuru.ee/wp-content/uploads/2021/09/24-25.09_polle-tootuba-page-001-scaled.jpg
END:VEVENT
END:VCALENDAR