BEGIN:VCALENDAR
VERSION:2.0
PRODID:-//H&uuml;&uuml;ru m&otilde;is - ECPv6.15.20//NONSGML v1.0//EN
CALSCALE:GREGORIAN
METHOD:PUBLISH
X-ORIGINAL-URL:https://huuru.ee
X-WR-CALDESC:Events for H&uuml;&uuml;ru m&otilde;is
REFRESH-INTERVAL;VALUE=DURATION:PT1H
X-Robots-Tag:noindex
X-PUBLISHED-TTL:PT1H
BEGIN:VTIMEZONE
TZID:Europe/Tallinn
BEGIN:DAYLIGHT
TZOFFSETFROM:+0200
TZOFFSETTO:+0300
TZNAME:EEST
DTSTART:20170326T010000
END:DAYLIGHT
BEGIN:STANDARD
TZOFFSETFROM:+0300
TZOFFSETTO:+0200
TZNAME:EET
DTSTART:20171029T010000
END:STANDARD
BEGIN:DAYLIGHT
TZOFFSETFROM:+0200
TZOFFSETTO:+0300
TZNAME:EEST
DTSTART:20180325T010000
END:DAYLIGHT
BEGIN:STANDARD
TZOFFSETFROM:+0300
TZOFFSETTO:+0200
TZNAME:EET
DTSTART:20181028T010000
END:STANDARD
BEGIN:DAYLIGHT
TZOFFSETFROM:+0200
TZOFFSETTO:+0300
TZNAME:EEST
DTSTART:20190331T010000
END:DAYLIGHT
BEGIN:STANDARD
TZOFFSETFROM:+0300
TZOFFSETTO:+0200
TZNAME:EET
DTSTART:20191027T010000
END:STANDARD
BEGIN:DAYLIGHT
TZOFFSETFROM:+0200
TZOFFSETTO:+0300
TZNAME:EEST
DTSTART:20200329T010000
END:DAYLIGHT
BEGIN:STANDARD
TZOFFSETFROM:+0300
TZOFFSETTO:+0200
TZNAME:EET
DTSTART:20201025T010000
END:STANDARD
END:VTIMEZONE
BEGIN:VEVENT
DTSTART;TZID=Europe/Tallinn:20181213T103000
DTEND;TZID=Europe/Tallinn:20181213T113000
DTSTAMP:20260423T142154
CREATED:20181212T085300Z
LAST-MODIFIED:20181212T085300Z
UID:2326-1544697000-1544700600@huuru.ee
SUMMARY:Väärikate võimlemine
DESCRIPTION:
URL:https://huuru.ee/sundmus/vaarikate-voimlemine-4/
END:VEVENT
BEGIN:VEVENT
DTSTART;TZID=Europe/Tallinn:20181213T150000
DTEND;TZID=Europe/Tallinn:20181213T163000
DTSTAMP:20260423T142154
CREATED:20181128T111047Z
LAST-MODIFIED:20181128T111047Z
UID:2297-1544713200-1544718600@huuru.ee
SUMMARY:Saviring lastele
DESCRIPTION:
URL:https://huuru.ee/sundmus/saviring-lastele-15/
END:VEVENT
BEGIN:VEVENT
DTSTART;TZID=Europe/Tallinn:20181213T170000
DTEND;TZID=Europe/Tallinn:20181213T193000
DTSTAMP:20260423T142154
CREATED:20181128T115418Z
LAST-MODIFIED:20181128T115418Z
UID:2303-1544720400-1544729400@huuru.ee
SUMMARY:Saviring täiskasvanutele
DESCRIPTION:
URL:https://huuru.ee/sundmus/saviring-taiskasvanutele-15/
END:VEVENT
BEGIN:VEVENT
DTSTART;TZID=Europe/Tallinn:20181215T120000
DTEND;TZID=Europe/Tallinn:20181215T133000
DTSTAMP:20260423T142154
CREATED:20181128T110745Z
LAST-MODIFIED:20181128T110745Z
UID:2290-1544875200-1544880600@huuru.ee
SUMMARY:Tabasalu Muusikakooli Puhkpilliorkestri Jõulukontsert
DESCRIPTION:
URL:https://huuru.ee/sundmus/tabasalu-muusikakooli-puhkpilliorkestri-joulukontsert/
ATTACH;FMTTYPE=application/pdf:https://huuru.ee/wp-content/uploads/2018/11/TABASALU-MUUSIKAKOOLI-PUHKPILLIORKESTRI-JÕULUKONTSERT-15.12.-kell-12.00-3.pdf
END:VEVENT
BEGIN:VEVENT
DTSTART;TZID=Europe/Tallinn:20181216T160000
DTEND;TZID=Europe/Tallinn:20181216T180000
DTSTAMP:20260423T142154
CREATED:20181114T095736Z
LAST-MODIFIED:20181204T131249Z
UID:2277-1544976000-1544983200@huuru.ee
SUMMARY:Hüüru küla laste jõulupidu
DESCRIPTION:
URL:https://huuru.ee/sundmus/huuru-kula-laste-joulupidu/
LOCATION:Hüüru Mõis\, Jõe tee 2\,\, Saue vald\, Hüüru\, 76911\, Eesti
ATTACH;FMTTYPE=application/pdf:https://huuru.ee/wp-content/uploads/2018/11/Plakat.pdf
END:VEVENT
BEGIN:VEVENT
DTSTART;TZID=Europe/Tallinn:20181217T190000
DTEND;TZID=Europe/Tallinn:20181217T200000
DTSTAMP:20260423T142154
CREATED:20181114T100109Z
LAST-MODIFIED:20181114T100134Z
UID:2285-1545073200-1545076800@huuru.ee
SUMMARY:Täiskasvanute võimlemine
DESCRIPTION:
URL:https://huuru.ee/sundmus/taiskasvanute-voimlemine-60/
END:VEVENT
BEGIN:VEVENT
DTSTART;TZID=Europe/Tallinn:20181219T183000
DTEND;TZID=Europe/Tallinn:20181219T193000
DTSTAMP:20260423T142154
CREATED:20181217T134401Z
LAST-MODIFIED:20181217T134401Z
UID:2336-1545244200-1545247800@huuru.ee
SUMMARY:Laste tantsutrenn
DESCRIPTION:
URL:https://huuru.ee/sundmus/laste-tantsutrenn-12/
END:VEVENT
BEGIN:VEVENT
DTSTART;TZID=Europe/Tallinn:20181220T150000
DTEND;TZID=Europe/Tallinn:20181220T163000
DTSTAMP:20260423T142154
CREATED:20181128T111119Z
LAST-MODIFIED:20181128T111119Z
UID:2299-1545318000-1545323400@huuru.ee
SUMMARY:Saviring lastele
DESCRIPTION:
URL:https://huuru.ee/sundmus/saviring-lastele-16/
END:VEVENT
BEGIN:VEVENT
DTSTART;TZID=Europe/Tallinn:20181220T170000
DTEND;TZID=Europe/Tallinn:20181220T193000
DTSTAMP:20260423T142154
CREATED:20181128T115457Z
LAST-MODIFIED:20181128T115457Z
UID:2305-1545325200-1545334200@huuru.ee
SUMMARY:Saviring täiskasvanutele
DESCRIPTION:
URL:https://huuru.ee/sundmus/saviring-taiskasvanutele-16/
END:VEVENT
BEGIN:VEVENT
DTSTART;TZID=Europe/Tallinn:20181220T190000
DTEND;TZID=Europe/Tallinn:20181220T203000
DTSTAMP:20260423T142154
CREATED:20181211T074156Z
LAST-MODIFIED:20181211T074156Z
UID:2319-1545332400-1545337800@huuru.ee
SUMMARY:Eia jõulud Tondikakul
DESCRIPTION:
URL:https://huuru.ee/sundmus/eia-joulud-tondikakul/
ATTACH;FMTTYPE=application/pdf:https://huuru.ee/wp-content/uploads/2018/12/20.12-kell-19.00-Hüüru-mõisas-1.pdf
END:VEVENT
BEGIN:VEVENT
DTSTART;TZID=Europe/Tallinn:20181231T130000
DTEND;TZID=Europe/Tallinn:20181231T190000
DTSTAMP:20260423T142154
CREATED:20181230T180734Z
LAST-MODIFIED:20181230T180734Z
UID:2344-1546261200-1546282800@huuru.ee
SUMMARY:31. jaanuaril Hüüru raamatukogu suletud!
DESCRIPTION:31. jaanuaril Hüüru raamatukogu suletud. \nHead aastalõppu ja kohtumisteni uuel aastal!
URL:https://huuru.ee/sundmus/31-jaanuaril-huuru-raamatukogu-suletud/
END:VEVENT
BEGIN:VEVENT
DTSTART;TZID=Europe/Tallinn:20190103T103000
DTEND;TZID=Europe/Tallinn:20190103T113000
DTSTAMP:20260423T142154
CREATED:20190102T091839Z
LAST-MODIFIED:20190102T091839Z
UID:2347-1546511400-1546515000@huuru.ee
SUMMARY:Väärikate võimlemine\, juhendab Viigi Viil-Kangur
DESCRIPTION:
URL:https://huuru.ee/sundmus/vaarikate-voimlemine-juhendab-viigi-viil-kangur/
END:VEVENT
BEGIN:VEVENT
DTSTART;TZID=Europe/Tallinn:20190103T150000
DTEND;TZID=Europe/Tallinn:20190103T163000
DTSTAMP:20260423T142154
CREATED:20190104T113714Z
LAST-MODIFIED:20190104T113714Z
UID:2352-1546527600-1546533000@huuru.ee
SUMMARY:Saviring lastele
DESCRIPTION:
URL:https://huuru.ee/sundmus/saviring-lastele-17/
END:VEVENT
BEGIN:VEVENT
DTSTART;TZID=Europe/Tallinn:20190103T170000
DTEND;TZID=Europe/Tallinn:20190103T193000
DTSTAMP:20260423T142154
CREATED:20190104T113744Z
LAST-MODIFIED:20190104T113744Z
UID:2354-1546534800-1546543800@huuru.ee
SUMMARY:Saviring täiskasvanutele
DESCRIPTION:
URL:https://huuru.ee/sundmus/saviring-taiskasvanutele-17/
END:VEVENT
BEGIN:VEVENT
DTSTART;TZID=Europe/Tallinn:20190103T180000
DTEND;TZID=Europe/Tallinn:20190103T190000
DTSTAMP:20260423T142154
CREATED:20181227T164703Z
LAST-MODIFIED:20181227T164703Z
UID:2339-1546538400-1546542000@huuru.ee
SUMMARY:Hüüru Külaseltsi koosolek
DESCRIPTION:
URL:https://huuru.ee/sundmus/huuru-kulaseltsi-koosolek-15/
END:VEVENT
BEGIN:VEVENT
DTSTART;TZID=Europe/Tallinn:20190104T120000
DTEND;TZID=Europe/Tallinn:20190104T140000
DTSTAMP:20260423T142154
CREATED:20190104T113518Z
LAST-MODIFIED:20190104T113518Z
UID:2350-1546603200-1546610400@huuru.ee
SUMMARY:"Sügiskuld" jututuba
DESCRIPTION:
URL:https://huuru.ee/sundmus/sugiskuld-jututuba/
END:VEVENT
BEGIN:VEVENT
DTSTART;TZID=Europe/Tallinn:20190107T190000
DTEND;TZID=Europe/Tallinn:20190107T200000
DTSTAMP:20260423T142154
CREATED:20190104T114319Z
LAST-MODIFIED:20190104T114319Z
UID:2360-1546887600-1546891200@huuru.ee
SUMMARY:Täiskasvanute võimlemine
DESCRIPTION:
URL:https://huuru.ee/sundmus/taiskasvanute-voimlemine-61/
END:VEVENT
BEGIN:VEVENT
DTSTART;TZID=Europe/Tallinn:20190109T183000
DTEND;TZID=Europe/Tallinn:20190109T193000
DTSTAMP:20260423T142154
CREATED:20190109T080530Z
LAST-MODIFIED:20190109T080530Z
UID:2382-1547058600-1547062200@huuru.ee
SUMMARY:Laste tantsutrenn
DESCRIPTION:
URL:https://huuru.ee/sundmus/laste-tantsutrenn-13/
END:VEVENT
BEGIN:VEVENT
DTSTART;TZID=Europe/Tallinn:20190110T150000
DTEND;TZID=Europe/Tallinn:20190110T163000
DTSTAMP:20260423T142154
CREATED:20190104T113813Z
LAST-MODIFIED:20190104T114036Z
UID:2356-1547132400-1547137800@huuru.ee
SUMMARY:Saviring lastele
DESCRIPTION:
URL:https://huuru.ee/sundmus/saviring-lastele-18/
END:VEVENT
BEGIN:VEVENT
DTSTART;TZID=Europe/Tallinn:20190110T170000
DTEND;TZID=Europe/Tallinn:20190110T193000
DTSTAMP:20260423T142154
CREATED:20190104T114121Z
LAST-MODIFIED:20190104T114121Z
UID:2358-1547139600-1547148600@huuru.ee
SUMMARY:Saviring täiskasvanutele
DESCRIPTION:
URL:https://huuru.ee/sundmus/saviring-taiskasvanutele-18/
END:VEVENT
BEGIN:VEVENT
DTSTART;TZID=Europe/Tallinn:20190114T190000
DTEND;TZID=Europe/Tallinn:20190114T200000
DTSTAMP:20260423T142154
CREATED:20190104T114347Z
LAST-MODIFIED:20190104T114347Z
UID:2362-1547492400-1547496000@huuru.ee
SUMMARY:Täiskasvanute võimlemine
DESCRIPTION:
URL:https://huuru.ee/sundmus/taiskasvanute-voimlemine-62/
END:VEVENT
BEGIN:VEVENT
DTSTART;TZID=Europe/Tallinn:20190116T183000
DTEND;TZID=Europe/Tallinn:20190116T193000
DTSTAMP:20260423T142154
CREATED:20190111T105802Z
LAST-MODIFIED:20190111T105955Z
UID:2396-1547663400-1547667000@huuru.ee
SUMMARY:Laste tantsutrenn
DESCRIPTION:
URL:https://huuru.ee/sundmus/laste-tantsutrenn-14/
END:VEVENT
BEGIN:VEVENT
DTSTART;TZID=Europe/Tallinn:20190117T150000
DTEND;TZID=Europe/Tallinn:20190117T163000
DTSTAMP:20260423T142154
CREATED:20190111T105409Z
LAST-MODIFIED:20190111T105409Z
UID:2384-1547737200-1547742600@huuru.ee
SUMMARY:Saviring lastele
DESCRIPTION:
URL:https://huuru.ee/sundmus/saviring-lastele-19/
END:VEVENT
BEGIN:VEVENT
DTSTART;TZID=Europe/Tallinn:20190117T170000
DTEND;TZID=Europe/Tallinn:20190117T193000
DTSTAMP:20260423T142154
CREATED:20190111T105442Z
LAST-MODIFIED:20190111T105442Z
UID:2386-1547744400-1547753400@huuru.ee
SUMMARY:Saviring täiskasvanutele
DESCRIPTION:
URL:https://huuru.ee/sundmus/saviring-taiskasvanutele-19/
END:VEVENT
BEGIN:VEVENT
DTSTART;TZID=Europe/Tallinn:20190117T190000
DTEND;TZID=Europe/Tallinn:20190117T203700
DTSTAMP:20260423T142154
CREATED:20190107T154717Z
LAST-MODIFIED:20190107T154717Z
UID:2371-1547751600-1547757420@huuru.ee
SUMMARY:Filmiõhtu "Lõbus perekond"
DESCRIPTION:
URL:https://huuru.ee/sundmus/filmiohtu-lobus-perekond/
ATTACH;FMTTYPE=image/jpeg:https://huuru.ee/wp-content/uploads/2019/01/Teksti-kohatäide.jpg
END:VEVENT
BEGIN:VEVENT
DTSTART;TZID=Europe/Tallinn:20190121T190000
DTEND;TZID=Europe/Tallinn:20190121T200000
DTSTAMP:20260423T142154
CREATED:20190104T114453Z
LAST-MODIFIED:20190104T114453Z
UID:2366-1548097200-1548100800@huuru.ee
SUMMARY:Täiskasvanute võimlemine
DESCRIPTION:
URL:https://huuru.ee/sundmus/taiskasvanute-voimlemine-64/
END:VEVENT
BEGIN:VEVENT
DTSTART;TZID=Europe/Tallinn:20190122T160000
DTEND;TZID=Europe/Tallinn:20190122T170000
DTSTAMP:20260423T142154
CREATED:20190121T131103Z
LAST-MODIFIED:20190121T131103Z
UID:2414-1548172800-1548176400@huuru.ee
SUMMARY:Väärikate võimlemine juhendab Viigi Viil-Kangur
DESCRIPTION:
URL:https://huuru.ee/sundmus/vaarikate-voimlemine-juhendab-viigi-viil-kangur-2/
END:VEVENT
BEGIN:VEVENT
DTSTART;TZID=Europe/Tallinn:20190123T183000
DTEND;TZID=Europe/Tallinn:20190123T193000
DTSTAMP:20260423T142154
CREATED:20190111T105835Z
LAST-MODIFIED:20190111T110145Z
UID:2398-1548268200-1548271800@huuru.ee
SUMMARY:Laste tantsutrenn
DESCRIPTION:
URL:https://huuru.ee/sundmus/tantsutrenn-lastele/
END:VEVENT
BEGIN:VEVENT
DTSTART;TZID=Europe/Tallinn:20190124T150000
DTEND;TZID=Europe/Tallinn:20190124T163000
DTSTAMP:20260423T142154
CREATED:20190111T105511Z
LAST-MODIFIED:20190111T105511Z
UID:2388-1548342000-1548347400@huuru.ee
SUMMARY:Saviring lastele
DESCRIPTION:
URL:https://huuru.ee/sundmus/saviring-lastele-20/
END:VEVENT
BEGIN:VEVENT
DTSTART;TZID=Europe/Tallinn:20190124T170000
DTEND;TZID=Europe/Tallinn:20190124T193000
DTSTAMP:20260423T142154
CREATED:20190111T105548Z
LAST-MODIFIED:20190111T105548Z
UID:2390-1548349200-1548358200@huuru.ee
SUMMARY:Saviring täiskasvanutele
DESCRIPTION:
URL:https://huuru.ee/sundmus/saviring-taiskasvanutele-20/
END:VEVENT
END:VCALENDAR