BEGIN:VCALENDAR
VERSION:2.0
PRODID:-//H&uuml;&uuml;ru m&otilde;is - ECPv6.15.20//NONSGML v1.0//EN
CALSCALE:GREGORIAN
METHOD:PUBLISH
X-ORIGINAL-URL:https://huuru.ee
X-WR-CALDESC:Events for H&uuml;&uuml;ru m&otilde;is
REFRESH-INTERVAL;VALUE=DURATION:PT1H
X-Robots-Tag:noindex
X-PUBLISHED-TTL:PT1H
BEGIN:VTIMEZONE
TZID:Europe/Tallinn
BEGIN:DAYLIGHT
TZOFFSETFROM:+0200
TZOFFSETTO:+0300
TZNAME:EEST
DTSTART:20170326T010000
END:DAYLIGHT
BEGIN:STANDARD
TZOFFSETFROM:+0300
TZOFFSETTO:+0200
TZNAME:EET
DTSTART:20171029T010000
END:STANDARD
BEGIN:DAYLIGHT
TZOFFSETFROM:+0200
TZOFFSETTO:+0300
TZNAME:EEST
DTSTART:20180325T010000
END:DAYLIGHT
BEGIN:STANDARD
TZOFFSETFROM:+0300
TZOFFSETTO:+0200
TZNAME:EET
DTSTART:20181028T010000
END:STANDARD
BEGIN:DAYLIGHT
TZOFFSETFROM:+0200
TZOFFSETTO:+0300
TZNAME:EEST
DTSTART:20190331T010000
END:DAYLIGHT
BEGIN:STANDARD
TZOFFSETFROM:+0300
TZOFFSETTO:+0200
TZNAME:EET
DTSTART:20191027T010000
END:STANDARD
END:VTIMEZONE
BEGIN:VEVENT
DTSTART;TZID=Europe/Tallinn:20180517T180000
DTEND;TZID=Europe/Tallinn:20180517T193000
DTSTAMP:20260423T014439
CREATED:20180608T082130Z
LAST-MODIFIED:20180608T082217Z
UID:2060-1526580000-1526585400@huuru.ee
SUMMARY:Laste tantsutreening
DESCRIPTION:
URL:https://huuru.ee/sundmus/laste-tantsutreening-9/
END:VEVENT
BEGIN:VEVENT
DTSTART;TZID=Europe/Tallinn:20180517T193000
DTEND;TZID=Europe/Tallinn:20180517T210000
DTSTAMP:20260423T014439
CREATED:20180421T091437Z
LAST-MODIFIED:20180421T091437Z
UID:1981-1526585400-1526590800@huuru.ee
SUMMARY:Saue valla mänguteater "Transnaine"
DESCRIPTION:Hüüru mõisahoones esitas Saue valla mänguteater esitab “Transnaine”. \nTegemist on siis etendusega mis žanrilt on lavaline kompositsioon.\nÜks osa etendusest on Saue mõisahärra armastuskirjad oma pruudile (ette kantult pruudi poolt)  ja teist etenduse osa iseloomustab vast kõige paremini tsitaat lõpusosas –Me oleme lõhki kistud. Sinu ettekujutus meist võib olla ilus\, aga see ei vasta tõele. Ma kohtasin üht\, abiellusin teisega ja täna elan kolmandaga. Fantaasia tuleb asendada tegelikkusega\, hakkame elama . \nTransformatsioon on millegi muundamine\, ümberkujundamine\, teisendamine. Me muutume ja muudame teineteist kogu elu. Kas kulutame või täiustame teineteist transformatsioonides?\n\nPilet 5€
URL:https://huuru.ee/sundmus/saue-valla-manguteater-transnaine/
ATTACH;FMTTYPE=application/pdf:https://huuru.ee/wp-content/uploads/2018/04/2018.05.17__Saue-teater.pdf
END:VEVENT
BEGIN:VEVENT
DTSTART;TZID=Europe/Tallinn:20180519T153000
DTEND;TZID=Europe/Tallinn:20180519T220000
DTSTAMP:20260423T014439
CREATED:20180510T112624Z
LAST-MODIFIED:20180518T110532Z
UID:2008-1526743800-1526767200@huuru.ee
SUMMARY:Muuseumiöö - avame Konstantin Pätsi muuseumi uksed
DESCRIPTION:kell 15.30 mängib Raudtee Kultuuriseltsi laulu- ja pasunakoor Arne Haasma juhtimisel \nkell 15.45 – 16.15 Raudtee Kultuuriseltsi laulu- ja pasunakoor kontsert mõisasaalis Mariell Aren’I juhtimisel \nkell 18.00 Valdo Subi ja Jaan Audru ansambel „Puutöö“ esitamisele tuleb nii klassika ja popmuusikat \nkell 19.00 filmiprogramm: Jaan Kolberg “16 küünalt” ja “Kenotaaf” \nkell 21.00 filmiprogramm: Raamatuaasta “Viie ball” Vanemuises 1935 aastal\n“Kuidas Eesti Vabariik tähistas oma 20 aastapäeva 1938 aastal.”  MTÜ Konstantin Pätsi Muuseumi väljapanek ja vestlusring muuseumilugudest.\nMõisasaalis on vaatamiseks Ulvi Hallikmäe – alias Lusti-Leenu kogutud kalambuuride näitus. Kohvik – Presidendi kohv ja vanadest retseptidest hõrgutised!
URL:https://huuru.ee/sundmus/muuseumioo-avame-konstantin-patsi-muuseumi-uksed/
END:VEVENT
BEGIN:VEVENT
DTSTART;TZID=Europe/Tallinn:20180521T190000
DTEND;TZID=Europe/Tallinn:20180521T200000
DTSTAMP:20260423T014439
CREATED:20180421T093030Z
LAST-MODIFIED:20180421T093030Z
UID:1994-1526929200-1526932800@huuru.ee
SUMMARY:Täiskasvanute võimlemine
DESCRIPTION:
URL:https://huuru.ee/sundmus/taiskasvanute-voimlemine-48/
END:VEVENT
BEGIN:VEVENT
DTSTART;TZID=Europe/Tallinn:20180524T180000
DTEND;TZID=Europe/Tallinn:20180524T193000
DTSTAMP:20260423T014439
CREATED:20180608T082049Z
LAST-MODIFIED:20180608T082049Z
UID:2058-1527184800-1527190200@huuru.ee
SUMMARY:Laste tantsutreening
DESCRIPTION:
URL:https://huuru.ee/sundmus/laste-tantsutreening-8/
END:VEVENT
BEGIN:VEVENT
DTSTART;TZID=Europe/Tallinn:20180528T190000
DTEND;TZID=Europe/Tallinn:20180528T200000
DTSTAMP:20260423T014439
CREATED:20180421T093142Z
LAST-MODIFIED:20180421T093142Z
UID:1996-1527534000-1527537600@huuru.ee
SUMMARY:Täiskasvanute võimlemine
DESCRIPTION:
URL:https://huuru.ee/sundmus/taiskasvanute-voimlemine-49/
END:VEVENT
BEGIN:VEVENT
DTSTART;TZID=Europe/Tallinn:20180531T160000
DTEND;TZID=Europe/Tallinn:20180531T173000
DTSTAMP:20260423T014439
CREATED:20180523T111635Z
LAST-MODIFIED:20180523T111635Z
UID:2014-1527782400-1527787800@huuru.ee
SUMMARY:Keraamikaring lastele
DESCRIPTION:
URL:https://huuru.ee/sundmus/keraamikaring-lastele/
END:VEVENT
BEGIN:VEVENT
DTSTART;TZID=Europe/Tallinn:20180531T180000
DTEND;TZID=Europe/Tallinn:20180531T193000
DTSTAMP:20260423T014439
CREATED:20180523T112345Z
LAST-MODIFIED:20180523T112345Z
UID:2022-1527789600-1527795000@huuru.ee
SUMMARY:Keaamikaring täiskasvanutele
DESCRIPTION:
URL:https://huuru.ee/sundmus/keaamikaring-taiskasvanutele/
END:VEVENT
BEGIN:VEVENT
DTSTART;TZID=Europe/Tallinn:20180531T180000
DTEND;TZID=Europe/Tallinn:20180531T193000
DTSTAMP:20260423T014439
CREATED:20180608T082010Z
LAST-MODIFIED:20180608T082010Z
UID:2056-1527789600-1527795000@huuru.ee
SUMMARY:Laste tantsutreening
DESCRIPTION:
URL:https://huuru.ee/sundmus/laste-tantsutreening-7/
END:VEVENT
BEGIN:VEVENT
DTSTART;TZID=Europe/Tallinn:20180607T160000
DTEND;TZID=Europe/Tallinn:20180607T173000
DTSTAMP:20260423T014439
CREATED:20180608T081556Z
LAST-MODIFIED:20180608T081616Z
UID:2048-1528387200-1528392600@huuru.ee
SUMMARY:Keraamikaring lastele
DESCRIPTION:
URL:https://huuru.ee/sundmus/keraamikaring-lastele-2/
END:VEVENT
BEGIN:VEVENT
DTSTART;TZID=Europe/Tallinn:20180607T180000
DTEND;TZID=Europe/Tallinn:20180607T193000
DTSTAMP:20260423T014439
CREATED:20180608T081651Z
LAST-MODIFIED:20180608T081651Z
UID:2050-1528394400-1528399800@huuru.ee
SUMMARY:Keraamikaring täiskasvanutele
DESCRIPTION:
URL:https://huuru.ee/sundmus/keraamikaring-taiskasvanutele/
END:VEVENT
BEGIN:VEVENT
DTSTART;TZID=Europe/Tallinn:20180614T160000
DTEND;TZID=Europe/Tallinn:20180614T173000
DTSTAMP:20260423T014439
CREATED:20180608T081756Z
LAST-MODIFIED:20180608T081756Z
UID:2054-1528992000-1528997400@huuru.ee
SUMMARY:Keraamikaring lastele
DESCRIPTION:
URL:https://huuru.ee/sundmus/keraamikaring-lastele-3/
END:VEVENT
BEGIN:VEVENT
DTSTART;TZID=Europe/Tallinn:20180614T180000
DTEND;TZID=Europe/Tallinn:20180614T193000
DTSTAMP:20260423T014439
CREATED:20180608T081725Z
LAST-MODIFIED:20180608T081725Z
UID:2052-1528999200-1529004600@huuru.ee
SUMMARY:Keraamikaring täiskasvanutele
DESCRIPTION:
URL:https://huuru.ee/sundmus/keraamikaring-taiskasvanutele-2/
END:VEVENT
BEGIN:VEVENT
DTSTART;TZID=Europe/Tallinn:20180617T190000
DTEND;TZID=Europe/Tallinn:20180617T200000
DTSTAMP:20260423T014439
CREATED:20180606T083911Z
LAST-MODIFIED:20180606T083911Z
UID:2038-1529262000-1529265600@huuru.ee
SUMMARY:Margus Tabor. Jutud vahelepõigete ja kõrvalkalletega
DESCRIPTION:Mamma lugude autorina tuntud Margus Tabori monoloogid – jutud vahelepõigete ja kõrvalkalletega…\nPiletite broneerimine meili teel info@huuru.ee   ja telefonil 52 38 261\, piletite olemasolul ka enne etenduse algust kohapeal. \n\nPiletihind 15 eur-i ja sooduspilet 12 eur-i\n\nPiletid saab välja osta raamatukogu lahtioleku aegadel E ja N 12-19.00
URL:https://huuru.ee/sundmus/margus-tabor-jutud-vahelepoigete-ja-korvalkalletega/
ATTACH;FMTTYPE=image/jpeg:https://huuru.ee/wp-content/uploads/2018/06/hüüru_17_juuni-2.jpg
END:VEVENT
BEGIN:VEVENT
DTSTART;TZID=Europe/Tallinn:20180704T190000
DTEND;TZID=Europe/Tallinn:20180708T203000
DTSTAMP:20260423T014439
CREATED:20180524T101158Z
LAST-MODIFIED:20180531T103629Z
UID:2024-1530730800-1531081800@huuru.ee
SUMMARY:Etendus Kuuvarjutus
DESCRIPTION:
URL:https://huuru.ee/sundmus/etendus-kuuvarjutus/
LOCATION:Hüüru Mõis\, Jõe tee 2\,\, Saue vald\, Hüüru\, 76911\, Eesti
ATTACH;FMTTYPE=application/pdf:https://huuru.ee/wp-content/uploads/2018/05/kuuvarjutus-plakat.pdf
END:VEVENT
BEGIN:VEVENT
DTSTART;TZID=Europe/Tallinn:20180710T190000
DTEND;TZID=Europe/Tallinn:20180714T203000
DTSTAMP:20260423T014439
CREATED:20180524T101752Z
LAST-MODIFIED:20180531T104305Z
UID:2031-1531249200-1531600200@huuru.ee
SUMMARY:Etendus Kuuvarjutus
DESCRIPTION:
URL:https://huuru.ee/sundmus/etendus-kuuvarjutus-2/
LOCATION:Hüüru Mõis\, Jõe tee 2\,\, Saue vald\, Hüüru\, 76911\, Eesti
ATTACH;FMTTYPE=image/jpeg:https://huuru.ee/wp-content/uploads/2018/05/kuuvarjutus-plakat.jpg
END:VEVENT
BEGIN:VEVENT
DTSTART;TZID=Europe/Tallinn:20180712T130000
DTEND;TZID=Europe/Tallinn:20180712T190000
DTSTAMP:20260423T014439
CREATED:20180801T093326Z
LAST-MODIFIED:20180801T093326Z
UID:2094-1531400400-1531422000@huuru.ee
SUMMARY:Keraamikaring lastele ja täiskasvanutele
DESCRIPTION:
URL:https://huuru.ee/sundmus/keraamikaring-lastele-ja-taiskasvanutele-4/
END:VEVENT
BEGIN:VEVENT
DTSTART;TZID=Europe/Tallinn:20180715T190000
DTEND;TZID=Europe/Tallinn:20180715T203000
DTSTAMP:20260423T014439
CREATED:20180710T093233Z
LAST-MODIFIED:20180710T093233Z
UID:2079-1531681200-1531686600@huuru.ee
SUMMARY:Etendus Kuuvarjutus
DESCRIPTION:
URL:https://huuru.ee/sundmus/etendus-kuuvarjutus-3/
ATTACH;FMTTYPE=image/jpeg:https://huuru.ee/wp-content/uploads/2018/05/kuuvarjutus-plakat.jpg
END:VEVENT
BEGIN:VEVENT
DTSTART;TZID=Europe/Tallinn:20180719T130000
DTEND;TZID=Europe/Tallinn:20180719T190000
DTSTAMP:20260423T014439
CREATED:20180801T093259Z
LAST-MODIFIED:20180801T093259Z
UID:2092-1532005200-1532026800@huuru.ee
SUMMARY:Keraamikaring lastele ja täiskasvanutele
DESCRIPTION:
URL:https://huuru.ee/sundmus/keraamikaring-lastele-ja-taiskasvanutele-3/
END:VEVENT
BEGIN:VEVENT
DTSTART;TZID=Europe/Tallinn:20180726T130000
DTEND;TZID=Europe/Tallinn:20180726T190000
DTSTAMP:20260423T014439
CREATED:20180801T093224Z
LAST-MODIFIED:20180801T093224Z
UID:2090-1532610000-1532631600@huuru.ee
SUMMARY:Keraamikaring lastele ja täiskasvanutele
DESCRIPTION:
URL:https://huuru.ee/sundmus/keraamikaring-lastele-ja-taiskasvanutele-2/
END:VEVENT
BEGIN:VEVENT
DTSTART;TZID=Europe/Tallinn:20180802T130000
DTEND;TZID=Europe/Tallinn:20180802T190000
DTSTAMP:20260423T014439
CREATED:20180801T093135Z
LAST-MODIFIED:20180801T093135Z
UID:2088-1533214800-1533236400@huuru.ee
SUMMARY:Keraamikaring lastele ja täiskasvanutele
DESCRIPTION:
URL:https://huuru.ee/sundmus/keraamikaring-lastele-ja-taiskasvanutele/
END:VEVENT
BEGIN:VEVENT
DTSTART;TZID=Europe/Tallinn:20180809T130000
DTEND;TZID=Europe/Tallinn:20180809T190000
DTSTAMP:20260423T014439
CREATED:20180801T093354Z
LAST-MODIFIED:20180801T093354Z
UID:2096-1533819600-1533841200@huuru.ee
SUMMARY:Keraamikaring lastele ja täiskasvanutele
DESCRIPTION:
URL:https://huuru.ee/sundmus/keraamikaring-lastele-ja-taiskasvanutele-5/
END:VEVENT
BEGIN:VEVENT
DTSTART;TZID=Europe/Tallinn:20180813T100000
DTEND;TZID=Europe/Tallinn:20180813T150000
DTSTAMP:20260423T014439
CREATED:20180801T094054Z
LAST-MODIFIED:20180801T094054Z
UID:2106-1534154400-1534172400@huuru.ee
SUMMARY:Lastelaager "Otsime uusi harrastusi!"
DESCRIPTION:
URL:https://huuru.ee/sundmus/lastelaager-otsime-uusi-harrastusi/
ATTACH;FMTTYPE=image/png:https://huuru.ee/wp-content/uploads/2018/07/Hüüru-lastelaager.png
END:VEVENT
BEGIN:VEVENT
DTSTART;TZID=Europe/Tallinn:20180814T100000
DTEND;TZID=Europe/Tallinn:20180814T150000
DTSTAMP:20260423T014439
CREATED:20180801T094138Z
LAST-MODIFIED:20180801T094138Z
UID:2108-1534240800-1534258800@huuru.ee
SUMMARY:Lastelaager "Otsime uusi harrastusi!"
DESCRIPTION:
URL:https://huuru.ee/sundmus/lastelaager-otsime-uusi-harrastusi-3/
ATTACH;FMTTYPE=image/png:https://huuru.ee/wp-content/uploads/2018/07/Hüüru-lastelaager.png
END:VEVENT
BEGIN:VEVENT
DTSTART;TZID=Europe/Tallinn:20180815T100000
DTEND;TZID=Europe/Tallinn:20180815T150000
DTSTAMP:20260423T014439
CREATED:20180801T094211Z
LAST-MODIFIED:20180801T094211Z
UID:2110-1534327200-1534345200@huuru.ee
SUMMARY:Lastelaager "Otsime uusi harrastusi!"
DESCRIPTION:
URL:https://huuru.ee/sundmus/lastelaager-otsime-uusi-harrastusi-4/
ATTACH;FMTTYPE=image/png:https://huuru.ee/wp-content/uploads/2018/07/Hüüru-lastelaager.png
END:VEVENT
BEGIN:VEVENT
DTSTART;TZID=Europe/Tallinn:20180816T100000
DTEND;TZID=Europe/Tallinn:20180816T150000
DTSTAMP:20260423T014439
CREATED:20180801T093608Z
LAST-MODIFIED:20180801T094306Z
UID:2100-1534413600-1534431600@huuru.ee
SUMMARY:Lastelaager "Otsime uusi harrastusi!"
DESCRIPTION:
URL:https://huuru.ee/sundmus/lastelaager-otsime-uusi-harrastusi-2/
ATTACH;FMTTYPE=image/png:https://huuru.ee/wp-content/uploads/2018/07/Hüüru-lastelaager.png
END:VEVENT
BEGIN:VEVENT
DTSTART;TZID=Europe/Tallinn:20180816T130000
DTEND;TZID=Europe/Tallinn:20180816T190000
DTSTAMP:20260423T014439
CREATED:20180801T093457Z
LAST-MODIFIED:20180801T093457Z
UID:2098-1534424400-1534446000@huuru.ee
SUMMARY:Keraamikaring lastele ja täiskasvanutele
DESCRIPTION:
URL:https://huuru.ee/sundmus/keraamikaring-lastele-ja-taiskasvanutele-6/
END:VEVENT
BEGIN:VEVENT
DTSTART;TZID=Europe/Tallinn:20180823T130000
DTEND;TZID=Europe/Tallinn:20180823T190000
DTSTAMP:20260423T014439
CREATED:20180801T093721Z
LAST-MODIFIED:20180801T093721Z
UID:2102-1535029200-1535050800@huuru.ee
SUMMARY:Keraamikaring lastele ja täiskasvanutele
DESCRIPTION:
URL:https://huuru.ee/sundmus/keraamikaring-lastele-ja-taiskasvanutele-7/
END:VEVENT
BEGIN:VEVENT
DTSTART;TZID=Europe/Tallinn:20180830T130000
DTEND;TZID=Europe/Tallinn:20180830T190000
DTSTAMP:20260423T014439
CREATED:20180801T093759Z
LAST-MODIFIED:20180801T093759Z
UID:2104-1535634000-1535655600@huuru.ee
SUMMARY:Keraamikaring lastele ja täiskasvanutele
DESCRIPTION:
URL:https://huuru.ee/sundmus/keraamikaring-lastele-ja-taiskasvanutele-8/
END:VEVENT
BEGIN:VEVENT
DTSTART;TZID=Europe/Tallinn:20180906T150000
DTEND;TZID=Europe/Tallinn:20180906T163000
DTSTAMP:20260423T014439
CREATED:20180905T081707Z
LAST-MODIFIED:20180905T081719Z
UID:2116-1536246000-1536251400@huuru.ee
SUMMARY:Saviring lastele
DESCRIPTION:
URL:https://huuru.ee/sundmus/saviring-lastele/
END:VEVENT
END:VCALENDAR