BEGIN:VCALENDAR
VERSION:2.0
PRODID:-//H&uuml;&uuml;ru m&otilde;is - ECPv6.15.20//NONSGML v1.0//EN
CALSCALE:GREGORIAN
METHOD:PUBLISH
X-ORIGINAL-URL:https://huuru.ee
X-WR-CALDESC:Events for H&uuml;&uuml;ru m&otilde;is
REFRESH-INTERVAL;VALUE=DURATION:PT1H
X-Robots-Tag:noindex
X-PUBLISHED-TTL:PT1H
BEGIN:VTIMEZONE
TZID:Europe/Tallinn
BEGIN:DAYLIGHT
TZOFFSETFROM:+0200
TZOFFSETTO:+0300
TZNAME:EEST
DTSTART:20160327T010000
END:DAYLIGHT
BEGIN:STANDARD
TZOFFSETFROM:+0300
TZOFFSETTO:+0200
TZNAME:EET
DTSTART:20161030T010000
END:STANDARD
BEGIN:DAYLIGHT
TZOFFSETFROM:+0200
TZOFFSETTO:+0300
TZNAME:EEST
DTSTART:20170326T010000
END:DAYLIGHT
BEGIN:STANDARD
TZOFFSETFROM:+0300
TZOFFSETTO:+0200
TZNAME:EET
DTSTART:20171029T010000
END:STANDARD
BEGIN:DAYLIGHT
TZOFFSETFROM:+0200
TZOFFSETTO:+0300
TZNAME:EEST
DTSTART:20180325T010000
END:DAYLIGHT
BEGIN:STANDARD
TZOFFSETFROM:+0300
TZOFFSETTO:+0200
TZNAME:EET
DTSTART:20181028T010000
END:STANDARD
END:VTIMEZONE
BEGIN:VEVENT
DTSTART;TZID=Europe/Tallinn:20170721T190000
DTEND;TZID=Europe/Tallinn:20170721T203000
DTSTAMP:20260421T201213
CREATED:20170712T102334Z
LAST-MODIFIED:20170712T120844Z
UID:1499-1500663600-1500669000@huuru.ee
SUMMARY:Oranžid tropid kõrvas\, Indrek Taalmaa monokomöödia Hüüru mõisas. Piletid info@huuru.ee\, tel. 607 1358
DESCRIPTION:
URL:https://huuru.ee/sundmus/oranzid-tropid-korvas-indrek-taalmaa-monokomoodia/
LOCATION:Hüüru Mõis\, Jõe tee 2\,\, Saue vald\, Hüüru\, 76911\, Eesti
ATTACH;FMTTYPE=image/jpeg:https://huuru.ee/wp-content/uploads/2017/07/OT-KT-A3-põhi.jpg
END:VEVENT
BEGIN:VEVENT
DTSTART;TZID=Europe/Tallinn:20170821T100000
DTEND;TZID=Europe/Tallinn:20170821T150000
DTSTAMP:20260421T201213
CREATED:20170804T071011Z
LAST-MODIFIED:20170804T071011Z
UID:1530-1503309600-1503327600@huuru.ee
SUMMARY:HÜÜRU LASTELAAGER teemal 112
DESCRIPTION:
URL:https://huuru.ee/sundmus/huuru-lastelaager-teemal-112/
LOCATION:Hüüru Mõis\, Jõe tee 2\,\, Saue vald\, Hüüru\, 76911\, Eesti
ORGANIZER;CN="MT%C3%9C H%C3%BC%C3%BCru K%C3%BClaselts":MAILTO:info@huuru.ee
END:VEVENT
BEGIN:VEVENT
DTSTART;TZID=Europe/Tallinn:20170822T100000
DTEND;TZID=Europe/Tallinn:20170822T150000
DTSTAMP:20260421T201213
CREATED:20170804T071155Z
LAST-MODIFIED:20170804T071155Z
UID:1532-1503396000-1503414000@huuru.ee
SUMMARY:HÜÜRU LASTELAAGER teemal 112
DESCRIPTION:
URL:https://huuru.ee/sundmus/huuru-lastelaager-teemal-112-2/
END:VEVENT
BEGIN:VEVENT
DTSTART;TZID=Europe/Tallinn:20170823T100000
DTEND;TZID=Europe/Tallinn:20170823T150000
DTSTAMP:20260421T201213
CREATED:20170804T071605Z
LAST-MODIFIED:20170804T071605Z
UID:1534-1503482400-1503500400@huuru.ee
SUMMARY:HÜÜRU LASTELAAGER teemal 112
DESCRIPTION:
URL:https://huuru.ee/sundmus/huuru-lastelaager-teemal-112-3/
END:VEVENT
BEGIN:VEVENT
DTSTART;TZID=Europe/Tallinn:20170824T100000
DTEND;TZID=Europe/Tallinn:20170824T150000
DTSTAMP:20260421T201213
CREATED:20170804T071645Z
LAST-MODIFIED:20170804T071645Z
UID:1536-1503568800-1503586800@huuru.ee
SUMMARY:HÜÜRU LASTELAAGER teemal 112
DESCRIPTION:
URL:https://huuru.ee/sundmus/huuru-lastelaager-teemal-112-4/
END:VEVENT
BEGIN:VEVENT
DTSTART;TZID=Europe/Tallinn:20170825T100000
DTEND;TZID=Europe/Tallinn:20170825T150000
DTSTAMP:20260421T201213
CREATED:20170804T071713Z
LAST-MODIFIED:20170804T071713Z
UID:1538-1503655200-1503673200@huuru.ee
SUMMARY:HÜÜRU LASTELAAGER teemal 112
DESCRIPTION:
URL:https://huuru.ee/sundmus/huuru-lastelaager-teemal-112-5/
END:VEVENT
BEGIN:VEVENT
DTSTART;TZID=Europe/Tallinn:20170907T180000
DTEND;TZID=Europe/Tallinn:20170907T190000
DTSTAMP:20260421T201213
CREATED:20170831T104947Z
LAST-MODIFIED:20170831T160307Z
UID:1559-1504807200-1504810800@huuru.ee
SUMMARY:Hüüru Külaseltsi koosolek
DESCRIPTION:
URL:https://huuru.ee/sundmus/huuru-kulaseltsi-koosolek-3/
END:VEVENT
BEGIN:VEVENT
DTSTART;TZID=Europe/Tallinn:20170907T183000
DTEND;TZID=Europe/Tallinn:20170907T193000
DTSTAMP:20260421T201213
CREATED:20170905T093153Z
LAST-MODIFIED:20170905T093153Z
UID:1562-1504809000-1504812600@huuru.ee
SUMMARY:Tantsutreening lastele
DESCRIPTION:
URL:https://huuru.ee/sundmus/tantsutreening-lastele-16/
END:VEVENT
BEGIN:VEVENT
DTSTART;TZID=Europe/Tallinn:20170909T100000
DTEND;TZID=Europe/Tallinn:20170909T150000
DTSTAMP:20260421T201213
CREATED:20170712T103100Z
LAST-MODIFIED:20170801T102948Z
UID:1504-1504951200-1504969200@huuru.ee
SUMMARY:Sügislaat Hüüru mõisa pargis
DESCRIPTION:
URL:https://huuru.ee/sundmus/sugislaat-huuru-moisa-pargis-kell-10-15-00/
LOCATION:Hüüru Mõis\, Jõe tee 2\,\, Saue vald\, Hüüru\, 76911\, Eesti
ATTACH;FMTTYPE=image/jpeg:https://huuru.ee/wp-content/uploads/2017/08/Sygislaat_2017_plakat.jpg
ORGANIZER;CN="MT%C3%9C H%C3%BC%C3%BCru K%C3%BClaselts":MAILTO:info@huuru.ee
END:VEVENT
BEGIN:VEVENT
DTSTART;TZID=Europe/Tallinn:20170914T183000
DTEND;TZID=Europe/Tallinn:20170914T193000
DTSTAMP:20260421T201213
CREATED:20170912T081716Z
LAST-MODIFIED:20170912T081716Z
UID:1569-1505413800-1505417400@huuru.ee
SUMMARY:Tantsutreening lastele
DESCRIPTION:
URL:https://huuru.ee/sundmus/tantsutreening-lastele-17/
END:VEVENT
BEGIN:VEVENT
DTSTART;TZID=Europe/Tallinn:20170915T190000
DTEND;TZID=Europe/Tallinn:20170915T220000
DTSTAMP:20260421T201213
CREATED:20170823T080659Z
LAST-MODIFIED:20170823T083229Z
UID:1551-1505502000-1505512800@huuru.ee
SUMMARY:Lauri Saatpalu etendus "Kuidas ma koera sõin".
DESCRIPTION:Pileteid müügil piletilevis ja Hüüru mõisas kohapeal. Piletihind 15 € ja pensionäridele 12 €.\nKontakt: info@huuru.ee\, tel. 52 38 261\nEtenduse kohta leiab infot: http://www.vatteater.ee/et/lavastused/85/kuidas-ma-koera-soin.html
URL:https://huuru.ee/sundmus/lauri-saatpalu-etendus-kuidas-ma-koera-soin/
LOCATION:Hüüru Mõis\, Jõe tee 2\,\, Saue vald\, Hüüru\, 76911\, Eesti
ORGANIZER;CN="MT%C3%9C H%C3%BC%C3%BCru K%C3%BClaselts":MAILTO:info@huuru.ee
END:VEVENT
BEGIN:VEVENT
DTSTART;TZID=Europe/Tallinn:20170918T190000
DTEND;TZID=Europe/Tallinn:20170918T200000
DTSTAMP:20260421T201213
CREATED:20170905T093304Z
LAST-MODIFIED:20170905T093304Z
UID:1564-1505761200-1505764800@huuru.ee
SUMMARY:Täiskasvanute võimlemine
DESCRIPTION:
URL:https://huuru.ee/sundmus/taiskasvanute-voimlemine-17/
END:VEVENT
BEGIN:VEVENT
DTSTART;TZID=Europe/Tallinn:20170921T183000
DTEND;TZID=Europe/Tallinn:20170921T193000
DTSTAMP:20260421T201213
CREATED:20170912T082440Z
LAST-MODIFIED:20170912T082538Z
UID:1573-1506018600-1506022200@huuru.ee
SUMMARY:Tantsutreening lastele
DESCRIPTION:
URL:https://huuru.ee/sundmus/laste-tantsutreening/
END:VEVENT
BEGIN:VEVENT
DTSTART;TZID=Europe/Tallinn:20170923T103000
DTEND;TZID=Europe/Tallinn:20170923T104500
DTSTAMP:20260421T201213
CREATED:20170919T065026Z
LAST-MODIFIED:20170919T065026Z
UID:1583-1506162600-1506163500@huuru.ee
SUMMARY:Ohtlike jäätmete ja vanarehvide kogumisring Hüüru mõisa parkimisplatsil
DESCRIPTION:
URL:https://huuru.ee/sundmus/ohtlike-jaatmete-ja-vanarehvide-kogumisring-huuru-moisa-parkimisplatsil/
END:VEVENT
BEGIN:VEVENT
DTSTART;TZID=Europe/Tallinn:20170925T190000
DTEND;TZID=Europe/Tallinn:20170925T200000
DTSTAMP:20260421T201213
CREATED:20170912T081030Z
LAST-MODIFIED:20170912T081030Z
UID:1567-1506366000-1506369600@huuru.ee
SUMMARY:Täiskasvanute võimlemine
DESCRIPTION:
URL:https://huuru.ee/sundmus/taiskasvanute-voimlemine-18/
END:VEVENT
BEGIN:VEVENT
DTSTART;TZID=Europe/Tallinn:20170926T184500
DTEND;TZID=Europe/Tallinn:20170926T214500
DTSTAMP:20260421T201213
CREATED:20170913T090128Z
LAST-MODIFIED:20170913T090135Z
UID:1581-1506451500-1506462300@huuru.ee
SUMMARY:Õpituba teemal - ravimtaimed\, vannisoolad ja vitamiinid
DESCRIPTION:
URL:https://huuru.ee/sundmus/opituba-teemal-ravimtaimed-vannisoolad-ja-vitamiinid/
END:VEVENT
BEGIN:VEVENT
DTSTART;TZID=Europe/Tallinn:20170928T183000
DTEND;TZID=Europe/Tallinn:20170928T193000
DTSTAMP:20260421T201213
CREATED:20170912T082301Z
LAST-MODIFIED:20170912T082323Z
UID:1571-1506623400-1506627000@huuru.ee
SUMMARY:Tantsutreening lastele
DESCRIPTION:
URL:https://huuru.ee/sundmus/tantsutreening-lastele-18/
END:VEVENT
BEGIN:VEVENT
DTSTART;TZID=Europe/Tallinn:20171004T190000
DTEND;TZID=Europe/Tallinn:20171004T200000
DTSTAMP:20260421T201213
CREATED:20170929T082726Z
LAST-MODIFIED:20170929T082726Z
UID:1616-1507143600-1507147200@huuru.ee
SUMMARY:Täiskasvanute võimlemine
DESCRIPTION:
URL:https://huuru.ee/sundmus/taiskasvanute-voimlemine-19/
END:VEVENT
BEGIN:VEVENT
DTSTART;TZID=Europe/Tallinn:20171005T110000
DTEND;TZID=Europe/Tallinn:20171005T120000
DTSTAMP:20260421T201213
CREATED:20171005T121603Z
LAST-MODIFIED:20171005T121603Z
UID:1643-1507201200-1507204800@huuru.ee
SUMMARY:Väärikate liikumistund
DESCRIPTION:
URL:https://huuru.ee/sundmus/vaarikate-liikumistund-3/
END:VEVENT
BEGIN:VEVENT
DTSTART;TZID=Europe/Tallinn:20171005T180000
DTEND;TZID=Europe/Tallinn:20171005T190000
DTSTAMP:20260421T201213
CREATED:20170913T085957Z
LAST-MODIFIED:20170913T085957Z
UID:1579-1507226400-1507230000@huuru.ee
SUMMARY:Hüüru Külaseltsi koosolek
DESCRIPTION:
URL:https://huuru.ee/sundmus/huuru-kulaseltsi-koosolek-4/
END:VEVENT
BEGIN:VEVENT
DTSTART;TZID=Europe/Tallinn:20171005T183000
DTEND;TZID=Europe/Tallinn:20171005T193000
DTSTAMP:20260421T201213
CREATED:20170925T124712Z
LAST-MODIFIED:20170925T124712Z
UID:1591-1507228200-1507231800@huuru.ee
SUMMARY:Tantsutreening lastele
DESCRIPTION:
URL:https://huuru.ee/sundmus/tantsutreening-lastele-19/
END:VEVENT
BEGIN:VEVENT
DTSTART;TZID=Europe/Tallinn:20171006T110000
DTEND;TZID=Europe/Tallinn:20171006T130000
DTSTAMP:20260421T201213
CREATED:20170912T082716Z
LAST-MODIFIED:20171005T121529Z
UID:1576-1507287600-1507294800@huuru.ee
SUMMARY:Väärikate jututuba
DESCRIPTION:
URL:https://huuru.ee/sundmus/vaarikate-liikumstund-ja-jututuba/
END:VEVENT
BEGIN:VEVENT
DTSTART;TZID=Europe/Tallinn:20171009T120000
DTEND;TZID=Europe/Tallinn:20171009T200000
DTSTAMP:20260421T201213
CREATED:20170927T091355Z
LAST-MODIFIED:20170927T091632Z
UID:1604-1507550400-1507579200@huuru.ee
SUMMARY:Valimisjaoskond nr 1
DESCRIPTION:Eelhääletamise päevadel 09-11.10.2017 kell 12.00-20.00 ja valimispäeval 15.10.2017 kell 9.00-20.00
URL:https://huuru.ee/sundmus/valimisjaoskond-nr-1/
LOCATION:Hüüru Mõis\, Jõe tee 2\,\, Saue vald\, Hüüru\, 76911\, Eesti
END:VEVENT
BEGIN:VEVENT
DTSTART;TZID=Europe/Tallinn:20171009T200000
DTEND;TZID=Europe/Tallinn:20171009T210000
DTSTAMP:20260421T201213
CREATED:20171005T121822Z
LAST-MODIFIED:20171005T121822Z
UID:1647-1507579200-1507582800@huuru.ee
SUMMARY:Täiskasvanute võimlemine
DESCRIPTION:
URL:https://huuru.ee/sundmus/taiskasvanute-voimlemine-20/
END:VEVENT
BEGIN:VEVENT
DTSTART;TZID=Europe/Tallinn:20171010T120000
DTEND;TZID=Europe/Tallinn:20171010T200000
DTSTAMP:20260421T201213
CREATED:20170927T091537Z
LAST-MODIFIED:20170927T091600Z
UID:1606-1507636800-1507665600@huuru.ee
SUMMARY:Valimisjaoskond nr 1
DESCRIPTION:Eelhääletamise päevadel 09-11.10.2017 kell 12.00-20.00 ja valimispäeval 15.10.2017 kell 9.00-20.00
URL:https://huuru.ee/sundmus/valimisjaoskond-nr-1-2/
LOCATION:Hüüru Mõis\, Jõe tee 2\,\, Saue vald\, Hüüru\, 76911\, Eesti
END:VEVENT
BEGIN:VEVENT
DTSTART;TZID=Europe/Tallinn:20171011T120000
DTEND;TZID=Europe/Tallinn:20171011T200000
DTSTAMP:20260421T201213
CREATED:20170927T091720Z
LAST-MODIFIED:20170927T091720Z
UID:1609-1507723200-1507752000@huuru.ee
SUMMARY:Valimisjaoskond nr 1
DESCRIPTION:Eelhääletamise päevadel 09-11.10.2017 kell 12.00-20.00 ja valimispäeval 15.10.2017 kell 9.00-20.00
URL:https://huuru.ee/sundmus/valimisjaoskond-nr-1-3/
LOCATION:Hüüru Mõis\, Jõe tee 2\,\, Saue vald\, Hüüru\, 76911\, Eesti
END:VEVENT
BEGIN:VEVENT
DTSTART;TZID=Europe/Tallinn:20171012T103000
DTEND;TZID=Europe/Tallinn:20171012T113000
DTSTAMP:20260421T201213
CREATED:20171005T121334Z
LAST-MODIFIED:20171005T121334Z
UID:1638-1507804200-1507807800@huuru.ee
SUMMARY:Väärikate liikumistund
DESCRIPTION:
URL:https://huuru.ee/sundmus/vaarikate-liikumistund/
END:VEVENT
BEGIN:VEVENT
DTSTART;TZID=Europe/Tallinn:20171012T183000
DTEND;TZID=Europe/Tallinn:20171012T193000
DTSTAMP:20260421T201213
CREATED:20170925T124748Z
LAST-MODIFIED:20170925T124748Z
UID:1593-1507833000-1507836600@huuru.ee
SUMMARY:Tantsutreening lastele
DESCRIPTION:
URL:https://huuru.ee/sundmus/tantsutreening-lastele-20/
END:VEVENT
BEGIN:VEVENT
DTSTART;TZID=Europe/Tallinn:20171015T090000
DTEND;TZID=Europe/Tallinn:20171015T200000
DTSTAMP:20260421T201213
CREATED:20170927T105446Z
LAST-MODIFIED:20170927T105500Z
UID:1613-1508058000-1508097600@huuru.ee
SUMMARY:Kohalikud omavalituse valimised
DESCRIPTION:
URL:https://huuru.ee/sundmus/kohalikud-omavalituse-valimised/
LOCATION:Hüüru Mõis\, Jõe tee 2\,\, Saue vald\, Hüüru\, 76911\, Eesti
END:VEVENT
BEGIN:VEVENT
DTSTART;TZID=Europe/Tallinn:20171016T190000
DTEND;TZID=Europe/Tallinn:20171016T200000
DTSTAMP:20260421T201213
CREATED:20170929T082845Z
LAST-MODIFIED:20170929T082845Z
UID:1620-1508180400-1508184000@huuru.ee
SUMMARY:Täiskasvanute võimlemine
DESCRIPTION:
URL:https://huuru.ee/sundmus/taiskasvanute-voimlemine-21/
END:VEVENT
END:VCALENDAR