BEGIN:VCALENDAR
VERSION:2.0
PRODID:-//H&uuml;&uuml;ru m&otilde;is - ECPv6.15.20//NONSGML v1.0//EN
CALSCALE:GREGORIAN
METHOD:PUBLISH
X-WR-CALNAME:H&uuml;&uuml;ru m&otilde;is
X-ORIGINAL-URL:https://huuru.ee
X-WR-CALDESC:Events for H&uuml;&uuml;ru m&otilde;is
REFRESH-INTERVAL;VALUE=DURATION:PT1H
X-Robots-Tag:noindex
X-PUBLISHED-TTL:PT1H
BEGIN:VTIMEZONE
TZID:Europe/Tallinn
BEGIN:DAYLIGHT
TZOFFSETFROM:+0200
TZOFFSETTO:+0300
TZNAME:EEST
DTSTART:20180325T010000
END:DAYLIGHT
BEGIN:STANDARD
TZOFFSETFROM:+0300
TZOFFSETTO:+0200
TZNAME:EET
DTSTART:20181028T010000
END:STANDARD
BEGIN:DAYLIGHT
TZOFFSETFROM:+0200
TZOFFSETTO:+0300
TZNAME:EEST
DTSTART:20190331T010000
END:DAYLIGHT
BEGIN:STANDARD
TZOFFSETFROM:+0300
TZOFFSETTO:+0200
TZNAME:EET
DTSTART:20191027T010000
END:STANDARD
BEGIN:DAYLIGHT
TZOFFSETFROM:+0200
TZOFFSETTO:+0300
TZNAME:EEST
DTSTART:20200329T010000
END:DAYLIGHT
BEGIN:STANDARD
TZOFFSETFROM:+0300
TZOFFSETTO:+0200
TZNAME:EET
DTSTART:20201025T010000
END:STANDARD
END:VTIMEZONE
BEGIN:VEVENT
DTSTART;TZID=Europe/Tallinn:20190516T130000
DTEND;TZID=Europe/Tallinn:20190516T193000
DTSTAMP:20260423T232503
CREATED:20190502T144431Z
LAST-MODIFIED:20190502T144431Z
UID:2602-1558011600-1558035000@huuru.ee
SUMMARY:Saviring lastele ja täiskasvanutele
DESCRIPTION:
URL:https://huuru.ee/sundmus/saviring-lastele-ja-taiskasvanutele-14/
END:VEVENT
BEGIN:VEVENT
DTSTART;TZID=Europe/Tallinn:20190518T170000
DTEND;TZID=Europe/Tallinn:20190518T220000
DTSTAMP:20260423T232503
CREATED:20190429T124006Z
LAST-MODIFIED:20190429T124006Z
UID:2582-1558198800-1558216800@huuru.ee
SUMMARY:Muuseumiööl Hüüru mõisas
DESCRIPTION:Hüüru mõisahoone avatud alates kella 17.00\nKell 18.00 segakoor Meriko kontsert mõisasaalis “Koduküla\, kodumaa”\, dirigeerib Merike Toro\nKell 18.30 Valdo Subi ja Jaan Audru ansambel „Puutöö“ esitamisele tuleb nii klassika ja popmuusikat\nMTÜ Konstantin Pätsi Muuseumi väljapanek ja vestlusring muuseumilugudest \nMõisasaalis näitus “Kivis on mustreid!”\nKivide mustreid on püüdnud lugeda\, tõlgendada ja vahendada:\nHelle Perens – paenäidised\nBeata Vessart – “pehmed kivid”\nMargus Rebane – nikerdused paeveeristel \nTäpsem ajakava Hüüru külaseltsi kodulehel – https://huuru.ee/ ja facebookis https://www.facebook.com/huuru/ \nOluline lisainfo\nMuuseum ei ole lahti igapäevaselt\, seega suurepärane võimalus tutvuda Konstantin Pätsi muuseumi tegevuse ja museaalidega.\nAvatud on kohvik – Presidendi kohv ja vanadest retseptidest hõrgutised!
URL:https://huuru.ee/sundmus/muuseumiool-huuru-moisas/
ATTACH;FMTTYPE=application/pdf:https://huuru.ee/wp-content/uploads/2019/04/Teksti-kohatäide-6.pdf
END:VEVENT
BEGIN:VEVENT
DTSTART;TZID=Europe/Tallinn:20190520T190000
DTEND;TZID=Europe/Tallinn:20190520T200000
DTSTAMP:20260423T232503
CREATED:20190502T142922Z
LAST-MODIFIED:20190502T142922Z
UID:2594-1558378800-1558382400@huuru.ee
SUMMARY:Täiskasvanute võimlemine
DESCRIPTION:
URL:https://huuru.ee/sundmus/taiskasvanute-voimlemine-80/
END:VEVENT
BEGIN:VEVENT
DTSTART;TZID=Europe/Tallinn:20190523T130000
DTEND;TZID=Europe/Tallinn:20190523T193000
DTSTAMP:20260423T232503
CREATED:20190502T144604Z
LAST-MODIFIED:20190502T144604Z
UID:2606-1558616400-1558639800@huuru.ee
SUMMARY:Saviring lastele ja täiskasvanutele
DESCRIPTION:
URL:https://huuru.ee/sundmus/saviring-lastele-ja-taiskasvanutele-16/
END:VEVENT
BEGIN:VEVENT
DTSTART;TZID=Europe/Tallinn:20190525T095000
DTEND;TZID=Europe/Tallinn:20190525T101000
DTSTAMP:20260423T232503
CREATED:20190503T090030Z
LAST-MODIFIED:20190503T090111Z
UID:2609-1558777800-1558779000@huuru.ee
SUMMARY:Ohtlike jäätmete\, elektroonikajäätmete ja vanade rehvide kogumisring.
DESCRIPTION:25. mail kella 9.50-10.10 saab Hüüru mõisa parkimisplatsil ära anda ohtlikud jäätmed\, elektroonikajäätmed ja vanad rehvid.
URL:https://huuru.ee/sundmus/ohtlike-jaatmete-elektroonikajaatmete-ja-vanade-rehvide-kogumisring/
END:VEVENT
BEGIN:VEVENT
DTSTART;TZID=Europe/Tallinn:20190527T190000
DTEND;TZID=Europe/Tallinn:20190527T200000
DTSTAMP:20260423T232503
CREATED:20190502T142951Z
LAST-MODIFIED:20190502T142951Z
UID:2596-1558983600-1558987200@huuru.ee
SUMMARY:Täiskasvanute võimlemine
DESCRIPTION:
URL:https://huuru.ee/sundmus/taiskasvanute-voimlemine-81/
END:VEVENT
BEGIN:VEVENT
DTSTART;TZID=Europe/Tallinn:20190530T130000
DTEND;TZID=Europe/Tallinn:20190530T193000
DTSTAMP:20260423T232503
CREATED:20190502T144502Z
LAST-MODIFIED:20190502T144502Z
UID:2604-1559221200-1559244600@huuru.ee
SUMMARY:Saviring lastele ja täiskasvanutele
DESCRIPTION:
URL:https://huuru.ee/sundmus/saviring-lastele-ja-taiskasvanutele-15/
END:VEVENT
BEGIN:VEVENT
DTSTART;TZID=Europe/Tallinn:20190601T100000
DTEND;TZID=Europe/Tallinn:20190601T150000
DTSTAMP:20260423T232503
CREATED:20190401T140005Z
LAST-MODIFIED:20190401T140005Z
UID:2560-1559383200-1559401200@huuru.ee
SUMMARY:Vatsla täika
DESCRIPTION:
URL:https://huuru.ee/sundmus/vatsla-taika/
ATTACH;FMTTYPE=image/png:https://huuru.ee/wp-content/uploads/2019/04/VatslaTäika_fb.png
END:VEVENT
BEGIN:VEVENT
DTSTART;TZID=Europe/Tallinn:20190606T130000
DTEND;TZID=Europe/Tallinn:20190606T193000
DTSTAMP:20260423T232503
CREATED:20190527T130019Z
LAST-MODIFIED:20190527T130046Z
UID:2612-1559826000-1559849400@huuru.ee
SUMMARY:Saviring lastele ja täiskasvanutele
DESCRIPTION:
URL:https://huuru.ee/sundmus/saviring-lastele-ja-taiskasvanutele-17/
END:VEVENT
BEGIN:VEVENT
DTSTART;TZID=Europe/Tallinn:20190611T170000
DTEND;TZID=Europe/Tallinn:20190611T210000
DTSTAMP:20260423T232503
CREATED:20190530T104152Z
LAST-MODIFIED:20190530T104152Z
UID:2614-1560272400-1560286800@huuru.ee
SUMMARY:Hüüru mõisas taimetrüki töötuba
DESCRIPTION:Taimetrüki (ecoprint) tehnikas põimuvad omavahel loodus ja looming\, keemia ja vanarahva tarkuseterad.\nTöötoas õpime\, kuidas talletada taimedes peituvad värvid ja mustrid siidisallile. \nJuhendaja Ave Soekov\nOsalustasu 15 €\, sisaldab kõik vajalikud materjalid.\nEelregistreerumine: info@huuru.ee
URL:https://huuru.ee/sundmus/huuru-moisas-taimetruki-tootuba/
END:VEVENT
BEGIN:VEVENT
DTSTART;TZID=Europe/Tallinn:20190616T190000
DTEND;TZID=Europe/Tallinn:20190616T220000
DTSTAMP:20260423T232503
CREATED:20190603T133614Z
LAST-MODIFIED:20190603T133614Z
UID:2629-1560711600-1560722400@huuru.ee
SUMMARY:Eesti Draamateatri etendus "Isamaa pääsukesed" Keila kultuurikeskuses
DESCRIPTION:Etendus on ühe vaheajaga ning kestab 2 tundi ja 50 minutit.\n“Isamaa pääsukesed” on Eesti Draamateatri ja Nargenfestivali ühistöö ning kuulub EV 100 teatrisarja “Sajandi lugu”.\nEesti Vabariik saab 100-aastaseks ja sel puhul otsustab näitering “Virmaline” tuua lavale Vabadussõjale pühendatud muusikali “Isamaa pääsukesed”. Paraku pole Eesti elu saja aasta jooksul kuigi palju muutunud: kui tollal ei viitsinud mehed sõtta minna\, siis nüüd ei viitsita teha näitemängu. Seega peavad tublid naised kogu koorma endi õlule võtma ja ise juubeli tähistamisega toime tulema. \n16. juunil 2019 kell 19.00 Keila kultuurikeskuses. \nTellitud on ühine buss. Sõidu algus Keilasse 18.15. \nPileteid saab soetada Hüüru mõisast \nsooduspilet 20€\, täispilet 25€
URL:https://huuru.ee/sundmus/eesti-draamateatri-etendus-isamaa-paasukesed-keila-kultuurikeskuses/
ATTACH;FMTTYPE=application/pdf:https://huuru.ee/wp-content/uploads/2019/06/Text-placeholder-3.pdf
END:VEVENT
BEGIN:VEVENT
DTSTART;TZID=Europe/Tallinn:20190617T100000
DTEND;TZID=Europe/Tallinn:20190617T150000
DTSTAMP:20260423T232503
CREATED:20190603T131850Z
LAST-MODIFIED:20190603T142406Z
UID:2617-1560765600-1560783600@huuru.ee
SUMMARY:Hüüru lastelaager
DESCRIPTION:
URL:https://huuru.ee/sundmus/huuru-lastelaager/
ATTACH;FMTTYPE=application/pdf:https://huuru.ee/wp-content/uploads/2019/06/Hüüru-lastelaaager-4-2.pdf
END:VEVENT
BEGIN:VEVENT
DTSTART;TZID=Europe/Tallinn:20190618T100000
DTEND;TZID=Europe/Tallinn:20190618T150000
DTSTAMP:20260423T232503
CREATED:20190603T131951Z
LAST-MODIFIED:20190603T142307Z
UID:2620-1560852000-1560870000@huuru.ee
SUMMARY:Hüüru lastelaager
DESCRIPTION:
URL:https://huuru.ee/sundmus/huuru-lastelaager-2/
ATTACH;FMTTYPE=application/pdf:https://huuru.ee/wp-content/uploads/2019/06/Hüüru-lastelaaager-4-1.pdf
END:VEVENT
BEGIN:VEVENT
DTSTART;TZID=Europe/Tallinn:20190619T100000
DTEND;TZID=Europe/Tallinn:20190619T150000
DTSTAMP:20260423T232503
CREATED:20190603T132027Z
LAST-MODIFIED:20190603T142641Z
UID:2623-1560938400-1560956400@huuru.ee
SUMMARY:Hüüru lastelaager
DESCRIPTION:
URL:https://huuru.ee/sundmus/huuru-lastelaager-3/
ATTACH;FMTTYPE=application/pdf:https://huuru.ee/wp-content/uploads/2019/06/Hüüru-lastelaaager-4-3.pdf
END:VEVENT
BEGIN:VEVENT
DTSTART;TZID=Europe/Tallinn:20190620T100000
DTEND;TZID=Europe/Tallinn:20190620T150000
DTSTAMP:20260423T232503
CREATED:20190603T132147Z
LAST-MODIFIED:20190603T142329Z
UID:2626-1561024800-1561042800@huuru.ee
SUMMARY:Hüüru lastelaager
DESCRIPTION:
URL:https://huuru.ee/sundmus/huuru-lastelaager-4/
ATTACH;FMTTYPE=application/pdf:https://huuru.ee/wp-content/uploads/2019/06/Hüüru-lastelaaager-4.pdf
END:VEVENT
BEGIN:VEVENT
DTSTART;TZID=Europe/Tallinn:20190704T140000
DTEND;TZID=Europe/Tallinn:20190704T190000
DTSTAMP:20260423T232503
CREATED:20190722T111359Z
LAST-MODIFIED:20190722T112754Z
UID:2647-1562248800-1562266800@huuru.ee
SUMMARY:Saviring lastele ja täiskasvanutele
DESCRIPTION:Hüüru küla lastele juulis-augustis\, neljapäeviti 15-16.30 saviringis tasuta meisterdamine. \nRõõmsate kohtumisteni!
URL:https://huuru.ee/sundmus/saviring-lastele-ja-taiskasvanutele-18/
END:VEVENT
BEGIN:VEVENT
DTSTART;TZID=Europe/Tallinn:20190711T140000
DTEND;TZID=Europe/Tallinn:20190711T190000
DTSTAMP:20260423T232503
CREATED:20190722T112912Z
LAST-MODIFIED:20190722T113659Z
UID:2652-1562853600-1562871600@huuru.ee
SUMMARY:Saviring lastele ja täiskasvanutele
DESCRIPTION:Hüüru küla lastele juulis-augustis\, neljapäeviti 15-16.30 saviringis tasuta meisterdamine. \nRõõmsate kohtumisteni!
URL:https://huuru.ee/sundmus/saviring-lastele-ja-taiskasvanutele-19/
END:VEVENT
BEGIN:VEVENT
DTSTART;TZID=Europe/Tallinn:20190718T100000
DTEND;TZID=Europe/Tallinn:20190718T190000
DTSTAMP:20260423T232503
CREATED:20190722T113732Z
LAST-MODIFIED:20190722T113732Z
UID:2654-1563444000-1563476400@huuru.ee
SUMMARY:Saviring lastele ja täiskasvanutele
DESCRIPTION:Hüüru küla lastele juulis-augustis\, neljapäeviti 15-16.30 saviringis tasuta meisterdamine. \nRõõmsate kohtumisteni!
URL:https://huuru.ee/sundmus/saviring-lastele-ja-taiskasvanutele-20/
END:VEVENT
BEGIN:VEVENT
DTSTART;TZID=Europe/Tallinn:20190725T140000
DTEND;TZID=Europe/Tallinn:20190725T190000
DTSTAMP:20260423T232503
CREATED:20190722T113930Z
LAST-MODIFIED:20190722T113930Z
UID:2658-1564063200-1564081200@huuru.ee
SUMMARY:Saviring lastele ja täiskasvanutele
DESCRIPTION:Hüüru küla lastele juulis-augustis\, neljapäeviti 15-16.30 saviringis tasuta meisterdamine. \nRõõmsate kohtumisteni!
URL:https://huuru.ee/sundmus/saviring-lastele-ja-taiskasvanutele-21/
END:VEVENT
BEGIN:VEVENT
DTSTART;TZID=Europe/Tallinn:20190731T190000
DTEND;TZID=Europe/Tallinn:20190731T203000
DTSTAMP:20260423T232503
CREATED:20190722T105735Z
LAST-MODIFIED:20190724T070933Z
UID:2645-1564599600-1564605000@huuru.ee
SUMMARY:Laule ja lugusid loomadest: Anne Adams ja Aleksei Turovski
DESCRIPTION:Naljakaid ja põnevaid lugusid loomadest jutustab Aleksei Turovski. Muusikalisi paralleele kuulamiseks esitab Anne Adams.\nPilet 12€ ja sooduspilet 10€\, müügil Hüüru mõisas\nLisainfo tel: 60 71 358 mobiil: 52 38 261\nepost: info@huuru.ee
URL:https://huuru.ee/sundmus/laule-ja-lugusid-loomadest-anne-adams-ja-aleksei-turovski/
END:VEVENT
BEGIN:VEVENT
DTSTART;TZID=Europe/Tallinn:20190801T140000
DTEND;TZID=Europe/Tallinn:20190801T190000
DTSTAMP:20260423T232503
CREATED:20190722T114109Z
LAST-MODIFIED:20190722T114109Z
UID:2662-1564668000-1564686000@huuru.ee
SUMMARY:Saviring lastele ja täiskasvanutele
DESCRIPTION:Hüüru küla lastele juulis-augustis\, neljapäeviti 15-16.30 saviringis tasuta meisterdamine. \nRõõmsate kohtumisteni!
URL:https://huuru.ee/sundmus/saviring-lastele-ja-taiskasvanutele-23/
END:VEVENT
BEGIN:VEVENT
DTSTART;TZID=Europe/Tallinn:20190808T140000
DTEND;TZID=Europe/Tallinn:20190808T190000
DTSTAMP:20260423T232503
CREATED:20190808T150103Z
LAST-MODIFIED:20190808T150103Z
UID:2681-1565272800-1565290800@huuru.ee
SUMMARY:Saviring lastele ja täiskasvanutele
DESCRIPTION:Hüüru küla lastele juulis-augustis\, neljapäeviti 15-16.30 saviringis tasuta meisterdamine. \nRõõmsate kohtumisteni!
URL:https://huuru.ee/sundmus/saviring-lastele-ja-taiskasvanutele-22/
END:VEVENT
BEGIN:VEVENT
DTSTART;TZID=Europe/Tallinn:20190812T100000
DTEND;TZID=Europe/Tallinn:20190812T150000
DTSTAMP:20260423T232503
CREATED:20190729T203001Z
LAST-MODIFIED:20190729T203001Z
UID:2666-1565604000-1565622000@huuru.ee
SUMMARY:Hüüru lastelaager
DESCRIPTION:
URL:https://huuru.ee/sundmus/huuru-lastelaager-5/
ATTACH;FMTTYPE=application/pdf:https://huuru.ee/wp-content/uploads/2019/07/Hüüru-lastelaaager-8.pdf
END:VEVENT
BEGIN:VEVENT
DTSTART;TZID=Europe/Tallinn:20190813T100000
DTEND;TZID=Europe/Tallinn:20190813T150000
DTSTAMP:20260423T232503
CREATED:20190729T203148Z
LAST-MODIFIED:20190729T203148Z
UID:2669-1565690400-1565708400@huuru.ee
SUMMARY:Hüüru lastelaager
DESCRIPTION:
URL:https://huuru.ee/sundmus/huuru-lastelaager-6/
ATTACH;FMTTYPE=application/pdf:https://huuru.ee/wp-content/uploads/2019/07/Hüüru-lastelaaager-8-1.pdf
END:VEVENT
BEGIN:VEVENT
DTSTART;TZID=Europe/Tallinn:20190814T100000
DTEND;TZID=Europe/Tallinn:20190814T150000
DTSTAMP:20260423T232503
CREATED:20190729T203348Z
LAST-MODIFIED:20190729T203348Z
UID:2672-1565776800-1565794800@huuru.ee
SUMMARY:Hüüru lastelaager
DESCRIPTION:
URL:https://huuru.ee/sundmus/huuru-lastelaager-7/
ATTACH;FMTTYPE=application/pdf:https://huuru.ee/wp-content/uploads/2019/07/Hüüru-lastelaaager-8-2.pdf
END:VEVENT
BEGIN:VEVENT
DTSTART;TZID=Europe/Tallinn:20190815T100000
DTEND;TZID=Europe/Tallinn:20190815T150000
DTSTAMP:20260423T232503
CREATED:20190729T203554Z
LAST-MODIFIED:20190729T203554Z
UID:2675-1565863200-1565881200@huuru.ee
SUMMARY:Hüüru lastelaager
DESCRIPTION:
URL:https://huuru.ee/sundmus/huuru-lastelaager-8/
ATTACH;FMTTYPE=application/pdf:https://huuru.ee/wp-content/uploads/2019/07/Hüüru-lastelaaager-8-3.pdf
END:VEVENT
BEGIN:VEVENT
DTSTART;TZID=Europe/Tallinn:20190815T140000
DTEND;TZID=Europe/Tallinn:20190815T190000
DTSTAMP:20260423T232503
CREATED:20190808T150155Z
LAST-MODIFIED:20190808T150155Z
UID:2683-1565877600-1565895600@huuru.ee
SUMMARY:Saviring lastele ja täiskasvanutele
DESCRIPTION:Hüüru küla lastele juulis-augustis\, neljapäeviti 15-16.30 saviringis tasuta meisterdamine. \nRõõmsate kohtumisteni!
URL:https://huuru.ee/sundmus/saviring-lastele-ja-taiskasvanutele-24/
END:VEVENT
BEGIN:VEVENT
DTSTART;TZID=Europe/Tallinn:20190822T140000
DTEND;TZID=Europe/Tallinn:20190822T190000
DTSTAMP:20260423T232503
CREATED:20190808T150233Z
LAST-MODIFIED:20190808T150233Z
UID:2685-1566482400-1566500400@huuru.ee
SUMMARY:Saviring lastele ja täiskasvanutele
DESCRIPTION:Hüüru küla lastele juulis-augustis\, neljapäeviti 15-16.30 saviringis tasuta meisterdamine. \nRõõmsate kohtumisteni!
URL:https://huuru.ee/sundmus/saviring-lastele-ja-taiskasvanutele-25/
END:VEVENT
BEGIN:VEVENT
DTSTART;TZID=Europe/Tallinn:20190828T150000
DTEND;TZID=Europe/Tallinn:20190828T163000
DTSTAMP:20260423T232503
CREATED:20190827T094403Z
LAST-MODIFIED:20190827T094403Z
UID:2694-1567004400-1567009800@huuru.ee
SUMMARY:Väärikate jututuba kutsub kohtuma pr. Inge Bergmanniga
DESCRIPTION:Inge Bergmann on pea 80- aastane seiklejavaimuga arst\, päritoluga ida-Berliinist. Külastanud üle 100 riigi\, töötanud “piirideta arstid” projekti raames Filipiinidel ja Namiibias. Aktiivse ja liikuva eluhoiakuga inimene jagab ja muljetab oma tegemistest ja seiklustest maailmas.
URL:https://huuru.ee/sundmus/vaarikate-jututuba-kutsub-kohtuma-pr-inge-bergmanniga/
END:VEVENT
BEGIN:VEVENT
DTSTART;TZID=Europe/Tallinn:20190829T140000
DTEND;TZID=Europe/Tallinn:20190829T190000
DTSTAMP:20260423T232503
CREATED:20190808T150304Z
LAST-MODIFIED:20190808T150304Z
UID:2687-1567087200-1567105200@huuru.ee
SUMMARY:Saviring lastele ja täiskasvanutele
DESCRIPTION:Hüüru küla lastele juulis-augustis\, neljapäeviti 15-16.30 saviringis tasuta meisterdamine. \nRõõmsate kohtumisteni!
URL:https://huuru.ee/sundmus/saviring-lastele-ja-taiskasvanutele-26/
END:VEVENT
END:VCALENDAR