BEGIN:VCALENDAR
VERSION:2.0
PRODID:-//H&uuml;&uuml;ru m&otilde;is - ECPv6.15.20//NONSGML v1.0//EN
CALSCALE:GREGORIAN
METHOD:PUBLISH
X-WR-CALNAME:H&uuml;&uuml;ru m&otilde;is
X-ORIGINAL-URL:https://huuru.ee
X-WR-CALDESC:Events for H&uuml;&uuml;ru m&otilde;is
REFRESH-INTERVAL;VALUE=DURATION:PT1H
X-Robots-Tag:noindex
X-PUBLISHED-TTL:PT1H
BEGIN:VTIMEZONE
TZID:Europe/Tallinn
BEGIN:DAYLIGHT
TZOFFSETFROM:+0200
TZOFFSETTO:+0300
TZNAME:EEST
DTSTART:20180325T010000
END:DAYLIGHT
BEGIN:STANDARD
TZOFFSETFROM:+0300
TZOFFSETTO:+0200
TZNAME:EET
DTSTART:20181028T010000
END:STANDARD
BEGIN:DAYLIGHT
TZOFFSETFROM:+0200
TZOFFSETTO:+0300
TZNAME:EEST
DTSTART:20190331T010000
END:DAYLIGHT
BEGIN:STANDARD
TZOFFSETFROM:+0300
TZOFFSETTO:+0200
TZNAME:EET
DTSTART:20191027T010000
END:STANDARD
BEGIN:DAYLIGHT
TZOFFSETFROM:+0200
TZOFFSETTO:+0300
TZNAME:EEST
DTSTART:20200329T010000
END:DAYLIGHT
BEGIN:STANDARD
TZOFFSETFROM:+0300
TZOFFSETTO:+0200
TZNAME:EET
DTSTART:20201025T010000
END:STANDARD
END:VTIMEZONE
BEGIN:VEVENT
DTSTART;TZID=Europe/Tallinn:20191005T113000
DTEND;TZID=Europe/Tallinn:20191005T114500
DTSTAMP:20260424T165556
CREATED:20190923T152146Z
LAST-MODIFIED:20190923T152146Z
UID:2735-1570275000-1570275900@huuru.ee
SUMMARY:Ohtlike ja elektroonikajäätmete ning vanarehvide kogumisring
DESCRIPTION:Hüüru küla\, Hüüru mõisa parkla
URL:https://huuru.ee/sundmus/ohtlike-ja-elektroonikajaatmete-ning-vanarehvide-kogumisring/
END:VEVENT
BEGIN:VEVENT
DTSTART;TZID=Europe/Tallinn:20191006T180000
DTEND;TZID=Europe/Tallinn:20191006T193000
DTSTAMP:20260424T165556
CREATED:20190918T082515Z
LAST-MODIFIED:20190918T111408Z
UID:2728-1570384800-1570390200@huuru.ee
SUMMARY:Film "Kohtunik"
DESCRIPTION:Kohtunik (Mait Malmsten) on mees\, kes esindab kohtusaalis seadust ja rangeid reegleid\, kuid tema enda eraelus puudub igasugune kord. Kui ta oma järjekordsel kohtuistungil määrab pikaajalise vanglakaristuse naisele\, hakkab süüdimõistetud naise vend (Märt Avandi) teda jälitama. Vend leiab\, et langetatud otsus on ebaõiglane ning nõuab\, et kohtunik oma otsust muudaks. Kohtunik jääb endale kindlaks – otsus on langetatud. Meeste vahel tekkinud konflikti tõttu saab aga ühtäkki õigusemõistjast endast kurjategija. \nSuutmata oma süütegu tunnistada\, põgeneb kohtunik Soome. Oma teekonnal teisel pool lahte\, satub ta erinevatesse koomilistesse olukordadesse ja kohtab kummalisi inimesi. \n“Kohtunik” on musta huumoriga vürtsitatud road movie\, mille peaosades astuvad üles Mait Malmsten (“Kertu”\, “Rotilõks”) ja Märt Avandi (“Vehkleja”\, “Punane elavhõbe”). Filmi lavastaja ja stsenarist on Andres Puustusmaa (“Rohelised kassid”\, “18-14”\, “Punane elavhõbe”). Filmi tootis Leo Production ja levitab ACME Film. \nPilet 5€\nSooduspilet 3\,5€
URL:https://huuru.ee/sundmus/film-kohtunik/
ATTACH;FMTTYPE=application/pdf:https://huuru.ee/wp-content/uploads/2019/09/Lisage-alapealkiri.pdf
END:VEVENT
BEGIN:VEVENT
DTSTART;TZID=Europe/Tallinn:20191008T190000
DTEND;TZID=Europe/Tallinn:20191008T200000
DTSTAMP:20260424T165556
CREATED:20191003T084405Z
LAST-MODIFIED:20191003T084405Z
UID:2773-1570561200-1570564800@huuru.ee
SUMMARY:Täiskasvanute treening
DESCRIPTION:
URL:https://huuru.ee/sundmus/taiskasvanute-treening/
END:VEVENT
BEGIN:VEVENT
DTSTART;TZID=Europe/Tallinn:20191009T183000
DTEND;TZID=Europe/Tallinn:20191009T193000
DTSTAMP:20260424T165556
CREATED:20191001T144435Z
LAST-MODIFIED:20191001T144435Z
UID:2740-1570645800-1570649400@huuru.ee
SUMMARY:Laste tantsutrenn
DESCRIPTION:
URL:https://huuru.ee/sundmus/laste-tantsutrenn-32/
END:VEVENT
BEGIN:VEVENT
DTSTART;TZID=Europe/Tallinn:20191010T150000
DTEND;TZID=Europe/Tallinn:20191010T163000
DTSTAMP:20260424T165556
CREATED:20191001T144838Z
LAST-MODIFIED:20191001T144838Z
UID:2752-1570719600-1570725000@huuru.ee
SUMMARY:Saviring lastele
DESCRIPTION:
URL:https://huuru.ee/sundmus/saviring-lastele-27/
END:VEVENT
BEGIN:VEVENT
DTSTART;TZID=Europe/Tallinn:20191010T170000
DTEND;TZID=Europe/Tallinn:20191010T190000
DTSTAMP:20260424T165556
CREATED:20191001T144910Z
LAST-MODIFIED:20191001T144910Z
UID:2754-1570726800-1570734000@huuru.ee
SUMMARY:Saviring täiskasvanutele
DESCRIPTION:
URL:https://huuru.ee/sundmus/saviring-taiskasvanutele-27/
END:VEVENT
BEGIN:VEVENT
DTSTART;TZID=Europe/Tallinn:20191014T190000
DTEND;TZID=Europe/Tallinn:20191014T200000
DTSTAMP:20260424T165556
CREATED:20191003T084528Z
LAST-MODIFIED:20191003T084528Z
UID:2775-1571079600-1571083200@huuru.ee
SUMMARY:Täiskasvanute treening
DESCRIPTION:
URL:https://huuru.ee/sundmus/taiskasvanute-treening-2/
END:VEVENT
BEGIN:VEVENT
DTSTART;TZID=Europe/Tallinn:20191016T183000
DTEND;TZID=Europe/Tallinn:20191016T193000
DTSTAMP:20260424T165556
CREATED:20191001T144501Z
LAST-MODIFIED:20191001T144501Z
UID:2742-1571250600-1571254200@huuru.ee
SUMMARY:Laste tantsutrenn
DESCRIPTION:
URL:https://huuru.ee/sundmus/laste-tantsutrenn-33/
END:VEVENT
BEGIN:VEVENT
DTSTART;TZID=Europe/Tallinn:20191017T150000
DTEND;TZID=Europe/Tallinn:20191017T163000
DTSTAMP:20260424T165556
CREATED:20191001T144942Z
LAST-MODIFIED:20191001T144942Z
UID:2756-1571324400-1571329800@huuru.ee
SUMMARY:Saviring lastele
DESCRIPTION:
URL:https://huuru.ee/sundmus/saviring-lastele-28/
END:VEVENT
BEGIN:VEVENT
DTSTART;TZID=Europe/Tallinn:20191017T170000
DTEND;TZID=Europe/Tallinn:20191017T190000
DTSTAMP:20260424T165556
CREATED:20191001T145016Z
LAST-MODIFIED:20191001T145016Z
UID:2758-1571331600-1571338800@huuru.ee
SUMMARY:Saviring täiskasvanutele
DESCRIPTION:
URL:https://huuru.ee/sundmus/saviring-taiskasvanutele-28/
END:VEVENT
BEGIN:VEVENT
DTSTART;TZID=Europe/Tallinn:20191021T100000
DTEND;TZID=Europe/Tallinn:20191021T150000
DTSTAMP:20260424T165556
CREATED:20191007T125034Z
LAST-MODIFIED:20191007T125034Z
UID:2781-1571652000-1571670000@huuru.ee
SUMMARY:Koolivaheaja Tehnotrennilaager Mectorys
DESCRIPTION:
URL:https://huuru.ee/sundmus/koolivaheaja-tehnotrennilaager-mectorys/
END:VEVENT
BEGIN:VEVENT
DTSTART;TZID=Europe/Tallinn:20191022T100000
DTEND;TZID=Europe/Tallinn:20191022T150000
DTSTAMP:20260424T165556
CREATED:20191007T125054Z
LAST-MODIFIED:20191007T125054Z
UID:2783-1571738400-1571756400@huuru.ee
SUMMARY:Koolivaheaja Tehnotrennilaager Mectorys
DESCRIPTION:
URL:https://huuru.ee/sundmus/koolivaheaja-tehnotrennilaager-mectorys-2/
END:VEVENT
BEGIN:VEVENT
DTSTART;TZID=Europe/Tallinn:20191022T190000
DTEND;TZID=Europe/Tallinn:20191022T200000
DTSTAMP:20260424T165556
CREATED:20191003T084623Z
LAST-MODIFIED:20191020T162749Z
UID:2777-1571770800-1571774400@huuru.ee
SUMMARY:Täiskasvanute treening
DESCRIPTION:
URL:https://huuru.ee/sundmus/taiskasvanute-treening-3/
END:VEVENT
BEGIN:VEVENT
DTSTART;TZID=Europe/Tallinn:20191023T100000
DTEND;TZID=Europe/Tallinn:20191023T150000
DTSTAMP:20260424T165556
CREATED:20191007T125112Z
LAST-MODIFIED:20191007T125112Z
UID:2785-1571824800-1571842800@huuru.ee
SUMMARY:Koolivaheaja Tehnotrennilaager Mectorys
DESCRIPTION:
URL:https://huuru.ee/sundmus/koolivaheaja-tehnotrennilaager-mectorys-3/
END:VEVENT
BEGIN:VEVENT
DTSTART;TZID=Europe/Tallinn:20191023T183000
DTEND;TZID=Europe/Tallinn:20191023T193000
DTSTAMP:20260424T165556
CREATED:20191001T144525Z
LAST-MODIFIED:20191023T070726Z
UID:2744-1571855400-1571859000@huuru.ee
SUMMARY:Laste tantsutrenn - jääb ära
DESCRIPTION:
URL:https://huuru.ee/sundmus/laste-tantsutrenn-34/
END:VEVENT
BEGIN:VEVENT
DTSTART;TZID=Europe/Tallinn:20191024T100000
DTEND;TZID=Europe/Tallinn:20191024T150000
DTSTAMP:20260424T165556
CREATED:20191007T125129Z
LAST-MODIFIED:20191007T125129Z
UID:2787-1571911200-1571929200@huuru.ee
SUMMARY:Koolivaheaja Tehnotrennilaager Mectorys
DESCRIPTION:
URL:https://huuru.ee/sundmus/koolivaheaja-tehnotrennilaager-mectorys-4/
END:VEVENT
BEGIN:VEVENT
DTSTART;TZID=Europe/Tallinn:20191024T150000
DTEND;TZID=Europe/Tallinn:20191024T163000
DTSTAMP:20260424T165556
CREATED:20191001T145129Z
LAST-MODIFIED:20191001T145129Z
UID:2760-1571929200-1571934600@huuru.ee
SUMMARY:Saviring lastele
DESCRIPTION:
URL:https://huuru.ee/sundmus/saviring-lastele-29/
END:VEVENT
BEGIN:VEVENT
DTSTART;TZID=Europe/Tallinn:20191024T170000
DTEND;TZID=Europe/Tallinn:20191024T190000
DTSTAMP:20260424T165556
CREATED:20191001T145159Z
LAST-MODIFIED:20191001T145159Z
UID:2762-1571936400-1571943600@huuru.ee
SUMMARY:Saviring täiskasvanutele
DESCRIPTION:
URL:https://huuru.ee/sundmus/saviring-taiskasvanutele-29/
END:VEVENT
BEGIN:VEVENT
DTSTART;TZID=Europe/Tallinn:20191026T100000
DTEND;TZID=Europe/Tallinn:20191026T150000
DTSTAMP:20260424T165556
CREATED:20190918T111310Z
LAST-MODIFIED:20190918T111310Z
UID:2731-1572084000-1572102000@huuru.ee
SUMMARY:Hüüru sügistalgud
DESCRIPTION:
URL:https://huuru.ee/sundmus/huuru-sugistalgud/
ATTACH;FMTTYPE=application/pdf:https://huuru.ee/wp-content/uploads/2019/09/26.-oktoobril-kell-10-15.00-Harjumaa-Saue-vald-Hüüru-Jõe-tee-2.pdf
END:VEVENT
BEGIN:VEVENT
DTSTART;TZID=Europe/Tallinn:20191028T190000
DTEND;TZID=Europe/Tallinn:20191028T200000
DTSTAMP:20260424T165556
CREATED:20191003T085022Z
LAST-MODIFIED:20191003T085022Z
UID:2779-1572289200-1572292800@huuru.ee
SUMMARY:Täiskasvanute treening
DESCRIPTION:
URL:https://huuru.ee/sundmus/taiskasvanute-treening-4/
END:VEVENT
BEGIN:VEVENT
DTSTART;TZID=Europe/Tallinn:20191030T183000
DTEND;TZID=Europe/Tallinn:20191030T193000
DTSTAMP:20260424T165556
CREATED:20191001T144553Z
LAST-MODIFIED:20191001T144553Z
UID:2746-1572460200-1572463800@huuru.ee
SUMMARY:Laste tantsutrenn
DESCRIPTION:
URL:https://huuru.ee/sundmus/laste-tantsutrenn-35/
END:VEVENT
BEGIN:VEVENT
DTSTART;TZID=Europe/Tallinn:20191031T150000
DTEND;TZID=Europe/Tallinn:20191031T163000
DTSTAMP:20260424T165556
CREATED:20191001T145236Z
LAST-MODIFIED:20191001T145236Z
UID:2764-1572534000-1572539400@huuru.ee
SUMMARY:Saviring lastele
DESCRIPTION:
URL:https://huuru.ee/sundmus/saviring-lastele-30/
END:VEVENT
BEGIN:VEVENT
DTSTART;TZID=Europe/Tallinn:20191031T170000
DTEND;TZID=Europe/Tallinn:20191031T190000
DTSTAMP:20260424T165556
CREATED:20191001T145301Z
LAST-MODIFIED:20191001T145301Z
UID:2766-1572541200-1572548400@huuru.ee
SUMMARY:Saviring täiskasvanutele
DESCRIPTION:
URL:https://huuru.ee/sundmus/saviring-taiskasvanutele-30/
END:VEVENT
BEGIN:VEVENT
DTSTART;TZID=Europe/Tallinn:20191101T103000
DTEND;TZID=Europe/Tallinn:20191101T120000
DTSTAMP:20260424T165556
CREATED:20191029T090236Z
LAST-MODIFIED:20191029T090236Z
UID:2817-1572604200-1572609600@huuru.ee
SUMMARY:"Sügiskulla jututuba" - kohtumine Saue valla sotsiaaltöötajatega
DESCRIPTION:
URL:https://huuru.ee/sundmus/sugiskulla-jututuba-kohtumine-saue-valla-sotsiaaltootajatega/
END:VEVENT
BEGIN:VEVENT
DTSTART;TZID=Europe/Tallinn:20191101T190000
DTEND;TZID=Europe/Tallinn:20191101T200000
DTSTAMP:20260424T165556
CREATED:20191024T140326Z
LAST-MODIFIED:20191024T140507Z
UID:2791-1572634800-1572638400@huuru.ee
SUMMARY:Loeng "Kuhu kaob motivatsioon"
DESCRIPTION:Kuhu kaob motivatsioon? Paljud ideed – hakkan iga päev võimlema\, dieeti pidama\, uut keelt õppima jne\, kipuvad aja jooksul vaibuma. Mis on selle põhjuseks ja kuidas alustada nii\, et indu jätkuks.
URL:https://huuru.ee/sundmus/loeng-kuhu-kaob-motivatsioon/
ATTACH;FMTTYPE=image/jpeg:https://huuru.ee/wp-content/uploads/2019/10/2019.11.01_Kuhu-kaob-motivatsioon.pdfII-page-001.jpg
END:VEVENT
BEGIN:VEVENT
DTSTART;TZID=Europe/Tallinn:20191104T190000
DTEND;TZID=Europe/Tallinn:20191104T200000
DTSTAMP:20260424T165556
CREATED:20191028T124119Z
LAST-MODIFIED:20191028T124119Z
UID:2796-1572894000-1572897600@huuru.ee
SUMMARY:Täiskasvanute võimlemine
DESCRIPTION:
URL:https://huuru.ee/sundmus/taiskasvanute-voimlemine-82/
END:VEVENT
BEGIN:VEVENT
DTSTART;TZID=Europe/Tallinn:20191106T183000
DTEND;TZID=Europe/Tallinn:20191106T193000
DTSTAMP:20260424T165556
CREATED:20191028T125512Z
LAST-MODIFIED:20191028T125512Z
UID:2808-1573065000-1573068600@huuru.ee
SUMMARY:Laste tantsutrenn
DESCRIPTION:
URL:https://huuru.ee/sundmus/laste-tantsutrenn-36/
END:VEVENT
BEGIN:VEVENT
DTSTART;TZID=Europe/Tallinn:20191107T150000
DTEND;TZID=Europe/Tallinn:20191107T163000
DTSTAMP:20260424T165556
CREATED:20191030T111733Z
LAST-MODIFIED:20191030T111733Z
UID:2825-1573138800-1573144200@huuru.ee
SUMMARY:Saviring lastele
DESCRIPTION:
URL:https://huuru.ee/sundmus/saviring-lastele-31/
END:VEVENT
BEGIN:VEVENT
DTSTART;TZID=Europe/Tallinn:20191107T170000
DTEND;TZID=Europe/Tallinn:20191107T190000
DTSTAMP:20260424T165556
CREATED:20191030T111758Z
LAST-MODIFIED:20191030T111758Z
UID:2827-1573146000-1573153200@huuru.ee
SUMMARY:Saviring täiskasvanutele
DESCRIPTION:
URL:https://huuru.ee/sundmus/saviring-taiskasvanutele-31/
END:VEVENT
BEGIN:VEVENT
DTSTART;TZID=Europe/Tallinn:20191107T180000
DTEND;TZID=Europe/Tallinn:20191107T190000
DTSTAMP:20260424T165556
CREATED:20191028T124450Z
LAST-MODIFIED:20191028T124529Z
UID:2806-1573149600-1573153200@huuru.ee
SUMMARY:Hüüru külaseltsi koosolek
DESCRIPTION:
URL:https://huuru.ee/sundmus/huuru-kulaseltsi-koosolek-22/
END:VEVENT
END:VCALENDAR