BEGIN:VCALENDAR
VERSION:2.0
PRODID:-//H&uuml;&uuml;ru m&otilde;is - ECPv6.15.20//NONSGML v1.0//EN
CALSCALE:GREGORIAN
METHOD:PUBLISH
X-ORIGINAL-URL:https://huuru.ee
X-WR-CALDESC:Events for H&uuml;&uuml;ru m&otilde;is
REFRESH-INTERVAL;VALUE=DURATION:PT1H
X-Robots-Tag:noindex
X-PUBLISHED-TTL:PT1H
BEGIN:VTIMEZONE
TZID:Europe/Tallinn
BEGIN:DAYLIGHT
TZOFFSETFROM:+0200
TZOFFSETTO:+0300
TZNAME:EEST
DTSTART:20200329T010000
END:DAYLIGHT
BEGIN:STANDARD
TZOFFSETFROM:+0300
TZOFFSETTO:+0200
TZNAME:EET
DTSTART:20201025T010000
END:STANDARD
BEGIN:DAYLIGHT
TZOFFSETFROM:+0200
TZOFFSETTO:+0300
TZNAME:EEST
DTSTART:20210328T010000
END:DAYLIGHT
BEGIN:STANDARD
TZOFFSETFROM:+0300
TZOFFSETTO:+0200
TZNAME:EET
DTSTART:20211031T010000
END:STANDARD
BEGIN:DAYLIGHT
TZOFFSETFROM:+0200
TZOFFSETTO:+0300
TZNAME:EEST
DTSTART:20220327T010000
END:DAYLIGHT
BEGIN:STANDARD
TZOFFSETFROM:+0300
TZOFFSETTO:+0200
TZNAME:EET
DTSTART:20221030T010000
END:STANDARD
END:VTIMEZONE
BEGIN:VEVENT
DTSTART;TZID=Europe/Tallinn:20210224T180000
DTEND;TZID=Europe/Tallinn:20210224T200000
DTSTAMP:20260425T153354
CREATED:20210205T121624Z
LAST-MODIFIED:20210205T121624Z
UID:3262-1614189600-1614196800@huuru.ee
SUMMARY:Loodeteatri õppestuudio
DESCRIPTION:
URL:https://huuru.ee/sundmus/loodeteatri-oppestuudio-36/
END:VEVENT
BEGIN:VEVENT
DTSTART;TZID=Europe/Tallinn:20210225T130000
DTEND;TZID=Europe/Tallinn:20210225T200000
DTSTAMP:20260425T153354
CREATED:20210205T121059Z
LAST-MODIFIED:20210223T115115Z
UID:3248-1614258000-1614283200@huuru.ee
SUMMARY:Saviring täiskasvanutele
DESCRIPTION:Toimub individuaalõpe
URL:https://huuru.ee/sundmus/saviring-taiskasvanutele-50/
END:VEVENT
BEGIN:VEVENT
DTSTART;TZID=Europe/Tallinn:20210506T100000
DTEND;TZID=Europe/Tallinn:20210506T120000
DTSTAMP:20260425T153354
CREATED:20210519T094334Z
LAST-MODIFIED:20210519T094334Z
UID:3366-1620295200-1620302400@huuru.ee
SUMMARY:Beebikool
DESCRIPTION:Lisainfo:\nriin.hiievali@gmail.com\ntel. 56648090
URL:https://huuru.ee/sundmus/beebikool-6/
END:VEVENT
BEGIN:VEVENT
DTSTART;TZID=Europe/Tallinn:20210506T180000
DTEND;TZID=Europe/Tallinn:20210506T190000
DTSTAMP:20260425T153354
CREATED:20210430T072011Z
LAST-MODIFIED:20210430T072011Z
UID:3330-1620324000-1620327600@huuru.ee
SUMMARY:MTÜ Hüüru Külaseltsi koosolek
DESCRIPTION:
URL:https://huuru.ee/sundmus/mtu-huuru-kulaseltsi-koosolek-4/
END:VEVENT
BEGIN:VEVENT
DTSTART;TZID=Europe/Tallinn:20210508T100000
DTEND;TZID=Europe/Tallinn:20210508T150000
DTSTAMP:20260425T153354
CREATED:20210430T072148Z
LAST-MODIFIED:20210430T072148Z
UID:3332-1620468000-1620486000@huuru.ee
SUMMARY:Hüüru kevadtalgud
DESCRIPTION:
URL:https://huuru.ee/sundmus/huuru-kevadtalgud/
END:VEVENT
BEGIN:VEVENT
DTSTART;TZID=Europe/Tallinn:20210509T130000
DTEND;TZID=Europe/Tallinn:20210509T140000
DTSTAMP:20260425T153354
CREATED:20210503T105602Z
LAST-MODIFIED:20210503T105602Z
UID:3336-1620565200-1620568800@huuru.ee
SUMMARY:Emadepäeva kontsert
DESCRIPTION:
URL:https://huuru.ee/sundmus/emadepaeva-kontsert-5/
ATTACH;FMTTYPE=image/jpeg:https://huuru.ee/wp-content/uploads/2021/05/Emadepaeava-kontsert-Huuru-moisa-ouel-1-page-001-scaled.jpg
END:VEVENT
BEGIN:VEVENT
DTSTART;TZID=Europe/Tallinn:20210511T160000
DTEND;TZID=Europe/Tallinn:20210511T173000
DTSTAMP:20260425T153354
CREATED:20210510T134226Z
LAST-MODIFIED:20210510T134226Z
UID:3342-1620748800-1620754200@huuru.ee
SUMMARY:Saviring lastele
DESCRIPTION:
URL:https://huuru.ee/sundmus/saviring-lastele-51/
END:VEVENT
BEGIN:VEVENT
DTSTART;TZID=Europe/Tallinn:20210513T130000
DTEND;TZID=Europe/Tallinn:20210513T200000
DTSTAMP:20260425T153354
CREATED:20210510T134329Z
LAST-MODIFIED:20210510T134329Z
UID:3344-1620910800-1620936000@huuru.ee
SUMMARY:Saviring täiskasvanutele
DESCRIPTION:
URL:https://huuru.ee/sundmus/saviring-taiskasvanutele-51/
END:VEVENT
BEGIN:VEVENT
DTSTART;TZID=Europe/Tallinn:20210513T173000
DTEND;TZID=Europe/Tallinn:20210513T200000
DTSTAMP:20260425T153354
CREATED:20210510T134130Z
LAST-MODIFIED:20210510T134130Z
UID:3340-1620927000-1620936000@huuru.ee
SUMMARY:Seminar MTÜ Hüüru Külaseltsi arengukava koostamine aastateks 2021-2026
DESCRIPTION:Arengukava koostamise seminarid toimuvad Hüüru mõisas:\n13. mail\, algusega 17.30-20.00\n27. mail\, algusega 17.30-20.00\nSeminaride ajakava:\n17.30-17.00 kogunemine\, kohvilaud ja vaba vestlus;\n17-20.00 seminari töötuba;\nVäga ootame aktiivset osavõttu\,\nkõikide kogukonnaliikmete panus on oluline uute Hüüru küla tegevuste ja arengueesmärkide kaardistamisel.\nMTÜ Hüüru Külaseltsi juhatus\nLisainfo: info@huuru.ee\ntel: 60 71 358\nmobiil: 52 38 261
URL:https://huuru.ee/sundmus/seminar-mtu-huuru-kulaseltsi-arengukava-koostamine-aastateks-2021-2026/
END:VEVENT
BEGIN:VEVENT
DTSTART;TZID=Europe/Tallinn:20210518T160000
DTEND;TZID=Europe/Tallinn:20210518T173000
DTSTAMP:20260425T153354
CREATED:20210510T134357Z
LAST-MODIFIED:20210510T134357Z
UID:3346-1621353600-1621359000@huuru.ee
SUMMARY:Saviring lastele
DESCRIPTION:
URL:https://huuru.ee/sundmus/saviring-lastele-52/
END:VEVENT
BEGIN:VEVENT
DTSTART;TZID=Europe/Tallinn:20210520T100000
DTEND;TZID=Europe/Tallinn:20210520T120000
DTSTAMP:20260425T153354
CREATED:20210519T094209Z
LAST-MODIFIED:20210519T094209Z
UID:3364-1621504800-1621512000@huuru.ee
SUMMARY:Beebikool
DESCRIPTION:Lisainfo:\nriin.hiievali@gmail.com\ntel. 56648090
URL:https://huuru.ee/sundmus/beebikool-5/
END:VEVENT
BEGIN:VEVENT
DTSTART;TZID=Europe/Tallinn:20210520T130000
DTEND;TZID=Europe/Tallinn:20210520T200000
DTSTAMP:20260425T153354
CREATED:20210510T134452Z
LAST-MODIFIED:20210510T134452Z
UID:3350-1621515600-1621540800@huuru.ee
SUMMARY:Saviring täiskasvanutele
DESCRIPTION:
URL:https://huuru.ee/sundmus/saviring-taiskasvanutele-52/
END:VEVENT
BEGIN:VEVENT
DTSTART;TZID=Europe/Tallinn:20210525T160000
DTEND;TZID=Europe/Tallinn:20210525T173000
DTSTAMP:20260425T153354
CREATED:20210510T134421Z
LAST-MODIFIED:20210510T134421Z
UID:3348-1621958400-1621963800@huuru.ee
SUMMARY:Saviring lastele
DESCRIPTION:
URL:https://huuru.ee/sundmus/saviring-lastele-53/
END:VEVENT
BEGIN:VEVENT
DTSTART;TZID=Europe/Tallinn:20210525T193000
DTEND;TZID=Europe/Tallinn:20210525T210000
DTSTAMP:20260425T153354
CREATED:20210519T095544Z
LAST-MODIFIED:20210519T095957Z
UID:3368-1621971000-1621976400@huuru.ee
SUMMARY:Loodeteatri etendus "Sisaliku needus"
DESCRIPTION:
URL:https://huuru.ee/sundmus/loodeteatri-etendus/
ATTACH;FMTTYPE=image/jpeg:https://huuru.ee/wp-content/uploads/2021/05/a4oige-page-001.jpg
END:VEVENT
BEGIN:VEVENT
DTSTART;TZID=Europe/Tallinn:20210526T193000
DTEND;TZID=Europe/Tallinn:20210526T210000
DTSTAMP:20260425T153354
CREATED:20210519T095731Z
LAST-MODIFIED:20210519T095731Z
UID:3376-1622057400-1622062800@huuru.ee
SUMMARY:Loodeteatri etendus "Sisaliku needus"
DESCRIPTION:
URL:https://huuru.ee/sundmus/loodeteatri-etendus-sisaliku-needus/
ATTACH;FMTTYPE=image/jpeg:https://huuru.ee/wp-content/uploads/2021/05/a4oige-page-001.jpg
END:VEVENT
BEGIN:VEVENT
DTSTART;TZID=Europe/Tallinn:20210527T130000
DTEND;TZID=Europe/Tallinn:20210527T200000
DTSTAMP:20260425T153354
CREATED:20210510T134520Z
LAST-MODIFIED:20210510T134520Z
UID:3352-1622120400-1622145600@huuru.ee
SUMMARY:Saviring täiskasvanutele
DESCRIPTION:
URL:https://huuru.ee/sundmus/saviring-taiskasvanutele-53/
END:VEVENT
BEGIN:VEVENT
DTSTART;TZID=Europe/Tallinn:20210527T173000
DTEND;TZID=Europe/Tallinn:20210527T200000
DTSTAMP:20260425T153354
CREATED:20210510T134649Z
LAST-MODIFIED:20210513T134016Z
UID:3354-1622136600-1622145600@huuru.ee
SUMMARY:Seminar MTÜ Hüüru Külaseltsi arengukava koostamine aastateks 2021-2026
DESCRIPTION:Arengukava koostamise seminarid toimuvad Hüüru mõisas:\n13. mail\, algusega 17.30-20.00\n27. mail\, algusega 17.30-20.00\nSeminaride ajakava:\n17.30-18.00 kogunemine\, kohvilaud ja vaba vestlus;\n18-20.00 seminari töötuba;\nVäga ootame aktiivset osavõttu\,\nkõikide kogukonnaliikmete panus on oluline uute Hüüru küla tegevuste ja arengueesmärkide kaardistamisel.\nMTÜ Hüüru Külaseltsi juhatus\nLisainfo: info@huuru.ee\ntel: 60 71 358\nmobiil: 52 38 261
URL:https://huuru.ee/sundmus/seminar-mtu-huuru-kulaseltsi-arengukava-koostamine-aastateks-2021-2026-2/
END:VEVENT
BEGIN:VEVENT
DTSTART;TZID=Europe/Tallinn:20210528T160000
DTEND;TZID=Europe/Tallinn:20210528T173000
DTSTAMP:20260425T153354
CREATED:20210528T072025Z
LAST-MODIFIED:20210528T072025Z
UID:3384-1622217600-1622223000@huuru.ee
SUMMARY:Saviring lastele
DESCRIPTION:
URL:https://huuru.ee/sundmus/saviring-lastele-54/
END:VEVENT
BEGIN:VEVENT
DTSTART;TZID=Europe/Tallinn:20210530T180000
DTEND;TZID=Europe/Tallinn:20210530T193000
DTSTAMP:20260425T153354
CREATED:20210519T095830Z
LAST-MODIFIED:20210519T095830Z
UID:3378-1622397600-1622403000@huuru.ee
SUMMARY:Loodeteatri etendus "Sisaliku needus"
DESCRIPTION:
URL:https://huuru.ee/sundmus/loodeteatri-etendus-sisaliku-needus-2/
ATTACH;FMTTYPE=image/jpeg:https://huuru.ee/wp-content/uploads/2021/05/a4oige-page-001.jpg
END:VEVENT
BEGIN:VEVENT
DTSTART;TZID=Europe/Tallinn:20210531T193000
DTEND;TZID=Europe/Tallinn:20210531T210000
DTSTAMP:20260425T153354
CREATED:20210519T095933Z
LAST-MODIFIED:20210519T095933Z
UID:3380-1622489400-1622494800@huuru.ee
SUMMARY:Loodeteatri etendus "Sisaliku needus"
DESCRIPTION:
URL:https://huuru.ee/sundmus/loodeteatri-etendus-sisaliku-needus-3/
ATTACH;FMTTYPE=image/jpeg:https://huuru.ee/wp-content/uploads/2021/05/a4oige-page-001.jpg
END:VEVENT
BEGIN:VEVENT
DTSTART;TZID=Europe/Tallinn:20210601T130000
DTEND;TZID=Europe/Tallinn:20210601T200000
DTSTAMP:20260425T153354
CREATED:20210528T073111Z
LAST-MODIFIED:20210528T073111Z
UID:3402-1622552400-1622577600@huuru.ee
SUMMARY:Saviring lastele
DESCRIPTION:
URL:https://huuru.ee/sundmus/saviring-lastele-59/
END:VEVENT
BEGIN:VEVENT
DTSTART;TZID=Europe/Tallinn:20210603T100000
DTEND;TZID=Europe/Tallinn:20210603T110000
DTSTAMP:20260425T153354
CREATED:20210602T073615Z
LAST-MODIFIED:20210602T073615Z
UID:3440-1622714400-1622718000@huuru.ee
SUMMARY:Beebikool
DESCRIPTION:
URL:https://huuru.ee/sundmus/beebikool-7/
END:VEVENT
BEGIN:VEVENT
DTSTART;TZID=Europe/Tallinn:20210603T130000
DTEND;TZID=Europe/Tallinn:20210603T200000
DTSTAMP:20260425T153354
CREATED:20210528T072557Z
LAST-MODIFIED:20210528T072557Z
UID:3394-1622725200-1622750400@huuru.ee
SUMMARY:Saviring täiskasvanutele
DESCRIPTION:
URL:https://huuru.ee/sundmus/saviring-taiskasvanutele-54/
END:VEVENT
BEGIN:VEVENT
DTSTART;TZID=Europe/Tallinn:20210603T180000
DTEND;TZID=Europe/Tallinn:20210603T190000
DTSTAMP:20260425T153354
CREATED:20210602T112740Z
LAST-MODIFIED:20210602T112751Z
UID:3446-1622743200-1622746800@huuru.ee
SUMMARY:Hüüru külaseltsi majandusaasta aruande kinnitamine
DESCRIPTION:
URL:https://huuru.ee/sundmus/huuru-kulaseltsi-majandusaasta-aruande-kinnitamine/
END:VEVENT
BEGIN:VEVENT
DTSTART;TZID=Europe/Tallinn:20210605T100000
DTEND;TZID=Europe/Tallinn:20210605T150000
DTSTAMP:20260425T153354
CREATED:20210518T051834Z
LAST-MODIFIED:20210518T051834Z
UID:3361-1622887200-1622905200@huuru.ee
SUMMARY:Vatsla täika
DESCRIPTION:
URL:https://huuru.ee/sundmus/vatsla-taika-2/
ATTACH;FMTTYPE=image/png:https://huuru.ee/wp-content/uploads/2021/05/VatslaTäika_fb_2021.png
END:VEVENT
BEGIN:VEVENT
DTSTART;TZID=Europe/Tallinn:20210608T160000
DTEND;TZID=Europe/Tallinn:20210608T173000
DTSTAMP:20260425T153354
CREATED:20210528T072121Z
LAST-MODIFIED:20210528T072121Z
UID:3386-1623168000-1623173400@huuru.ee
SUMMARY:Saviring lastele
DESCRIPTION:
URL:https://huuru.ee/sundmus/saviring-lastele-55/
END:VEVENT
BEGIN:VEVENT
DTSTART;TZID=Europe/Tallinn:20210610T100000
DTEND;TZID=Europe/Tallinn:20210610T110000
DTSTAMP:20260425T153354
CREATED:20210602T073649Z
LAST-MODIFIED:20210602T073649Z
UID:3442-1623319200-1623322800@huuru.ee
SUMMARY:Beebikool
DESCRIPTION:
URL:https://huuru.ee/sundmus/beebikool-8/
END:VEVENT
BEGIN:VEVENT
DTSTART;TZID=Europe/Tallinn:20210610T130000
DTEND;TZID=Europe/Tallinn:20210610T200000
DTSTAMP:20260425T153354
CREATED:20210528T072655Z
LAST-MODIFIED:20210528T072655Z
UID:3396-1623330000-1623355200@huuru.ee
SUMMARY:Saviring täiskasvanutele
DESCRIPTION:
URL:https://huuru.ee/sundmus/saviring-taiskasvanutele-55/
END:VEVENT
BEGIN:VEVENT
DTSTART;TZID=Europe/Tallinn:20210611T190000
DTEND;TZID=Europe/Tallinn:20210611T203000
DTSTAMP:20260425T153354
CREATED:20210528T102942Z
LAST-MODIFIED:20210528T103555Z
UID:3404-1623438000-1623443400@huuru.ee
SUMMARY:"Sinihabe" etendus
DESCRIPTION:“Sinihabe” Amelie Nothomb\nKui tuba Pariisi eliitrajoonis renditakse välja naeruväärse summa eest ning eelmised kaheksa üürnikku on salapärastel põhjustel kadunud\, peaks kõik näima piisavalt kahtlane\, kuid noor kunstiõpetaja Saturine vajab kiiresti elukohta ja otsustab neid fakte ignoreerida. Villa omanikust  aristokraat  ei käi kunagi majast väljas väites\, et maailm oma argisuses on labane ja igav. Igaõhtustest elektrit täis vestlustest hakkavad kooruma mehe motiivid ja tema hoitud saladused…..\n Kirgiküttev isikuandmete kaitse määrus on heaks fooniks loole\, kus teema veereb õiguse omada privaatsust ja saladust ning kokkuleppe rikkumisele järgneva karistuse vahel. Aadlik  on lõpetanud väljaskäimise 90ndatel\, ta ei oma arvutit\, ega tea midagi kaasaegsest tehnoloogiast\, rääkimata sotsiaalvõrgustikest. Just see muudab ta vanamoeliseks\,aegunuks\, imelikuks. Sotsiaalsuse on ta asendanud muude tegevuste ja hobidega\, talle on oluline tema isiklik ruum ning õigus omada saladust. Ning kui privaatsust on rikutud ning karistus on järgnenud\, siis kes on süüdi? Karistuse määraja või reeglite rikkuja? Inimene\, olgu ta nii intelligentne ja nii rikas kui tahes\, ei suuda loobuda täiuslikkuse püüdlusest ja kaotab selle nimel tihti reaalsustaju. Ta hakkab ennast pidama jumalaks. Kindlasti on see lugu ka eksiilist- nii füüsilisest kui mentaalsest.\nLoo autor Amélie Nothomb (sündinud 1966) on hinnatud Belgia kirjanik. Ta on avaldanud 14 romaani ja võitnud 1999. aastal Belgia romaaniauhinna. Nothomb´i sulest on eesti keeles varem ilmunud  veel “Jumala lapsepõlv”\, “Jahmatus ja värinad” ja “Armastuse sõda”.  2002. aastal ilmunud „Vaenlase kosmeetika” on lavale jõudnud aga kahel korral – 2006. aastal VAT Teatris (lav.Peeter Raudsepp) ja 2015. aastal Vene Teatris (lav. Artjom Garejev).\n\nAutor: Amelie Nothomb\nTõlkija: Pille Kruus\nDramatiseering: Margo Teder\, Triin Hook\nLavastaja: Margo Teder (VAT Teater)\nKunstnik: Liina Unt (teater „Endla“)\nMuusikaline kujundaja: Peeter Rebane\nLiikumisjuht: Olga Privis (Vene Teater)\nValguskujundaja: Triin Hook\nOsades: Karolin Jürise ja Lauri Saatpalu\nFoto autor: Marie Cecilie Thijs (Cat with a white collar)\nPlakati kujundus: Kaire van der Toorn-Guthan\nVideo kujundus: Umut Vedat\nProdutsent: Triin Hook\n\nEtendused: 11. (esietendus)\, 12.\, 13.\, 14.\, 15.\, 16.\, 17.\, 18.\, 19.\, 20. juunil kell 19 Hüüru mõisa saalis (Harjumaal\, Saue vallas\, Jõe tn 2.).\nPiletid müügil https://www.piletilevi.ee/est/piletid/sinihabe-73847/\n\nEtendus kestab ilma vaheajata 1 tund ja 30 minutit.\nAlla 14. aastastele ei soovita.\nIstumine on vaba ja hajutatult\, kõikidelt istekohtadelt näeb hästi!
URL:https://huuru.ee/sundmus/etendus-sinihabe/
ATTACH;FMTTYPE=image/jpeg:https://huuru.ee/wp-content/uploads/2021/05/sinihabe_plakat_A2_def-1-scaled.jpg
END:VEVENT
BEGIN:VEVENT
DTSTART;TZID=Europe/Tallinn:20210612T190000
DTEND;TZID=Europe/Tallinn:20210612T203000
DTSTAMP:20260425T153354
CREATED:20210528T103128Z
LAST-MODIFIED:20210528T103449Z
UID:3406-1623524400-1623529800@huuru.ee
SUMMARY:"Sinihabe" etendus
DESCRIPTION:“Sinihabe” Amelie Nothomb\nKui tuba Pariisi eliitrajoonis renditakse välja naeruväärse summa eest ning eelmised kaheksa üürnikku on salapärastel põhjustel kadunud\, peaks kõik näima piisavalt kahtlane\, kuid noor kunstiõpetaja Saturine vajab kiiresti elukohta ja otsustab neid fakte ignoreerida. Villa omanikust  aristokraat  ei käi kunagi majast väljas väites\, et maailm oma argisuses on labane ja igav. Igaõhtustest elektrit täis vestlustest hakkavad kooruma mehe motiivid ja tema hoitud saladused…..\n Kirgiküttev isikuandmete kaitse määrus on heaks fooniks loole\, kus teema veereb õiguse omada privaatsust ja saladust ning kokkuleppe rikkumisele järgneva karistuse vahel. Aadlik  on lõpetanud väljaskäimise 90ndatel\, ta ei oma arvutit\, ega tea midagi kaasaegsest tehnoloogiast\, rääkimata sotsiaalvõrgustikest. Just see muudab ta vanamoeliseks\,aegunuks\, imelikuks. Sotsiaalsuse on ta asendanud muude tegevuste ja hobidega\, talle on oluline tema isiklik ruum ning õigus omada saladust. Ning kui privaatsust on rikutud ning karistus on järgnenud\, siis kes on süüdi? Karistuse määraja või reeglite rikkuja? Inimene\, olgu ta nii intelligentne ja nii rikas kui tahes\, ei suuda loobuda täiuslikkuse püüdlusest ja kaotab selle nimel tihti reaalsustaju. Ta hakkab ennast pidama jumalaks. Kindlasti on see lugu ka eksiilist- nii füüsilisest kui mentaalsest.\nLoo autor Amélie Nothomb (sündinud 1966) on hinnatud Belgia kirjanik. Ta on avaldanud 14 romaani ja võitnud 1999. aastal Belgia romaaniauhinna. Nothomb´i sulest on eesti keeles varem ilmunud  veel “Jumala lapsepõlv”\, “Jahmatus ja värinad” ja “Armastuse sõda”.  2002. aastal ilmunud „Vaenlase kosmeetika” on lavale jõudnud aga kahel korral – 2006. aastal VAT Teatris (lav.Peeter Raudsepp) ja 2015. aastal Vene Teatris (lav. Artjom Garejev).\n\nAutor: Amelie Nothomb\nTõlkija: Pille Kruus\nDramatiseering: Margo Teder\, Triin Hook\nLavastaja: Margo Teder (VAT Teater)\nKunstnik: Liina Unt (teater „Endla“)\nMuusikaline kujundaja: Peeter Rebane\nLiikumisjuht: Olga Privis (Vene Teater)\nValguskujundaja: Triin Hook\nOsades: Karolin Jürise ja Lauri Saatpalu\nFoto autor: Marie Cecilie Thijs (Cat with a white collar)\nPlakati kujundus: Kaire van der Toorn-Guthan\nVideo kujundus: Umut Vedat\nProdutsent: Triin Hook\n\nEtendused: 11. (esietendus)\, 12.\, 13.\, 14.\, 15.\, 16.\, 17.\, 18.\, 19.\, 20. juunil kell 19 Hüüru mõisa saalis (Harjumaal\, Saue vallas\, Jõe tn 2.).\nPiletid müügil https://www.piletilevi.ee/est/piletid/sinihabe-73847/\n\nEtendus kestab ilma vaheajata 1 tund ja 30 minutit.\nAlla 14. aastastele ei soovita.\nIstumine on vaba ja hajutatult\, kõikidelt istekohtadelt näeb hästi!
URL:https://huuru.ee/sundmus/sinihabe-etendus/
ATTACH;FMTTYPE=image/jpeg:https://huuru.ee/wp-content/uploads/2021/05/sinihabe_plakat_A2_def-1-scaled.jpg
END:VEVENT
END:VCALENDAR