BEGIN:VCALENDAR
VERSION:2.0
PRODID:-//H&uuml;&uuml;ru m&otilde;is - ECPv6.15.20//NONSGML v1.0//EN
CALSCALE:GREGORIAN
METHOD:PUBLISH
X-WR-CALNAME:H&uuml;&uuml;ru m&otilde;is
X-ORIGINAL-URL:https://huuru.ee
X-WR-CALDESC:Events for H&uuml;&uuml;ru m&otilde;is
REFRESH-INTERVAL;VALUE=DURATION:PT1H
X-Robots-Tag:noindex
X-PUBLISHED-TTL:PT1H
BEGIN:VTIMEZONE
TZID:Europe/Tallinn
BEGIN:DAYLIGHT
TZOFFSETFROM:+0200
TZOFFSETTO:+0300
TZNAME:EEST
DTSTART:20170326T010000
END:DAYLIGHT
BEGIN:STANDARD
TZOFFSETFROM:+0300
TZOFFSETTO:+0200
TZNAME:EET
DTSTART:20171029T010000
END:STANDARD
BEGIN:DAYLIGHT
TZOFFSETFROM:+0200
TZOFFSETTO:+0300
TZNAME:EEST
DTSTART:20180325T010000
END:DAYLIGHT
BEGIN:STANDARD
TZOFFSETFROM:+0300
TZOFFSETTO:+0200
TZNAME:EET
DTSTART:20181028T010000
END:STANDARD
BEGIN:DAYLIGHT
TZOFFSETFROM:+0200
TZOFFSETTO:+0300
TZNAME:EEST
DTSTART:20190331T010000
END:DAYLIGHT
BEGIN:STANDARD
TZOFFSETFROM:+0300
TZOFFSETTO:+0200
TZNAME:EET
DTSTART:20191027T010000
END:STANDARD
END:VTIMEZONE
BEGIN:VEVENT
DTSTART;TZID=Europe/Tallinn:20180201T103000
DTEND;TZID=Europe/Tallinn:20180201T113000
DTSTAMP:20260423T020022
CREATED:20180131T092407Z
LAST-MODIFIED:20180131T092407Z
UID:1823-1517481000-1517484600@huuru.ee
SUMMARY:Väärikate liikumistund
DESCRIPTION:
URL:https://huuru.ee/sundmus/vaarikate-liikumistund-16/
END:VEVENT
BEGIN:VEVENT
DTSTART;TZID=Europe/Tallinn:20180201T180000
DTEND;TZID=Europe/Tallinn:20180201T190000
DTSTAMP:20260423T020022
CREATED:20180126T084834Z
LAST-MODIFIED:20180126T085009Z
UID:1808-1517508000-1517511600@huuru.ee
SUMMARY:Hüüru Külaseltsi koosolek
DESCRIPTION:
URL:https://huuru.ee/sundmus/huuru-kulaseltsi-koosolek-7/
END:VEVENT
BEGIN:VEVENT
DTSTART;TZID=Europe/Tallinn:20180201T183000
DTEND;TZID=Europe/Tallinn:20180201T193000
DTSTAMP:20260423T020022
CREATED:20180131T092028Z
LAST-MODIFIED:20180131T092102Z
UID:1815-1517509800-1517513400@huuru.ee
SUMMARY:Tantsutreening lastele
DESCRIPTION:
URL:https://huuru.ee/sundmus/tantsutreening-lastele-22/
END:VEVENT
BEGIN:VEVENT
DTSTART;TZID=Europe/Tallinn:20180205T190000
DTEND;TZID=Europe/Tallinn:20180205T200000
DTSTAMP:20260423T020022
CREATED:20180126T084453Z
LAST-MODIFIED:20180126T084453Z
UID:1798-1517857200-1517860800@huuru.ee
SUMMARY:Täiskasvanute võimlemine
DESCRIPTION:
URL:https://huuru.ee/sundmus/taiskasvanute-voimlemine-34/
END:VEVENT
BEGIN:VEVENT
DTSTART;TZID=Europe/Tallinn:20180208T103000
DTEND;TZID=Europe/Tallinn:20180208T113000
DTSTAMP:20260423T020022
CREATED:20180131T092445Z
LAST-MODIFIED:20180131T092445Z
UID:1825-1518085800-1518089400@huuru.ee
SUMMARY:Väärikate liikumistund
DESCRIPTION:
URL:https://huuru.ee/sundmus/vaarikate-liikumistund-17/
END:VEVENT
BEGIN:VEVENT
DTSTART;TZID=Europe/Tallinn:20180208T183000
DTEND;TZID=Europe/Tallinn:20180208T193000
DTSTAMP:20260423T020022
CREATED:20180131T092135Z
LAST-MODIFIED:20180131T092135Z
UID:1817-1518114600-1518118200@huuru.ee
SUMMARY:Tantsutreening lastele
DESCRIPTION:
URL:https://huuru.ee/sundmus/tantsutreening-lastele-32/
END:VEVENT
BEGIN:VEVENT
DTSTART;TZID=Europe/Tallinn:20180208T183000
DTEND;TZID=Europe/Tallinn:20180208T200000
DTSTAMP:20260423T020022
CREATED:20180126T085254Z
LAST-MODIFIED:20180126T085254Z
UID:1811-1518114600-1518120000@huuru.ee
SUMMARY:Lõhnaõlide valmistamise töötuba
DESCRIPTION:Oled oodatud 08.02.2018 kell 18.30 Hüüru mõisa\, kui oled huvitatud eeterlike õlide maailmast ja soovid ise endale päris oma lõhnaõli valmistada ♥\nOsaleja saab teadmised erinevate eeterlike õlide kohta ning saab valmistada just sellise lõhnaõli\, mida igapäevaselt enda toetuseks kõige rohkem vajad.\nÕlid\, mida kasutame on puhtad\, looduslikud (taimsed) õlid\, mis toetavad mitmel moel: aitavad vähendada stressisümptomeid\, puhastavad organismi\, soodustavad seedimist\, leevendavad valusid\, parandavad meeleolu\, tõstavad kirge jne. Aitavad hoida ja taastada tasakaalu inimorganismi kõikide elundkondade vahel nii vaimsel kui füüsilisel tasandil.\nJa need lõhnad!!! ♥ ♥ ♥\nTöötuba maksab 15 eurot (selle sees valmib ka Sinu isiklik lõhnaõli)\,\ntasumine kohapeal.\nKui soovid lisaks valmistada lõhnaõlisid kingituseks\, siis lisandub 5.- kuni 10.- eurot ühe lõhnaõli eest – olenevalt sellest milliseid õlisid ja kui palju te soovite koostatavas lõhnas kasutada.\nAnna palun oma osavõtu soovist teada\ne-maili teel: savelaco@gmail.com\, et saaksin ettevalmistuste tegemisel Sinuga arvestada.
URL:https://huuru.ee/sundmus/lohnaolide-valmistamise-tootuba/
ATTACH;FMTTYPE=image/png:https://huuru.ee/wp-content/uploads/2018/01/Screen-Shot-2018-01-25-at-13.04.57.png
END:VEVENT
BEGIN:VEVENT
DTSTART;TZID=Europe/Tallinn:20180212T190000
DTEND;TZID=Europe/Tallinn:20180212T200000
DTSTAMP:20260423T020022
CREATED:20180126T084528Z
LAST-MODIFIED:20180126T084528Z
UID:1800-1518462000-1518465600@huuru.ee
SUMMARY:Täiskasvanute võimlemine
DESCRIPTION:
URL:https://huuru.ee/sundmus/taiskasvanute-voimlemine-35/
END:VEVENT
BEGIN:VEVENT
DTSTART;TZID=Europe/Tallinn:20180215T103000
DTEND;TZID=Europe/Tallinn:20180215T113000
DTSTAMP:20260423T020022
CREATED:20180131T092526Z
LAST-MODIFIED:20180131T092526Z
UID:1827-1518690600-1518694200@huuru.ee
SUMMARY:Väärikate liikumistund
DESCRIPTION:
URL:https://huuru.ee/sundmus/vaarikate-liikumistund-18/
END:VEVENT
BEGIN:VEVENT
DTSTART;TZID=Europe/Tallinn:20180215T183000
DTEND;TZID=Europe/Tallinn:20180215T193000
DTSTAMP:20260423T020022
CREATED:20180131T092208Z
LAST-MODIFIED:20180131T092208Z
UID:1819-1518719400-1518723000@huuru.ee
SUMMARY:Tantsutreening lastele
DESCRIPTION:
URL:https://huuru.ee/sundmus/tantsutreening-lastele-33/
END:VEVENT
BEGIN:VEVENT
DTSTART;TZID=Europe/Tallinn:20180219T190000
DTEND;TZID=Europe/Tallinn:20180219T200000
DTSTAMP:20260423T020022
CREATED:20180126T084600Z
LAST-MODIFIED:20180126T084600Z
UID:1802-1519066800-1519070400@huuru.ee
SUMMARY:Täiskasvanute võimlemine
DESCRIPTION:
URL:https://huuru.ee/sundmus/taiskasvanute-voimlemine-36/
END:VEVENT
BEGIN:VEVENT
DTSTART;TZID=Europe/Tallinn:20180222T103000
DTEND;TZID=Europe/Tallinn:20180222T113000
DTSTAMP:20260423T020022
CREATED:20180131T092603Z
LAST-MODIFIED:20180131T092603Z
UID:1829-1519295400-1519299000@huuru.ee
SUMMARY:Väärikate liikumistund
DESCRIPTION:
URL:https://huuru.ee/sundmus/vaarikate-liikumistund-19/
END:VEVENT
BEGIN:VEVENT
DTSTART;TZID=Europe/Tallinn:20180222T183000
DTEND;TZID=Europe/Tallinn:20180222T193000
DTSTAMP:20260423T020022
CREATED:20180131T092250Z
LAST-MODIFIED:20180131T092250Z
UID:1821-1519324200-1519327800@huuru.ee
SUMMARY:Tantsutreening lastele
DESCRIPTION:
URL:https://huuru.ee/sundmus/tantsutreening-lastele-34/
END:VEVENT
BEGIN:VEVENT
DTSTART;TZID=Europe/Tallinn:20180224T160000
DTEND;TZID=Europe/Tallinn:20180224T180000
DTSTAMP:20260423T020022
CREATED:20180208T115324Z
LAST-MODIFIED:20180227T142408Z
UID:1856-1519488000-1519495200@huuru.ee
SUMMARY:Eesti Vabariigi 100 juubeli tähistamine Hüüru mõisas
DESCRIPTION:
URL:https://huuru.ee/sundmus/eesti-vabariigi-100-juubeli-tahistamine-huuru-moisas/
END:VEVENT
BEGIN:VEVENT
DTSTART;TZID=Europe/Tallinn:20180226T190000
DTEND;TZID=Europe/Tallinn:20180226T200000
DTSTAMP:20260423T020022
CREATED:20180126T084629Z
LAST-MODIFIED:20180126T084629Z
UID:1804-1519671600-1519675200@huuru.ee
SUMMARY:Täiskasvanute võimlemine
DESCRIPTION:
URL:https://huuru.ee/sundmus/taiskasvanute-voimlemine-37/
END:VEVENT
BEGIN:VEVENT
DTSTART;TZID=Europe/Tallinn:20180301T110000
DTEND;TZID=Europe/Tallinn:20180301T123000
DTSTAMP:20260423T020022
CREATED:20180226T111546Z
LAST-MODIFIED:20180226T155153Z
UID:1863-1519902000-1519907400@huuru.ee
SUMMARY:Väärikate selts "Sügiskuld" kohtub Vladislav Koržetsiga
DESCRIPTION:
URL:https://huuru.ee/sundmus/vaarikate-liikumistund-20/
END:VEVENT
BEGIN:VEVENT
DTSTART;TZID=Europe/Tallinn:20180301T180000
DTEND;TZID=Europe/Tallinn:20180301T193000
DTSTAMP:20260423T020022
CREATED:20180226T111306Z
LAST-MODIFIED:20180226T111306Z
UID:1859-1519927200-1519932600@huuru.ee
SUMMARY:Hüüru Külaseltsi koosolek
DESCRIPTION:
URL:https://huuru.ee/sundmus/huuru-kulaseltsi-koosolek-8/
END:VEVENT
BEGIN:VEVENT
DTSTART;TZID=Europe/Tallinn:20180301T183000
DTEND;TZID=Europe/Tallinn:20180301T193000
DTSTAMP:20260423T020022
CREATED:20180226T111506Z
LAST-MODIFIED:20180226T111506Z
UID:1861-1519929000-1519932600@huuru.ee
SUMMARY:Laste tantsutreening
DESCRIPTION:
URL:https://huuru.ee/sundmus/laste-tantsutreening-2/
END:VEVENT
BEGIN:VEVENT
DTSTART;TZID=Europe/Tallinn:20180302T103000
DTEND;TZID=Europe/Tallinn:20180302T113000
DTSTAMP:20260423T020022
CREATED:20180226T155227Z
LAST-MODIFIED:20180226T155227Z
UID:1896-1519986600-1519990200@huuru.ee
SUMMARY:Väärikate liikumistund
DESCRIPTION:
URL:https://huuru.ee/sundmus/vaarikate-liikumistund-25/
END:VEVENT
BEGIN:VEVENT
DTSTART;TZID=Europe/Tallinn:20180305T190000
DTEND;TZID=Europe/Tallinn:20180305T200000
DTSTAMP:20260423T020022
CREATED:20180226T111912Z
LAST-MODIFIED:20180226T112019Z
UID:1869-1520276400-1520280000@huuru.ee
SUMMARY:Täiskasvanute võimlemine
DESCRIPTION:
URL:https://huuru.ee/sundmus/taiskasvanute-voimlemine-38/
END:VEVENT
BEGIN:VEVENT
DTSTART;TZID=Europe/Tallinn:20180308T103000
DTEND;TZID=Europe/Tallinn:20180308T113000
DTSTAMP:20260423T020022
CREATED:20180226T111632Z
LAST-MODIFIED:20180226T111829Z
UID:1865-1520505000-1520508600@huuru.ee
SUMMARY:Väärikate liikumistund
DESCRIPTION:
URL:https://huuru.ee/sundmus/vaarikate-liikumistund-21/
END:VEVENT
BEGIN:VEVENT
DTSTART;TZID=Europe/Tallinn:20180308T183000
DTEND;TZID=Europe/Tallinn:20180308T193000
DTSTAMP:20260423T020022
CREATED:20180226T111707Z
LAST-MODIFIED:20180226T111707Z
UID:1867-1520533800-1520537400@huuru.ee
SUMMARY:Laste tantsutreening
DESCRIPTION:
URL:https://huuru.ee/sundmus/laste-tantsutreening-3/
END:VEVENT
BEGIN:VEVENT
DTSTART;TZID=Europe/Tallinn:20180312T190000
DTEND;TZID=Europe/Tallinn:20180312T200000
DTSTAMP:20260423T020022
CREATED:20180226T112102Z
LAST-MODIFIED:20180226T112102Z
UID:1871-1520881200-1520884800@huuru.ee
SUMMARY:Täiskasvanute võimlemine
DESCRIPTION:
URL:https://huuru.ee/sundmus/taiskasvanute-voimlemine-39/
END:VEVENT
BEGIN:VEVENT
DTSTART;TZID=Europe/Tallinn:20180315T103000
DTEND;TZID=Europe/Tallinn:20180315T113000
DTSTAMP:20260423T020022
CREATED:20180226T112315Z
LAST-MODIFIED:20180226T112315Z
UID:1877-1521109800-1521113400@huuru.ee
SUMMARY:Väärikate liikumistund
DESCRIPTION:
URL:https://huuru.ee/sundmus/vaarikate-liikumistund-22/
END:VEVENT
BEGIN:VEVENT
DTSTART;TZID=Europe/Tallinn:20180315T183000
DTEND;TZID=Europe/Tallinn:20180315T193000
DTSTAMP:20260423T020022
CREATED:20180226T112443Z
LAST-MODIFIED:20180226T112443Z
UID:1881-1521138600-1521142200@huuru.ee
SUMMARY:Laste tantsutreening
DESCRIPTION:
URL:https://huuru.ee/sundmus/laste-tantsutreening-5/
END:VEVENT
BEGIN:VEVENT
DTSTART;TZID=Europe/Tallinn:20180319T190000
DTEND;TZID=Europe/Tallinn:20180319T200000
DTSTAMP:20260423T020022
CREATED:20180226T112143Z
LAST-MODIFIED:20180226T112143Z
UID:1873-1521486000-1521489600@huuru.ee
SUMMARY:Täiskasvanute võimlemine
DESCRIPTION:
URL:https://huuru.ee/sundmus/taiskasvanute-voimlemine-40/
END:VEVENT
BEGIN:VEVENT
DTSTART;TZID=Europe/Tallinn:20180321T190000
DTEND;TZID=Europe/Tallinn:20180321T201500
DTSTAMP:20260423T020022
CREATED:20180305T141849Z
LAST-MODIFIED:20180305T141849Z
UID:1907-1521658800-1521663300@huuru.ee
SUMMARY:Film "Rodeo"
DESCRIPTION:Taasiseseisvunud Eesti esimesele põhiseaduslikule valitsusele\, mis saab noore ja kogenematu peaministri Mart Laari juhtimisel võimule 1992. aasta sügisel\, ei ennustata valitseva kaose keskel paari kuudki. Ometi suudetakse võimul püsida kaks aastat\, viies ellu hulga radikaalseid reforme.\nSoov “plats puhtaks lüüa” – vabaneda täielikult okupatsiooniaja pärandist ja eelmise valitsuse „pehmest“ teest\, teeb Eestist välismaal eduka üleminekuriigi musternäidise. Aga kodumaal saadab Laari valitsust üks skandaal teise järel.\nUsalduse hoidmisest ja kaotamisest rääkiva loo keskmes on konflikt aatemeeste ja pead tõstva uue majanduseliidi vahel\, kus peaministril jääb häid valikuid järjest vähemaks.\nSee on avameelselt ja paraja eneseirooniaga jutustatud ühe kaasaegse riigi loomise lugu. Lugu noortest idealistidest\, kellest saavad poliitikud. \nRežissöör: Kiur Aarma\, Raimo Jõerand\nPiletid müügil Hüüru mõisahoones 1 h enne kinoõhtu algust – 4 eur-i ja sooduspilet 3 eur-i
URL:https://huuru.ee/sundmus/film-rodeo/
ATTACH;FMTTYPE=image/jpeg:https://huuru.ee/wp-content/uploads/2018/03/Rodeoposter.jpg
END:VEVENT
BEGIN:VEVENT
DTSTART;TZID=Europe/Tallinn:20180322T103000
DTEND;TZID=Europe/Tallinn:20180322T113000
DTSTAMP:20260423T020022
CREATED:20180226T112544Z
LAST-MODIFIED:20180226T112544Z
UID:1883-1521714600-1521718200@huuru.ee
SUMMARY:Väärikate liikumistund
DESCRIPTION:
URL:https://huuru.ee/sundmus/vaarikate-liikumistund-23/
END:VEVENT
BEGIN:VEVENT
DTSTART;TZID=Europe/Tallinn:20180322T183000
DTEND;TZID=Europe/Tallinn:20180322T193000
DTSTAMP:20260423T020022
CREATED:20180226T112401Z
LAST-MODIFIED:20180226T112401Z
UID:1879-1521743400-1521747000@huuru.ee
SUMMARY:Laste tantsutreening
DESCRIPTION:
URL:https://huuru.ee/sundmus/laste-tantsutreening-4/
END:VEVENT
BEGIN:VEVENT
DTSTART;TZID=Europe/Tallinn:20180326T190000
DTEND;TZID=Europe/Tallinn:20180326T200000
DTSTAMP:20260423T020022
CREATED:20180226T112226Z
LAST-MODIFIED:20180226T112226Z
UID:1875-1522090800-1522094400@huuru.ee
SUMMARY:Täiskasvanute võimlemine
DESCRIPTION:
URL:https://huuru.ee/sundmus/taiskasvanute-voimlemine-41/
END:VEVENT
END:VCALENDAR