BEGIN:VCALENDAR
VERSION:2.0
PRODID:-//H&uuml;&uuml;ru m&otilde;is - ECPv6.15.20//NONSGML v1.0//EN
CALSCALE:GREGORIAN
METHOD:PUBLISH
X-WR-CALNAME:H&uuml;&uuml;ru m&otilde;is
X-ORIGINAL-URL:https://huuru.ee
X-WR-CALDESC:Events for H&uuml;&uuml;ru m&otilde;is
REFRESH-INTERVAL;VALUE=DURATION:PT1H
X-Robots-Tag:noindex
X-PUBLISHED-TTL:PT1H
BEGIN:VTIMEZONE
TZID:Europe/Tallinn
BEGIN:DAYLIGHT
TZOFFSETFROM:+0200
TZOFFSETTO:+0300
TZNAME:EEST
DTSTART:20150329T010000
END:DAYLIGHT
BEGIN:STANDARD
TZOFFSETFROM:+0300
TZOFFSETTO:+0200
TZNAME:EET
DTSTART:20151025T010000
END:STANDARD
BEGIN:DAYLIGHT
TZOFFSETFROM:+0200
TZOFFSETTO:+0300
TZNAME:EEST
DTSTART:20160327T010000
END:DAYLIGHT
BEGIN:STANDARD
TZOFFSETFROM:+0300
TZOFFSETTO:+0200
TZNAME:EET
DTSTART:20161030T010000
END:STANDARD
BEGIN:DAYLIGHT
TZOFFSETFROM:+0200
TZOFFSETTO:+0300
TZNAME:EEST
DTSTART:20170326T010000
END:DAYLIGHT
BEGIN:STANDARD
TZOFFSETFROM:+0300
TZOFFSETTO:+0200
TZNAME:EET
DTSTART:20171029T010000
END:STANDARD
END:VTIMEZONE
BEGIN:VEVENT
DTSTART;TZID=Europe/Tallinn:20160210T180000
DTEND;TZID=Europe/Tallinn:20160210T180000
DTSTAMP:20260423T014849
CREATED:20160205T122120Z
LAST-MODIFIED:20160205T122120Z
UID:124-1455127200-1455127200@huuru.ee
SUMMARY:Hüüru küla arengukava arutelu
DESCRIPTION:Alustame Hüüru küla arengukava koostamisega. \nEsimesel kohtumisel kaardistame murekohad ja probleemid\, olukorrad või valdkonnad\, millega me rahul ei ole. \nLeiame juurprobleemid\, millega edasi minna ning mille lahendamine võib avaldada positiivset mõju mitmete teiste ebamugavate olukordade lahenemisele. \nSelles on meile abiks Lianne Teder Arengutoetajate ühingust. \nIdeid võib saata alati e-posti teel\, kui Sa ei saa seekord tulla!
URL:https://huuru.ee/sundmus/huuru-kula-arengukava-arutelu/
LOCATION:Hüüru Mõis\, Jõe tee 2\,\, Saue vald\, Hüüru\, 76911\, Eesti
ORGANIZER;CN="MT%C3%9C H%C3%BC%C3%BCru K%C3%BClaselts":MAILTO:info@huuru.ee
END:VEVENT
BEGIN:VEVENT
DTSTART;TZID=Europe/Tallinn:20160228T120000
DTEND;TZID=Europe/Tallinn:20160228T150000
DTSTAMP:20260423T014849
CREATED:20160208T164103Z
LAST-MODIFIED:20160208T164103Z
UID:129-1456660800-1456671600@huuru.ee
SUMMARY:X Käsitööõpituba
DESCRIPTION:Hüüru mõisas toimub X Käsitööõpituba RAHVUSLIKUS STIILIS KUDUMID 2
URL:https://huuru.ee/sundmus/x-kasitooopituba/
LOCATION:Hüüru Mõis\, Jõe tee 2\,\, Saue vald\, Hüüru\, 76911\, Eesti
ATTACH;FMTTYPE=image/jpeg:https://huuru.ee/wp-content/uploads/2016/02/Kasitooopituba28.02.2016.jpg
END:VEVENT
BEGIN:VEVENT
DTSTART;TZID=Europe/Tallinn:20160303T180000
DTEND;TZID=Europe/Tallinn:20160303T210000
DTSTAMP:20260423T014849
CREATED:20160226T113214Z
LAST-MODIFIED:20160226T113306Z
UID:140-1457028000-1457038800@huuru.ee
SUMMARY:Hüüru küla arengukava II koosolek
DESCRIPTION:Neljapäeval\, 03.märtsil 2016 kell 18.00 toimub Hüüru mõisas Hüüru küla II arengukava koosolek.
URL:https://huuru.ee/sundmus/huuru-kula-arengukava-ii-koosolek/
LOCATION:Hüüru Mõis\, Jõe tee 2\,\, Saue vald\, Hüüru\, 76911\, Eesti
ORGANIZER;CN="MT%C3%9C H%C3%BC%C3%BCru K%C3%BClaselts":MAILTO:info@huuru.ee
END:VEVENT
BEGIN:VEVENT
DTSTART;TZID=Europe/Tallinn:20160304T190000
DTEND;TZID=Europe/Tallinn:20160305T000000
DTSTAMP:20260423T014849
CREATED:20160226T112628Z
LAST-MODIFIED:20160226T113352Z
UID:138-1457118000-1457136000@huuru.ee
SUMMARY:Naistepäeva Pidu
DESCRIPTION:Reedel\, 04.märtsil 2016 kell 19.00 Hüüru mõisas NAISTEPÄEVA PIDU \nPeo meeleolu loovad arhiiviminutid Naistepäeva tähistamise kohta\,\nsamas lisab tundeid ja emotsioone muusika erinevates rütmides. \nIgal ühel kaasa hõrgutiste korv.\nAvatud Mõisameeste kohvik\nPilet: eelmüügist 3€/ kohapeal 5€\nLaudade ettetellimine ja info: 52 38 261/info@huuru.ee
URL:https://huuru.ee/sundmus/naistepaeva-pidu-huuru-moisas/
LOCATION:Hüüru Mõis\, Jõe tee 2\,\, Saue vald\, Hüüru\, 76911\, Eesti
ATTACH;FMTTYPE=image/jpeg:https://huuru.ee/wp-content/uploads/2016/02/Naistepäeva-kuulutus-v.jpg
ORGANIZER;CN="MT%C3%9C H%C3%BC%C3%BCru K%C3%BClaselts":MAILTO:info@huuru.ee
END:VEVENT
BEGIN:VEVENT
DTSTART;TZID=Europe/Tallinn:20160325T054000
DTEND;TZID=Europe/Tallinn:20160325T090000
DTSTAMP:20260423T014849
CREATED:20160316T133131Z
LAST-MODIFIED:20160316T195450Z
UID:149-1458884400-1458896400@huuru.ee
SUMMARY:PAASTUMAARJAPÄEVA TÄHISTAMINE
DESCRIPTION:Koguneme reedel\, 25.märtsil kell 5.40 Hüüru mõisa juurde\, et minna koos allikale. \nTervitame koos päikest\, peseme allikaveega silmi\, laulame\, unistame jne.. \nPANE SELGA SEELIK JA PÄHE VALGE RÄTIK! \nVõta kaasa ühiseks lauakatmiseks punajooke\, ülepannikooke\, moosi ja värvitud mune!
URL:https://huuru.ee/sundmus/149/
LOCATION:Hüüru Mõis\, Jõe tee 2\,\, Saue vald\, Hüüru\, 76911\, Eesti
ATTACH;FMTTYPE=image/jpeg:https://huuru.ee/wp-content/uploads/2016/03/Paastumaarjapäev-2016-v.jpg
ORGANIZER;CN="MT%C3%9C H%C3%BC%C3%BCru K%C3%BClaselts":MAILTO:info@huuru.ee
END:VEVENT
BEGIN:VEVENT
DTSTART;TZID=Europe/Tallinn:20160401T120000
DTEND;TZID=Europe/Tallinn:20160401T120000
DTSTAMP:20260423T014849
CREATED:20160318T105407Z
LAST-MODIFIED:20160319T094024Z
UID:204-1459512000-1459512000@huuru.ee
SUMMARY:Eakate Seltsi "SÜGISKULD"  jututuba
DESCRIPTION:Eakate Selts “Sügiskuld”  korraldab reedel\, 01.aprill 2016\, algusega kell 12.00 Hüüru mõisas Jututoa. \nKülla tuleb ajakirja AED peatoimetaja Eva Luigas. \nOOTAME KÕIKI AIAHUVILISI!
URL:https://huuru.ee/sundmus/eakate-seltsi-sugiskuld-jututuba/
LOCATION:Hüüru Mõis\, Jõe tee 2\,\, Saue vald\, Hüüru\, 76911\, Eesti
END:VEVENT
BEGIN:VEVENT
DTSTART;TZID=Europe/Tallinn:20160403T120000
DTEND;TZID=Europe/Tallinn:20160403T150000
DTSTAMP:20260423T014849
CREATED:20160310T134919Z
LAST-MODIFIED:20160316T195705Z
UID:144-1459684800-1459695600@huuru.ee
SUMMARY:XI Käsitööõpituba
DESCRIPTION:Pühapäeval\, 03.04.2016 algusega kell 12.00 Hüüru mõisas toimub järjekordne Käsitööõpituba. \nJätkame rahvusliku triibu kudumist jaõpime juurde lillede valmistamist erinevatel moodustel. \n  \nJuhendajaks TÖÖTUBA RATASTEL juhendaja Veronika  \nOma osavõtust teata eelnevalt telefonile: 52 38 261 või epostile: info@huuru.ee \nOsavõtu tasu 5€  võta tulles kaasa!
URL:https://huuru.ee/sundmus/xi-kasitooopituba/
LOCATION:Hüüru Mõis\, Jõe tee 2\,\, Saue vald\, Hüüru\, 76911\, Eesti
ATTACH;FMTTYPE=image/jpeg:https://huuru.ee/wp-content/uploads/2016/03/Kasitooopituba-03.04.2016-v.jpg
ORGANIZER;CN="MT%C3%9C H%C3%BC%C3%BCru K%C3%BClaselts":MAILTO:info@huuru.ee
END:VEVENT
BEGIN:VEVENT
DTSTART;TZID=Europe/Tallinn:20160406T180000
DTEND;TZID=Europe/Tallinn:20160406T210000
DTSTAMP:20260423T014849
CREATED:20160310T135342Z
LAST-MODIFIED:20160310T145418Z
UID:146-1459965600-1459976400@huuru.ee
SUMMARY:Hüüru küla arengukava III arutelu
DESCRIPTION:Hüüru mõisas\, kolmapäeval 06.aprilli 2016 algusega kell 18.00 toimub Hüüru küla arengukava III arutelu. \n  \nOLETE KÕIK OODATUD!
URL:https://huuru.ee/sundmus/huuru-kula-arengukava-iii-arutelu/
LOCATION:Hüüru Mõis\, Jõe tee 2\,\, Saue vald\, Hüüru\, 76911\, Eesti
END:VEVENT
BEGIN:VEVENT
DTSTART;TZID=Europe/Tallinn:20160407T180000
DTEND;TZID=Europe/Tallinn:20160407T190000
DTSTAMP:20260423T014849
CREATED:20160310T135518Z
LAST-MODIFIED:20160318T102334Z
UID:147-1460052000-1460055600@huuru.ee
SUMMARY:Hüüru igakuine koosolek
DESCRIPTION:Hüüru igakuine koosolek toimub Hüüru mõisas\, neljapäeval\, 07.04.2016 algusega kell 18.00
URL:https://huuru.ee/sundmus/huuru-koosolek/
LOCATION:Hüüru Mõis\, Jõe tee 2\,\, Saue vald\, Hüüru\, 76911\, Eesti
ORGANIZER;CN="MT%C3%9C H%C3%BC%C3%BCru K%C3%BClaselts":MAILTO:info@huuru.ee
END:VEVENT
BEGIN:VEVENT
DTSTART;TZID=Europe/Tallinn:20160407T190000
DTEND;TZID=Europe/Tallinn:20160407T200000
DTSTAMP:20260423T014849
CREATED:20160318T104855Z
LAST-MODIFIED:20160319T094338Z
UID:203-1460055600-1460059200@huuru.ee
SUMMARY:MTÜ Hüüru Külaseltsi liikmete üldkoosolek
DESCRIPTION:MTÜ Hüüru Külaselts kutsub oma liikmeid üldkoosolekule\, mis toimub neljapäeval\, 07.04.2016 algusega kell 19.00 Hüüru mõisas. \nPäevakord: \n1.2015 majandusaastaaruande vastuvõtmine\n2. Jooksvad küsimused
URL:https://huuru.ee/sundmus/mtu-huuru-kulaseltsi-liikmete-uldkoosolek/
LOCATION:Hüüru Mõis\, Jõe tee 2\,\, Saue vald\, Hüüru\, 76911\, Eesti
ORGANIZER;CN="MT%C3%9C H%C3%BC%C3%BCru K%C3%BClaselts":MAILTO:info@huuru.ee
END:VEVENT
BEGIN:VEVENT
DTSTART;TZID=Europe/Tallinn:20160410T110000
DTEND;TZID=Europe/Tallinn:20160410T143000
DTSTAMP:20260423T014849
CREATED:20160321T130758Z
LAST-MODIFIED:20160408T141433Z
UID:232-1460286000-1460298600@huuru.ee
SUMMARY:Kommihommik
DESCRIPTION:Agentuur Mi Vida korraldab\, 09.ja 10.aprillil 2016 algusega kell 11.00 kuni 14.30 \nHüüru mõisas KOMMIHOMMIKUD \nValmistatakse trühvelid. \nLisainfo: 564 533 39
URL:https://huuru.ee/sundmus/kommihommik/
LOCATION:Hüüru Mõis\, Jõe tee 2\,\, Saue vald\, Hüüru\, 76911\, Eesti
ATTACH;FMTTYPE=image/jpeg:https://huuru.ee/wp-content/uploads/2016/03/Kommihommik-v.jpg
END:VEVENT
BEGIN:VEVENT
DTSTART;TZID=Europe/Tallinn:20160430T100000
DTEND;TZID=Europe/Tallinn:20160430T160000
DTSTAMP:20260423T014849
CREATED:20160317T132223Z
LAST-MODIFIED:20160617T124726Z
UID:197-1462010400-1462032000@huuru.ee
SUMMARY:Hüüru kevadtalgud 2016
DESCRIPTION:  \nOlete kõik oodatud Hüüru kevadtalgutele 2016! \nTalgud toimuvad laupäeval\, 30.aprillil 2016 algusega kell 10.00. \nKoguneme Hüüru mõisa juurde. \nTalgutöödeks: mõisahoone akende pesu\, mõisa ümbruse korrastamine jne.. \nKaasa võtta kindad\, aknapesu vahendid\, rehad\, luuad jne… \nTalgulistele supp. \nPildid
URL:https://huuru.ee/sundmus/huuru-kulaseltsi-kevadtalgud-2016/
LOCATION:Hüüru Mõis\, Jõe tee 2\,\, Saue vald\, Hüüru\, 76911\, Eesti
ATTACH;FMTTYPE=image/jpeg:https://huuru.ee/wp-content/uploads/2016/03/huurukevadtalgud2016v.jpg
ORGANIZER;CN="MT%C3%9C H%C3%BC%C3%BCru K%C3%BClaselts":MAILTO:info@huuru.ee
END:VEVENT
BEGIN:VEVENT
DTSTART;TZID=Europe/Tallinn:20160505T180000
DTEND;TZID=Europe/Tallinn:20160505T200000
DTSTAMP:20260423T014849
CREATED:20160408T141628Z
LAST-MODIFIED:20160408T141628Z
UID:240-1462471200-1462478400@huuru.ee
SUMMARY:Hüüru küla arengukava tutvustus ja Hüüru koosolek
DESCRIPTION:Hüüru mõisas neljapäeval\, 05.mail 2016 kell 18.00 koosolek. \nPäevakorras; \n\nKüla arengukava tutvustus\n\n 
URL:https://huuru.ee/sundmus/huuru-kula-arengukava-tutvustus-ja-huuru-koosolek/
LOCATION:Hüüru Mõis\, Jõe tee 2\,\, Saue vald\, Hüüru\, 76911\, Eesti
ORGANIZER;CN="MT%C3%9C H%C3%BC%C3%BCru K%C3%BClaselts":MAILTO:info@huuru.ee
END:VEVENT
BEGIN:VEVENT
DTSTART;TZID=Europe/Tallinn:20160507T150000
DTEND;TZID=Europe/Tallinn:20160507T170000
DTSTAMP:20260423T014849
CREATED:20160412T143111Z
LAST-MODIFIED:20160412T143111Z
UID:243-1462633200-1462640400@huuru.ee
SUMMARY:Koolitus: Meisterdame sushit
DESCRIPTION:Hüüru mõisas toimub koolitus MEISTERDAME SUSHIT \nJuhendajaks: Jaanika- Kristin \nValmitstatakse 16 ampsu sushit. \nInfo ja registreerimine kuni 04.05.2016 epostile:soovid@mivida.ee \n 
URL:https://huuru.ee/sundmus/koolitus-meisterdame-sushit/
LOCATION:Hüüru Mõis\, Jõe tee 2\,\, Saue vald\, Hüüru\, 76911\, Eesti
ATTACH;FMTTYPE=image/jpeg:https://huuru.ee/wp-content/uploads/2016/04/Meisterdame-sushit-07.05.16-v.jpg
END:VEVENT
BEGIN:VEVENT
DTSTART;TZID=Europe/Tallinn:20160508T130000
DTEND;TZID=Europe/Tallinn:20160508T150000
DTSTAMP:20260423T014849
CREATED:20160408T141353Z
LAST-MODIFIED:20160408T141353Z
UID:238-1462712400-1462719600@huuru.ee
SUMMARY:EMADEPÄEVA KONTSERT
DESCRIPTION:Hüüru mõisas\, 08.mail 2016 kell 13.00 \nEMADEPÄEVA KONTSERT \nEsinevad: Hüüru tantsutüdrukud ja \nJAAN SÖÖT \n  \nTASUTA \n 
URL:https://huuru.ee/sundmus/emadepaeva-kontsert/
LOCATION:Hüüru Mõis\, Jõe tee 2\,\, Saue vald\, Hüüru\, 76911\, Eesti
ATTACH;FMTTYPE=image/jpeg:https://huuru.ee/wp-content/uploads/2016/04/Emadepäeva-kontsert-2016-v.jpg
ORGANIZER;CN="MT%C3%9C H%C3%BC%C3%BCru K%C3%BClaselts":MAILTO:info@huuru.ee
END:VEVENT
BEGIN:VEVENT
DTSTART;TZID=Europe/Tallinn:20160531T190000
DTEND;TZID=Europe/Tallinn:20160531T210000
DTSTAMP:20260423T014849
CREATED:20160519T135534Z
LAST-MODIFIED:20160521T093923Z
UID:266-1464721200-1464728400@huuru.ee
SUMMARY:HÜÜRU KÜLA ÜLDKOOSOLEK
DESCRIPTION:Hüüru küla üldkoosolek toimub\, teisipäeval\, 31.mai 2016 algusega kell 19.00 Hüüru mõisas. \n\nPäevakord:\n1. Hüüru küla arengukava kinnitamine\n2. Jooksvad küsimused\n\nKoosolekust võtab osa Saue vallavalitsuse esindaja.\n\nNB! Palume küsimused eelnevalt saata eposti aadressile: info@huuru.ee\, hiljemalt 25.05.2016.
URL:https://huuru.ee/sundmus/huuru-kula-uldkoosolek/
LOCATION:Hüüru Mõis\, Jõe tee 2\,\, Saue vald\, Hüüru\, 76911\, Eesti
ATTACH;FMTTYPE=image/jpeg:https://huuru.ee/wp-content/uploads/2016/05/Plakat-31.05.2016.jpg
ORGANIZER;CN="MT%C3%9C H%C3%BC%C3%BCru K%C3%BClaselts":MAILTO:info@huuru.ee
END:VEVENT
BEGIN:VEVENT
DTSTART;TZID=Europe/Tallinn:20160608T190000
DTEND;TZID=Europe/Tallinn:20160608T190000
DTSTAMP:20260423T014849
CREATED:20151218T122427Z
LAST-MODIFIED:20160602T075054Z
UID:113-1465412400-1465412400@huuru.ee
SUMMARY:Teatri ühiskülastus Rahvusooper Estoniasse
DESCRIPTION:Rahvusooper Estonia suvemuusikal\nŠolem Alejchemi jutustuse ainetel ja Arnold Perli eriloal \nLibreto: Joseph Stein\nMuusika: Jerry Bock\nLaulutekstide autor: Sheldon Harnick\nProdutsent: Harold Prince\nOriginaali lavastaja-koreograaf: Jerome Robbins\nMaailmaesietendus 22. septembril 1964 Broadway Imperial Theatre’is\nEsietendus Rahvusooperis Estonia 3. juunil 2016 \nPool sajandit tagasi sündinud muusikalist sai üks menukamaid Broadwayl\, kus seda mängiti enam kui kolm tuhat korda – rohkem kui Loewe’ „Minu veetlevat leedit“ või Leigh’ „Meest La Manchast“. Estoniasse jõudis „Viiuldaja katusel“ Georg Malviuse lavastuses esmakordselt 1989. aastal\, mil sellest sai aasta teatrisündmus. Suurriigi rõhumise all kannatava juudi rahva olemasolust ja püsimajäämisest jutustav lugu oli taasiseseisvuvas Eestis märgilise tähendusega. \nKakskümmend seitse aastat hiljem toob Georg Malvius viiuldaja taas Estoniasse\, jutustades loo piimamees Tevjest ja Anatevka värvikast külaelust\, inimestevahelistest suhetest\, traditsioonidest\, rõõmudest ja muredest\, armastusest ning pisaraist. Tevje püüab muutuvas ühiskonnas elus hoida rahvuslikke ja usulisi traditsioone\, kuid see on järjest raskem\, eriti kui tema viis kangekaelset tütart otsustavad kuulata oma südame häält ning valida peigmehed väljastpoolt juudi kogukonda. Lisaks sunnib tsaari käsk juudid oma külast lahkuma… \nÜheksa Tony auhinda võitnud muusikal pakatab meeldejäävaist meloodiaist\, mille on eestlaste südameisse laulnud Jüri Krjukov\, Peeter Oja\, Helgi Sallo ja Katrin Karisma: „Oleksin ma rikas“\, „Kosjamoor“\, „Tõuseb päike\, loojub päike“ jpt. \nLAVASTUSMEESKOND \nDirigendid: Jüri Alperten\, Kaspar Mänd\, Lauri Sirp\nLavastaja: Georg Malvius (Rootsi)\nKunstnik: Ellen Cairns (Šotimaa)\nValguskunstnik: Palle Palmé (Rootsi)\nKoreograaf: Adrienne Åbjörn (Rootsi)\nOsades: Mait Malmsten (Eesti Draamateater)\, Evelin Võigemast (Tallinna Linnateater)\, Helgi Sallo\, René Soom\, Mati Vaikmaa\, Kadri Kipper\, Anett Schneider\, Kaia Oidekivi\, Reigo Tamm (Teater Vanemuine)\, Norman Salumäe\, Karl-Erik Tamme\, Georg Gurjev\, Juuli Lill\, Mart Laur \nPielti hind 18\,20 + bussisõit
URL:https://huuru.ee/sundmus/teatri-uhiskulastus-rahvusooper-estoniasse/
LOCATION:Rahvusooper Estonia\, Estonia pst 4\, Tallinn\, Eesti
END:VEVENT
BEGIN:VEVENT
DTSTART;TZID=Europe/Tallinn:20160612T160000
DTEND;TZID=Europe/Tallinn:20160612T180000
DTSTAMP:20260423T014849
CREATED:20160530T081439Z
LAST-MODIFIED:20160530T081454Z
UID:283-1465747200-1465754400@huuru.ee
SUMMARY:SUSHI KOOLITUS
DESCRIPTION:Hüüru mõisas \npühapäeval\, 12.06.2016 kell 16.00-18.00 \nSUSHI KOOLITUS \nHIND 20.- \nInfo ja registreerimine: 564 53339
URL:https://huuru.ee/sundmus/sushi-koolitus/
LOCATION:Hüüru Mõis\, Jõe tee 2\,\, Saue vald\, Hüüru\, 76911\, Eesti
ATTACH;FMTTYPE=image/jpeg:https://huuru.ee/wp-content/uploads/2016/05/Sushi-koolitus-12.06.2016.jpg
END:VEVENT
BEGIN:VEVENT
DTSTART;TZID=Europe/Tallinn:20160615T190000
DTEND;TZID=Europe/Tallinn:20160615T203000
DTSTAMP:20260423T014849
CREATED:20160530T094641Z
LAST-MODIFIED:20160617T081454Z
UID:285-1466017200-1466022600@huuru.ee
SUMMARY:KOHTUMISÕHTU
DESCRIPTION:Hüüru mõisas \nkolmapäeval\,15.06.2016 kell 19.00 \nKülla tuleb EV välisminister MARINA KALJURAND \nEelregistreerimine kuni 13.06.2016 tel.52 38 261 \nPildid
URL:https://huuru.ee/sundmus/kohtumisohtu/
LOCATION:Hüüru Mõis\, Jõe tee 2\,\, Saue vald\, Hüüru\, 76911\, Eesti
ATTACH;FMTTYPE=image/jpeg:https://huuru.ee/wp-content/uploads/2016/05/Kohtumisohtu_15062016.jpg
END:VEVENT
BEGIN:VEVENT
DTSTART;TZID=Europe/Tallinn:20160621T183000
DTEND;TZID=Europe/Tallinn:20160621T210000
DTSTAMP:20260423T014849
CREATED:20160621T112419Z
LAST-MODIFIED:20160621T112431Z
UID:312-1466533800-1466542800@huuru.ee
SUMMARY:HALJASTUSPROJEKTI KOOSOLEK
DESCRIPTION:HÜÜRU MÕISA KINNISTU HALJASTUSPROJEKTI KOOSOLEK Hüüru mõisas\, teisipäeval\, 21-06-2016 kell 18.30 \n 
URL:https://huuru.ee/sundmus/haljastusprojekti-koosolek/
LOCATION:Hüüru Mõis\, Jõe tee 2\,\, Saue vald\, Hüüru\, 76911\, Eesti
ORGANIZER;CN="MT%C3%9C H%C3%BC%C3%BCru K%C3%BClaselts":MAILTO:info@huuru.ee
END:VEVENT
BEGIN:VEVENT
DTSTART;TZID=Europe/Tallinn:20160623T200000
DTEND;TZID=Europe/Tallinn:20160624T010000
DTSTAMP:20260423T014849
CREATED:20160408T142014Z
LAST-MODIFIED:20160630T135253Z
UID:242-1466712000-1466730000@huuru.ee
SUMMARY:HÜÜRU JAANITULI 2016
DESCRIPTION:Pildid
URL:https://huuru.ee/sundmus/huuru-jaanituli-2016/
LOCATION:Hüüru Mõis\, Jõe tee 2\,\, Saue vald\, Hüüru\, 76911\, Eesti
ATTACH;FMTTYPE=image/jpeg:https://huuru.ee/wp-content/uploads/2016/04/Jaanituli-2016.jpg
ORGANIZER;CN="MT%C3%9C H%C3%BC%C3%BCru K%C3%BClaselts":MAILTO:info@huuru.ee
END:VEVENT
BEGIN:VEVENT
DTSTART;TZID=Europe/Tallinn:20160823T190000
DTEND;TZID=Europe/Tallinn:20160824T100000
DTSTAMP:20260423T014849
CREATED:20160818T150026Z
LAST-MODIFIED:20160818T150026Z
UID:922-1471978800-1472032800@huuru.ee
SUMMARY:Öölugemine lastele
DESCRIPTION:
URL:https://huuru.ee/sundmus/oolugemine-lastele/
LOCATION:Kumna Kultuuriait\, Kumna tee 11a\, 76614\, Eesti
ATTACH;FMTTYPE=image/jpeg:https://huuru.ee/wp-content/uploads/2016/08/uus.jpg
ORGANIZER;CN="Kumna Kultuuriait ja H%C3%BC%C3%BCru K%C3%BClaselts":MAILTO:info@huuru.ee
END:VEVENT
BEGIN:VEVENT
DTSTART;TZID=Europe/Tallinn:20160910T100000
DTEND;TZID=Europe/Tallinn:20160910T160000
DTSTAMP:20260423T014849
CREATED:20160408T141849Z
LAST-MODIFIED:20160923T185826Z
UID:241-1473501600-1473523200@huuru.ee
SUMMARY:HÜÜRU KÜLA 775: HÜÜRU SÜGISLAAT 2016  ja Hüüru kohvikutepäev
DESCRIPTION:Pildid
URL:https://huuru.ee/sundmus/huuru-kula-775-huuru-sugislaat-2015-huuru-raamatukogu-130-ja-huuru-kohvikutepaev/
LOCATION:Hüüru Mõis\, Jõe tee 2\,\, Saue vald\, Hüüru\, 76911\, Eesti
ATTACH;FMTTYPE=image/jpeg:https://huuru.ee/wp-content/uploads/2016/04/sygislaat_2016.jpg
ORGANIZER;CN="MT%C3%9C H%C3%BC%C3%BCru K%C3%BClaselts":MAILTO:info@huuru.ee
END:VEVENT
BEGIN:VEVENT
DTSTART;TZID=Europe/Tallinn:20160911T160000
DTEND;TZID=Europe/Tallinn:20160911T180000
DTSTAMP:20260423T014849
CREATED:20160829T153910Z
LAST-MODIFIED:20160829T153910Z
UID:937-1473609600-1473616800@huuru.ee
SUMMARY:Sushikoolitus - UUED MAITSED!
DESCRIPTION:
URL:https://huuru.ee/sundmus/sushikoolitus-uued-maitsed/
LOCATION:Hüüru Mõis\, Jõe tee 2\,\, Saue vald\, Hüüru\, 76911\, Eesti
ATTACH;FMTTYPE=image/jpeg:https://huuru.ee/wp-content/uploads/2016/08/Sushikoolitus-11.09.2016_1.jpg
END:VEVENT
BEGIN:VEVENT
DTSTART;TZID=Europe/Tallinn:20160922T190000
DTEND;TZID=Europe/Tallinn:20160922T200000
DTSTAMP:20260423T014849
CREATED:20160920T130920Z
LAST-MODIFIED:20160920T130920Z
UID:974-1474570800-1474574400@huuru.ee
SUMMARY:Tantsutreeningud lastele
DESCRIPTION:
URL:https://huuru.ee/sundmus/tantsutreeningud-lastele-2/
LOCATION:Hüüru Mõis\, Jõe tee 2\,\, Saue vald\, Hüüru\, 76911\, Eesti
ORGANIZER;CN="MT%C3%9C H%C3%BC%C3%BCru K%C3%BClaselts":MAILTO:info@huuru.ee
END:VEVENT
BEGIN:VEVENT
DTSTART;TZID=Europe/Tallinn:20160929T190000
DTEND;TZID=Europe/Tallinn:20160929T200000
DTSTAMP:20260423T014849
CREATED:20160920T112339Z
LAST-MODIFIED:20161107T153956Z
UID:958-1475175600-1475179200@huuru.ee
SUMMARY:Tantsutreeningud lastele
DESCRIPTION:
URL:https://huuru.ee/sundmus/tantsutreeningud-lastele/
LOCATION:Hüüru Mõis\, Jõe tee 2\,\, Saue vald\, Hüüru\, 76911\, Eesti
ATTACH;FMTTYPE=image/png:https://huuru.ee/wp-content/uploads/2016/09/tantsutüdrukud_teisipäev.png
ORGANIZER;CN="MT%C3%9C H%C3%BC%C3%BCru K%C3%BClaselts":MAILTO:info@huuru.ee
END:VEVENT
BEGIN:VEVENT
DTSTART;TZID=Europe/Tallinn:20161001T120000
DTEND;TZID=Europe/Tallinn:20161001T120000
DTSTAMP:20260423T014849
CREATED:20160922T142938Z
LAST-MODIFIED:20160922T142938Z
UID:986-1475323200-1475323200@huuru.ee
SUMMARY:Hüüru noored
DESCRIPTION:Hei\, hea Hüüru külanoor! \nPakume noortele erinevaid võimalusi nii majas sees kui väljaspool  ja avastada\, mis võimalusi on meil veel pakkuda. Kui oled noor\, kes ei oska oma vaba ajaga midagi peale hakata või siis teate täpselt mida teha tahate\, aga asi jääb teostuse taha – siis on Hüüru mõis teile just õige koht. \nEsimene kohtumine toimub laupäeval\, 1.oktoobril kell 12.00 Hüüru mõisas. \nTule kohale!
URL:https://huuru.ee/sundmus/huuru-noored/
LOCATION:Hüüru Mõis\, Jõe tee 2\,\, Saue vald\, Hüüru\, 76911\, Eesti
ORGANIZER;CN="MT%C3%9C H%C3%BC%C3%BCru K%C3%BClaselts":MAILTO:info@huuru.ee
END:VEVENT
BEGIN:VEVENT
DTSTART;TZID=Europe/Tallinn:20161003T163000
DTEND;TZID=Europe/Tallinn:20161003T163000
DTSTAMP:20260423T014849
CREATED:20161015T105515Z
LAST-MODIFIED:20161015T105515Z
UID:1070-1475512200-1475512200@huuru.ee
SUMMARY:Mudilaste muusikatuba
DESCRIPTION:
URL:https://huuru.ee/sundmus/mudilaste-muusikatuba-9/
LOCATION:Hüüru Mõis\, Jõe tee 2\,\, Saue vald\, Hüüru\, 76911\, Eesti
ATTACH;FMTTYPE=image/png:https://huuru.ee/wp-content/uploads/2016/10/beebikool-lehte.png
ORGANIZER;CN="MT%C3%9C H%C3%BC%C3%BCru K%C3%BClaselts":MAILTO:info@huuru.ee
END:VEVENT
BEGIN:VEVENT
DTSTART;TZID=Europe/Tallinn:20161003T163000
DTEND;TZID=Europe/Tallinn:20161003T180000
DTSTAMP:20260423T014849
CREATED:20160920T125825Z
LAST-MODIFIED:20161014T094230Z
UID:969-1475512200-1475517600@huuru.ee
SUMMARY:Mudilaste muusikatuba
DESCRIPTION:Esmaspäeviti kell 16.30 – 17.30 \n\nOotame põngerjaid koos emmedega vanuses 1- kuni 2-aastased\, et üheskoos avastada muusikalisi saladusi\, mängida ja suhelda. Lapsed kohtuvad omavanustega ja õpivad rühmas olemist\, samuti saavad samas elusituatsioonis olevad lapsevanemad omavahel muljeid ja kogemusi jagada.
URL:https://huuru.ee/sundmus/mudilaste-muusikatuba-2/
LOCATION:Hüüru Mõis\, Jõe tee 2\,\, Saue vald\, Hüüru\, 76911\, Eesti
ATTACH;FMTTYPE=image/png:https://huuru.ee/wp-content/uploads/2016/10/beebikool-lehte.png
ORGANIZER;CN="MT%C3%9C H%C3%BC%C3%BCru K%C3%BClaselts":MAILTO:info@huuru.ee
END:VEVENT
BEGIN:VEVENT
DTSTART;TZID=Europe/Tallinn:20161005T183000
DTEND;TZID=Europe/Tallinn:20161005T200000
DTSTAMP:20260423T014849
CREATED:20160926T094700Z
LAST-MODIFIED:20160926T095228Z
UID:994-1475692200-1475697600@huuru.ee
SUMMARY:Sushi koolitus
DESCRIPTION:Hüüru mõisas \nkolmapäeval\, 5.10.16 kell 18.30-20.00 \nKüpsetatud sushi koolitus \nHind 20.- \nInfo ja registreerimine – soovid@mivida.ee
URL:https://huuru.ee/sundmus/sushi-koolitus-2/
LOCATION:Hüüru Mõis\, Jõe tee 2\,\, Saue vald\, Hüüru\, 76911\, Eesti
ATTACH;FMTTYPE=image/jpeg:https://huuru.ee/wp-content/uploads/2016/09/Koolitus-5.10.16.jpg
END:VEVENT
END:VCALENDAR