BEGIN:VCALENDAR
VERSION:2.0
PRODID:-//H&uuml;&uuml;ru m&otilde;is - ECPv6.15.20//NONSGML v1.0//EN
CALSCALE:GREGORIAN
METHOD:PUBLISH
X-WR-CALNAME:H&uuml;&uuml;ru m&otilde;is
X-ORIGINAL-URL:https://huuru.ee
X-WR-CALDESC:Events for H&uuml;&uuml;ru m&otilde;is
REFRESH-INTERVAL;VALUE=DURATION:PT1H
X-Robots-Tag:noindex
X-PUBLISHED-TTL:PT1H
BEGIN:VTIMEZONE
TZID:Europe/Tallinn
BEGIN:DAYLIGHT
TZOFFSETFROM:+0200
TZOFFSETTO:+0300
TZNAME:EEST
DTSTART:20140330T010000
END:DAYLIGHT
BEGIN:STANDARD
TZOFFSETFROM:+0300
TZOFFSETTO:+0200
TZNAME:EET
DTSTART:20141026T010000
END:STANDARD
BEGIN:DAYLIGHT
TZOFFSETFROM:+0200
TZOFFSETTO:+0300
TZNAME:EEST
DTSTART:20150329T010000
END:DAYLIGHT
BEGIN:STANDARD
TZOFFSETFROM:+0300
TZOFFSETTO:+0200
TZNAME:EET
DTSTART:20151025T010000
END:STANDARD
BEGIN:DAYLIGHT
TZOFFSETFROM:+0200
TZOFFSETTO:+0300
TZNAME:EEST
DTSTART:20160327T010000
END:DAYLIGHT
BEGIN:STANDARD
TZOFFSETFROM:+0300
TZOFFSETTO:+0200
TZNAME:EET
DTSTART:20161030T010000
END:STANDARD
BEGIN:DAYLIGHT
TZOFFSETFROM:+0200
TZOFFSETTO:+0300
TZNAME:EEST
DTSTART:20170326T010000
END:DAYLIGHT
BEGIN:STANDARD
TZOFFSETFROM:+0300
TZOFFSETTO:+0200
TZNAME:EET
DTSTART:20171029T010000
END:STANDARD
END:VTIMEZONE
BEGIN:VEVENT
DTSTART;TZID=Europe/Tallinn:20160228T120000
DTEND;TZID=Europe/Tallinn:20160228T150000
DTSTAMP:20260423T015255
CREATED:20160208T164103Z
LAST-MODIFIED:20160208T164103Z
UID:129-1456660800-1456671600@huuru.ee
SUMMARY:X Käsitööõpituba
DESCRIPTION:Hüüru mõisas toimub X Käsitööõpituba RAHVUSLIKUS STIILIS KUDUMID 2
URL:https://huuru.ee/sundmus/x-kasitooopituba/
LOCATION:Hüüru Mõis\, Jõe tee 2\,\, Saue vald\, Hüüru\, 76911\, Eesti
ATTACH;FMTTYPE=image/jpeg:https://huuru.ee/wp-content/uploads/2016/02/Kasitooopituba28.02.2016.jpg
END:VEVENT
BEGIN:VEVENT
DTSTART;TZID=Europe/Tallinn:20160210T180000
DTEND;TZID=Europe/Tallinn:20160210T180000
DTSTAMP:20260423T015255
CREATED:20160205T122120Z
LAST-MODIFIED:20160205T122120Z
UID:124-1455127200-1455127200@huuru.ee
SUMMARY:Hüüru küla arengukava arutelu
DESCRIPTION:Alustame Hüüru küla arengukava koostamisega. \nEsimesel kohtumisel kaardistame murekohad ja probleemid\, olukorrad või valdkonnad\, millega me rahul ei ole. \nLeiame juurprobleemid\, millega edasi minna ning mille lahendamine võib avaldada positiivset mõju mitmete teiste ebamugavate olukordade lahenemisele. \nSelles on meile abiks Lianne Teder Arengutoetajate ühingust. \nIdeid võib saata alati e-posti teel\, kui Sa ei saa seekord tulla!
URL:https://huuru.ee/sundmus/huuru-kula-arengukava-arutelu/
LOCATION:Hüüru Mõis\, Jõe tee 2\,\, Saue vald\, Hüüru\, 76911\, Eesti
ORGANIZER;CN="MT%C3%9C H%C3%BC%C3%BCru K%C3%BClaselts":MAILTO:info@huuru.ee
END:VEVENT
BEGIN:VEVENT
DTSTART;TZID=Europe/Tallinn:20160131T120000
DTEND;TZID=Europe/Tallinn:20160131T150000
DTSTAMP:20260423T015255
CREATED:20160106T132020Z
LAST-MODIFIED:20160106T132816Z
UID:121-1454241600-1454252400@huuru.ee
SUMMARY:IX KÄSITÖÖ- ÕPITUBA „RAHVUSLIKUS STIILIS KUDUMID“
DESCRIPTION:  \nJuhendajaks TÖÖTUBA RATASTEL juhendaja Veronika \nOma osavõtust teata eelnevalt telefonile: 52 38 261 või epostile: info@huuru.ee\nOsavõtu tasu 5€ võta tulles kaasa!\nSeekord palume kaasa võtta 3-4 värvi erinevat lõnga!!!!
URL:https://huuru.ee/sundmus/121/
LOCATION:Hüüru Mõis\, Jõe tee 2\,\, Saue vald\, Hüüru\, 76911\, Eesti
ATTACH;FMTTYPE=image/jpeg:https://huuru.ee/wp-content/uploads/2016/01/Kasitooopituba_30.01.2016_v.jpg
END:VEVENT
BEGIN:VEVENT
DTSTART;TZID=Europe/Tallinn:20160125T190000
DTEND;TZID=Europe/Tallinn:20160125T190000
DTSTAMP:20260423T015255
CREATED:20151202T145501Z
LAST-MODIFIED:20151218T123610Z
UID:88-1453748400-1453748400@huuru.ee
SUMMARY:Teatri ühiskülastus Pärnusse
DESCRIPTION:Ugala teatri etendus\nMeeste kodu – Gómez ja Galán \nLavastaja ja kunstnik\nAndres Noormets \n„Kuueteistkümneselt olin rumal\, segaduses ja otsustusvõimetu. Kahekümneviieselt olin tark\, enesekindel ja otsustav. Neljakümneviieselt olen rumal\, segaduses\, ebakindel ja otsustusvõimetu. Kes oleks võinud arvata\, et see küps periood on mehe kasvueas nii lühiajaline?” Jules Feiffer \nTeadlased on välja selgitanud\, et inimesed on kõige õnnelikumad elutee alguses ja lõpus. 40. eluaasta paiku teeb õnnelikkuse graafik pea U-kujulise kaare ja see “raske iga” jääb täpselt selle graafiku põhja. Suurim riskigrupp on „õrnem sugu” ehk mehed oma 40. eluaastates. \n“Meeste kodu” viis peategelast – neli meest ja üks… kodu. Kodu\, mille mees koos naisega ehitas ja mis pärast lahkuminekut tuleb maha müüa. Kas teda vaevab masendus? Üksindus? Jah\, aga sellest mehed ju ei räägi. Aga millest mehed siis tegelikult räägivad? Nii omavahel? Kui nad on juhtumisi jõudnud neljakümnendate “raskesse ikka”? \nJa siis veel see kodu. Väärtuslik ja hinnaline. Kaua tehtud kaunikene. Kodu – see on kindlus\, turvatunne ja… armastus. Jah\, kõige rohkem ikka armastus. Naljakas\, et nii lihtne see ongi. Tõesti naljakas. \nPilet 11 eurot + bussisõit
URL:https://huuru.ee/sundmus/teatri-uhiskulastus-parnusse/
LOCATION:Endla Teater\, Keskväljak 1\, Pärnu\, Pärnu\, Eesti
END:VEVENT
BEGIN:VEVENT
DTSTART;TZID=Europe/Tallinn:20151220T160000
DTEND;TZID=Europe/Tallinn:20151220T180000
DTSTAMP:20260423T015255
CREATED:20151202T115616Z
LAST-MODIFIED:20151223T174849Z
UID:65-1450627200-1450634400@huuru.ee
SUMMARY:Hüüru LASTE JÕULUPIDU
DESCRIPTION:Armas laps vanuses 12. eluaastat k.a\npühapäeval\, 20.12.2015 kell 16.00\nootame Sind\nLASTE JÕULUPEOLE\nHüüru mõisa.\nKülla tuleb JÕULUVANA ja Tallinna lasteteater LEPATRIINU\netendusega „MA SOOVIN\, ET……“\nEt jõuluvana teaks kui palju kingitusi kaasa võtta\npalume lapse nime\, vanuse ja aadressi teada anda kuni 01.12.2015 telefonil 52 38 261 või info@huuru.ee \nOsavõtutasu 2€ palume kanda MTÜ Hüüru Külaseltsi arvele EE862200221041509459
URL:https://huuru.ee/sundmus/huuru-laste-joulupidu/
LOCATION:Hüüru Mõis\, Jõe tee 2\,\, Saue vald\, Hüüru\, 76911\, Eesti
ORGANIZER;CN="MT%C3%9C H%C3%BC%C3%BCru K%C3%BClaselts":MAILTO:info@huuru.ee
END:VEVENT
BEGIN:VEVENT
DTSTART;TZID=Europe/Tallinn:20151219T130000
DTEND;TZID=Europe/Tallinn:20151219T150000
DTSTAMP:20260423T015255
CREATED:20151217T202154Z
LAST-MODIFIED:20151220T162318Z
UID:111-1450530000-1450537200@huuru.ee
SUMMARY:Jõulumuusika kontsert!
DESCRIPTION:Esinevad \nNõmme muusikakooli noored.\nHea akustikaga mõisa saalis kõlavad teosed puhkpilliorkestri ja Brass-ansambli esituses. \nKontsert on kõigile tasuta! \n \nhttps://youtu.be/uEGKIvARB7U \nhttps://youtu.be/JVkPupdHuZw
URL:https://huuru.ee/sundmus/joulumuusika-kontsert/
LOCATION:Hüüru Mõis\, Jõe tee 2\,\, Saue vald\, Hüüru\, 76911\, Eesti
END:VEVENT
BEGIN:VEVENT
DTSTART;TZID=Europe/Tallinn:20151206T120000
DTEND;TZID=Europe/Tallinn:20151206T150000
DTSTAMP:20260423T015255
CREATED:20151202T121820Z
LAST-MODIFIED:20151202T121820Z
UID:69-1449403200-1449414000@huuru.ee
SUMMARY:VIII KÄSITÖÖ ÕPITUBA
DESCRIPTION:Peategelaseks on nuukervarras – sukanõela silmaga heegelnõel\, inglise keeles knooking crochet hook\, millega kootakse samu mustreid nagu harilike kudumisvarrastega\, ühtlasi saab sellega vaheldumisi heegeldada traditsioonilisel viisil.\nNuukervarras on tõeliselt mitmefunktsiooniline ja kõige ergonoomilisem töövahend\, mis võimaldab erinevaid tehnikaid kasvõi poolelt realt vahetada ning töötada nii püsti-\, horisontaal- kui ka digonaalsuunas või hoopis ringselt.\nOma kolmetunnise töötoa jooksul õpime selgeks aabitsatarkused\, kuidas selle nõelaga kududa-heegeldada. Proovitöödena\, s.o vähendatud mõõdus katsume läbi teha:\n¤ kolmnurkse õlaräti\n¤ ažuurse salli\n¤ sibula-/poevõrgu\n¤ sakilise servaga diagonaalsalli tööetapid.
URL:https://huuru.ee/sundmus/viii-kasitoo-opituba/
LOCATION:Hüüru Mõis\, Jõe tee 2\,\, Saue vald\, Hüüru\, 76911\, Eesti
ORGANIZER;CN="MT%C3%9C H%C3%BC%C3%BCru K%C3%BClaselts":MAILTO:info@huuru.ee
END:VEVENT
BEGIN:VEVENT
DTSTART;TZID=Europe/Tallinn:20151003T110000
DTEND;TZID=Europe/Tallinn:20151003T140000
DTSTAMP:20260423T015255
CREATED:20151218T131519Z
LAST-MODIFIED:20151218T132207Z
UID:116-1443870000-1443880800@huuru.ee
SUMMARY:Euroopa Sotsiaalfondi programmist üleriigilise puu- ja köögiviljade kampaania KÖÖGIVILJAD KAALU EI KASVATA!
DESCRIPTION:Kokanduskursus Hüüru mõisas \nKülla tuleb toitumisnõustaja KETLIN JAANI-VIHALEM \nValmistame puu- ja köögiviljadest toite huvitavate retseptide järgi.
URL:https://huuru.ee/sundmus/euroopa-sotsiaalfondi-programmist-uleriigilise-puu-ja-koogiviljade-kampaania-koogiviljad-kaalu-ei-kasvata/
LOCATION:Hüüru Mõis\, Jõe tee 2\,\, Saue vald\, Hüüru\, 76911\, Eesti
END:VEVENT
BEGIN:VEVENT
DTSTART;TZID=Europe/Tallinn:20150912T100000
DTEND;TZID=Europe/Tallinn:20150912T150000
DTSTAMP:20260423T015255
CREATED:20151218T130012Z
LAST-MODIFIED:20151218T132027Z
UID:115-1442052000-1442070000@huuru.ee
SUMMARY:MTÜ Hüüru Külaselts kutsub: Saue Valla Avatud Külaväravatele ja HÜÜRU SÜGISLAADALE
DESCRIPTION:laupäeval\, 12.09.2015 algusega kell 10.00 Hüüru mõisa pargis\n• Hüüru mõisas ringkäigud giidiga\n• Magusat ja soolast põske pista MÕISA PROUA kohvikus\n• Rikkalikult huvitavat kaupa kõigile\n• Kell 11.00- JOOGA\n• Laadaloos\n• Rohevahetus\n• Hennaga joonistused\n• Ratsasõit\n• Batuut\n• Vibuga laskmine\n• Avatud on MTÜ Hüüru R&C klubi huvitavate autode garaaž\n• Näha saab Hüüru ralliautosid\nKell 14.30 koostöös Pille Lille Muusikute Fondiga KLASSIKATÄHTEDE KONTSERT \nAndrei Bogatš (tenor)\nHenri Zibo (akordion)\nPiia Paemurru (klaver)\nKavas: Bach\, Franck\,Tosti\, Piazzolla jt. \nToetajad: Saue Vallavalitsus ja Eesti Kultuurkapital Harjumaa Ekspertgrupp
URL:https://huuru.ee/sundmus/mtu-huuru-kulaselts-kutsub-saue-valla-avatud-kulavaravatele-ja-huuru-sugislaadale/
LOCATION:Hüüru Mõis\, Jõe tee 2\,\, Saue vald\, Hüüru\, 76911\, Eesti
ORGANIZER;CN="MT%C3%9C H%C3%BC%C3%BCru K%C3%BClaselts":MAILTO:info@huuru.ee
END:VEVENT
END:VCALENDAR