BEGIN:VCALENDAR
VERSION:2.0
PRODID:-//H&uuml;&uuml;ru m&otilde;is - ECPv6.15.20//NONSGML v1.0//EN
CALSCALE:GREGORIAN
METHOD:PUBLISH
X-WR-CALNAME:H&uuml;&uuml;ru m&otilde;is
X-ORIGINAL-URL:https://huuru.ee
X-WR-CALDESC:Events for H&uuml;&uuml;ru m&otilde;is
REFRESH-INTERVAL;VALUE=DURATION:PT1H
X-Robots-Tag:noindex
X-PUBLISHED-TTL:PT1H
BEGIN:VTIMEZONE
TZID:Europe/Tallinn
BEGIN:DAYLIGHT
TZOFFSETFROM:+0200
TZOFFSETTO:+0300
TZNAME:EEST
DTSTART:20190331T010000
END:DAYLIGHT
BEGIN:STANDARD
TZOFFSETFROM:+0300
TZOFFSETTO:+0200
TZNAME:EET
DTSTART:20191027T010000
END:STANDARD
BEGIN:DAYLIGHT
TZOFFSETFROM:+0200
TZOFFSETTO:+0300
TZNAME:EEST
DTSTART:20200329T010000
END:DAYLIGHT
BEGIN:STANDARD
TZOFFSETFROM:+0300
TZOFFSETTO:+0200
TZNAME:EET
DTSTART:20201025T010000
END:STANDARD
BEGIN:DAYLIGHT
TZOFFSETFROM:+0200
TZOFFSETTO:+0300
TZNAME:EEST
DTSTART:20210328T010000
END:DAYLIGHT
BEGIN:STANDARD
TZOFFSETFROM:+0300
TZOFFSETTO:+0200
TZNAME:EET
DTSTART:20211031T010000
END:STANDARD
END:VTIMEZONE
BEGIN:VEVENT
DTSTART;TZID=Europe/Tallinn:20200205T190000
DTEND;TZID=Europe/Tallinn:20200205T200000
DTSTAMP:20260424T121900
CREATED:20200124T074241Z
LAST-MODIFIED:20200124T074413Z
UID:2894-1580929200-1580932800@huuru.ee
SUMMARY:Hüüru Veskis loeng "Vaimne maailmavaade - oht ja/või võimalus"
DESCRIPTION:Kas vaimsus on opositsioonis ratsionaalse meelega?\nRäägime erinevatest maailmavaadetest ja mõtlemise horisontaalsest ja\nvertikaalsest mõõtmest. \nLoeng toimub Hüüru Veskis\, hea võimalus kostitada end suupärasega. \nLektor Viigi Viil-Kangur arst\, NLP Master Practitioner\, kinesioloog\nOSALUSTASU 2 eur
URL:https://huuru.ee/sundmus/loeng-vaimne-maailmavaade-oht-ja-voi-voimalus/
ATTACH;FMTTYPE=application/pdf:https://huuru.ee/wp-content/uploads/2020/01/Lisage-pealkiri.pdf
END:VEVENT
BEGIN:VEVENT
DTSTART;TZID=Europe/Tallinn:20200206T180000
DTEND;TZID=Europe/Tallinn:20200206T190000
DTSTAMP:20260424T121900
CREATED:20200124T074746Z
LAST-MODIFIED:20200124T074746Z
UID:2899-1581012000-1581015600@huuru.ee
SUMMARY:Hüüru külaseltsi koosolek
DESCRIPTION:Koosolek toimub raamatukogus
URL:https://huuru.ee/sundmus/huuru-kulaseltsi-koosolek-25/
END:VEVENT
BEGIN:VEVENT
DTSTART;TZID=Europe/Tallinn:20200227T100000
DTEND;TZID=Europe/Tallinn:20200227T143000
DTSTAMP:20260424T121900
CREATED:20200220T125922Z
LAST-MODIFIED:20200220T125922Z
UID:2910-1582797600-1582813800@huuru.ee
SUMMARY:Vaheaja kokanduspäev Tuula külakeskuses
DESCRIPTION:
URL:https://huuru.ee/sundmus/vaheaja-kokanduspaev-tuula-kulakeskuses/
END:VEVENT
BEGIN:VEVENT
DTSTART;TZID=Europe/Tallinn:20200228T100000
DTEND;TZID=Europe/Tallinn:20200228T143000
DTSTAMP:20260424T121900
CREATED:20200220T130004Z
LAST-MODIFIED:20200220T130004Z
UID:2912-1582884000-1582900200@huuru.ee
SUMMARY:Koolivaheaja seikluspäev Tabasalu spordikeskuses
DESCRIPTION:
URL:https://huuru.ee/sundmus/koolivaheaja-seikluspaev-tabasalu-spordikeskuses/
END:VEVENT
END:VCALENDAR