BEGIN:VCALENDAR
VERSION:2.0
PRODID:-//H&uuml;&uuml;ru m&otilde;is - ECPv6.15.20//NONSGML v1.0//EN
CALSCALE:GREGORIAN
METHOD:PUBLISH
X-ORIGINAL-URL:https://huuru.ee
X-WR-CALDESC:Events for H&uuml;&uuml;ru m&otilde;is
REFRESH-INTERVAL;VALUE=DURATION:PT1H
X-Robots-Tag:noindex
X-PUBLISHED-TTL:PT1H
BEGIN:VTIMEZONE
TZID:Europe/Tallinn
BEGIN:DAYLIGHT
TZOFFSETFROM:+0200
TZOFFSETTO:+0300
TZNAME:EEST
DTSTART:20180325T010000
END:DAYLIGHT
BEGIN:STANDARD
TZOFFSETFROM:+0300
TZOFFSETTO:+0200
TZNAME:EET
DTSTART:20181028T010000
END:STANDARD
BEGIN:DAYLIGHT
TZOFFSETFROM:+0200
TZOFFSETTO:+0300
TZNAME:EEST
DTSTART:20190331T010000
END:DAYLIGHT
BEGIN:STANDARD
TZOFFSETFROM:+0300
TZOFFSETTO:+0200
TZNAME:EET
DTSTART:20191027T010000
END:STANDARD
BEGIN:DAYLIGHT
TZOFFSETFROM:+0200
TZOFFSETTO:+0300
TZNAME:EEST
DTSTART:20200329T010000
END:DAYLIGHT
BEGIN:STANDARD
TZOFFSETFROM:+0300
TZOFFSETTO:+0200
TZNAME:EET
DTSTART:20201025T010000
END:STANDARD
END:VTIMEZONE
BEGIN:VEVENT
DTSTART;TZID=Europe/Tallinn:20191202T190000
DTEND;TZID=Europe/Tallinn:20191202T200000
DTSTAMP:20260424T083718
CREATED:20191124T092734Z
LAST-MODIFIED:20191124T092734Z
UID:2859-1575313200-1575316800@huuru.ee
SUMMARY:Täiskasvanute võimlemine
DESCRIPTION:
URL:https://huuru.ee/sundmus/taiskasvanute-voimlemine-85/
END:VEVENT
BEGIN:VEVENT
DTSTART;TZID=Europe/Tallinn:20191204T183000
DTEND;TZID=Europe/Tallinn:20191204T193000
DTSTAMP:20260424T083718
CREATED:20191209T132347Z
LAST-MODIFIED:20191209T132347Z
UID:2880-1575484200-1575487800@huuru.ee
SUMMARY:Laste tantsutrenn
DESCRIPTION:
URL:https://huuru.ee/sundmus/laste-tantsutrenn-40/
END:VEVENT
BEGIN:VEVENT
DTSTART;TZID=Europe/Tallinn:20191205T150000
DTEND;TZID=Europe/Tallinn:20191205T163000
DTSTAMP:20260424T083718
CREATED:20191124T093130Z
LAST-MODIFIED:20191124T093130Z
UID:2865-1575558000-1575563400@huuru.ee
SUMMARY:Laste saviring
DESCRIPTION:
URL:https://huuru.ee/sundmus/laste-saviring/
END:VEVENT
BEGIN:VEVENT
DTSTART;TZID=Europe/Tallinn:20191205T170000
DTEND;TZID=Europe/Tallinn:20191205T190000
DTSTAMP:20260424T083718
CREATED:20191124T093233Z
LAST-MODIFIED:20191124T093233Z
UID:2867-1575565200-1575572400@huuru.ee
SUMMARY:Täiskasvanute saviring
DESCRIPTION:
URL:https://huuru.ee/sundmus/taiskasvanute-saviring/
END:VEVENT
BEGIN:VEVENT
DTSTART;TZID=Europe/Tallinn:20191205T180000
DTEND;TZID=Europe/Tallinn:20191205T190000
DTSTAMP:20260424T083718
CREATED:20191124T093323Z
LAST-MODIFIED:20191124T093323Z
UID:2869-1575568800-1575572400@huuru.ee
SUMMARY:Hüüru külaseltsi koosolek
DESCRIPTION:
URL:https://huuru.ee/sundmus/huuru-kulaseltsi-koosolek-23/
END:VEVENT
BEGIN:VEVENT
DTSTART;TZID=Europe/Tallinn:20191209T190000
DTEND;TZID=Europe/Tallinn:20191209T200000
DTSTAMP:20260424T083718
CREATED:20191124T092831Z
LAST-MODIFIED:20191124T092831Z
UID:2861-1575918000-1575921600@huuru.ee
SUMMARY:Täiskasvanute võimlemine
DESCRIPTION:
URL:https://huuru.ee/sundmus/taiskasvanute-voimlemine-87/
END:VEVENT
BEGIN:VEVENT
DTSTART;TZID=Europe/Tallinn:20191211T183000
DTEND;TZID=Europe/Tallinn:20191211T193000
DTSTAMP:20260424T083718
CREATED:20191209T132412Z
LAST-MODIFIED:20191209T132412Z
UID:2882-1576089000-1576092600@huuru.ee
SUMMARY:Laste tantsutrenn
DESCRIPTION:
URL:https://huuru.ee/sundmus/laste-tantsutrenn-41/
END:VEVENT
BEGIN:VEVENT
DTSTART;TZID=Europe/Tallinn:20191212T150000
DTEND;TZID=Europe/Tallinn:20191212T163000
DTSTAMP:20260424T083718
CREATED:20191203T062004Z
LAST-MODIFIED:20191203T062004Z
UID:2872-1576162800-1576168200@huuru.ee
SUMMARY:Laste saviring
DESCRIPTION:
URL:https://huuru.ee/sundmus/laste-saviring-2/
END:VEVENT
BEGIN:VEVENT
DTSTART;TZID=Europe/Tallinn:20191212T170000
DTEND;TZID=Europe/Tallinn:20191212T190000
DTSTAMP:20260424T083718
CREATED:20191203T062251Z
LAST-MODIFIED:20191203T062251Z
UID:2876-1576170000-1576177200@huuru.ee
SUMMARY:Täiskasvanute saviring
DESCRIPTION:
URL:https://huuru.ee/sundmus/taiskasvanute-saviring-3/
END:VEVENT
BEGIN:VEVENT
DTSTART;TZID=Europe/Tallinn:20191215T160000
DTEND;TZID=Europe/Tallinn:20191215T180000
DTSTAMP:20260424T083718
CREATED:20191111T153657Z
LAST-MODIFIED:20191111T153657Z
UID:2853-1576425600-1576432800@huuru.ee
SUMMARY:Hüüru küla laste jõulupidu
DESCRIPTION:
URL:https://huuru.ee/sundmus/huuru-kula-laste-joulupidu-2/
ATTACH;FMTTYPE=application/pdf:https://huuru.ee/wp-content/uploads/2019/11/CANVA_proof_order_PADq5-F9I74.pdf
END:VEVENT
BEGIN:VEVENT
DTSTART;TZID=Europe/Tallinn:20191216T190000
DTEND;TZID=Europe/Tallinn:20191216T200000
DTSTAMP:20260424T083718
CREATED:20191124T092923Z
LAST-MODIFIED:20191124T092923Z
UID:2863-1576522800-1576526400@huuru.ee
SUMMARY:Täiskasvanute võimlemine
DESCRIPTION:
URL:https://huuru.ee/sundmus/taiskasvanute-voimlemine-88/
END:VEVENT
BEGIN:VEVENT
DTSTART;TZID=Europe/Tallinn:20191219T150000
DTEND;TZID=Europe/Tallinn:20191219T163000
DTSTAMP:20260424T083718
CREATED:20191203T062346Z
LAST-MODIFIED:20191203T062346Z
UID:2878-1576767600-1576773000@huuru.ee
SUMMARY:Laste saviring
DESCRIPTION:
URL:https://huuru.ee/sundmus/laste-saviring-3/
END:VEVENT
BEGIN:VEVENT
DTSTART;TZID=Europe/Tallinn:20191219T170000
DTEND;TZID=Europe/Tallinn:20191219T190000
DTSTAMP:20260424T083718
CREATED:20191203T062115Z
LAST-MODIFIED:20191203T062115Z
UID:2874-1576774800-1576782000@huuru.ee
SUMMARY:Täiskasvanute saviring
DESCRIPTION:
URL:https://huuru.ee/sundmus/taiskasvanute-saviring-2/
END:VEVENT
END:VCALENDAR