BEGIN:VCALENDAR
VERSION:2.0
PRODID:-//H&uuml;&uuml;ru m&otilde;is - ECPv6.15.20//NONSGML v1.0//EN
CALSCALE:GREGORIAN
METHOD:PUBLISH
X-WR-CALNAME:H&uuml;&uuml;ru m&otilde;is
X-ORIGINAL-URL:https://huuru.ee
X-WR-CALDESC:Events for H&uuml;&uuml;ru m&otilde;is
REFRESH-INTERVAL;VALUE=DURATION:PT1H
X-Robots-Tag:noindex
X-PUBLISHED-TTL:PT1H
BEGIN:VTIMEZONE
TZID:Europe/Tallinn
BEGIN:DAYLIGHT
TZOFFSETFROM:+0200
TZOFFSETTO:+0300
TZNAME:EEST
DTSTART:20180325T010000
END:DAYLIGHT
BEGIN:STANDARD
TZOFFSETFROM:+0300
TZOFFSETTO:+0200
TZNAME:EET
DTSTART:20181028T010000
END:STANDARD
BEGIN:DAYLIGHT
TZOFFSETFROM:+0200
TZOFFSETTO:+0300
TZNAME:EEST
DTSTART:20190331T010000
END:DAYLIGHT
BEGIN:STANDARD
TZOFFSETFROM:+0300
TZOFFSETTO:+0200
TZNAME:EET
DTSTART:20191027T010000
END:STANDARD
BEGIN:DAYLIGHT
TZOFFSETFROM:+0200
TZOFFSETTO:+0300
TZNAME:EEST
DTSTART:20200329T010000
END:DAYLIGHT
BEGIN:STANDARD
TZOFFSETFROM:+0300
TZOFFSETTO:+0200
TZNAME:EET
DTSTART:20201025T010000
END:STANDARD
END:VTIMEZONE
BEGIN:VEVENT
DTSTART;TZID=Europe/Tallinn:20190401T190000
DTEND;TZID=Europe/Tallinn:20190401T200000
DTSTAMP:20260423T174816
CREATED:20190325T152802Z
LAST-MODIFIED:20190325T152802Z
UID:2520-1554145200-1554148800@huuru.ee
SUMMARY:Täiskasvanute võimlemine
DESCRIPTION:
URL:https://huuru.ee/sundmus/taiskasvanute-voimlemine-71/
END:VEVENT
BEGIN:VEVENT
DTSTART;TZID=Europe/Tallinn:20190402T190000
DTEND;TZID=Europe/Tallinn:20190402T200000
DTSTAMP:20260423T174816
CREATED:20190320T084538Z
LAST-MODIFIED:20190320T084538Z
UID:2517-1554231600-1554235200@huuru.ee
SUMMARY:Loeng "Keha mäletab kõike"
DESCRIPTION:Keha mäletab meiega toimunut ja annab sellest signaale.\nIgal lihasel ja organil on oma füüsiline roll\, kuid ka seos emotsioonidega.\nNäiteks: vihast tõmbasid käed rusikasse\, kops läks üle maksa jne\nRäägime nendest keha signaalidest\, teeme ka mõned praktilised harjutused.\nLektor: Viigi Viil-Kangur\, arst\, NLP Master Practitioner\, kinesioloog\nOSALUSTASU 1 eur
URL:https://huuru.ee/sundmus/loeng-keha-maletab-koike/
ATTACH;FMTTYPE=image/jpeg:https://huuru.ee/wp-content/uploads/2019/03/Loeng-2.04-page-001.jpg
END:VEVENT
BEGIN:VEVENT
DTSTART;TZID=Europe/Tallinn:20190403T183000
DTEND;TZID=Europe/Tallinn:20190403T193000
DTSTAMP:20260423T174816
CREATED:20190325T153246Z
LAST-MODIFIED:20190325T153247Z
UID:2538-1554316200-1554319800@huuru.ee
SUMMARY:Laste tantsutrenn
DESCRIPTION:
URL:https://huuru.ee/sundmus/laste-tantsutrenn-22/
END:VEVENT
BEGIN:VEVENT
DTSTART;TZID=Europe/Tallinn:20190404T130000
DTEND;TZID=Europe/Tallinn:20190404T193000
DTSTAMP:20260423T174816
CREATED:20190325T153049Z
LAST-MODIFIED:20190325T153049Z
UID:2530-1554382800-1554406200@huuru.ee
SUMMARY:Saviring lastele ja täiskasvanutele
DESCRIPTION:
URL:https://huuru.ee/sundmus/saviring-lastele-ja-taiskasvanutele-8/
END:VEVENT
BEGIN:VEVENT
DTSTART;TZID=Europe/Tallinn:20190404T180000
DTEND;TZID=Europe/Tallinn:20190404T190000
DTSTAMP:20260423T174816
CREATED:20190108T090806Z
LAST-MODIFIED:20190108T090806Z
UID:2378-1554400800-1554404400@huuru.ee
SUMMARY:Hüüru Külaseltsi koosolek
DESCRIPTION:
URL:https://huuru.ee/sundmus/huuru-kulaseltsi-koosolek-18/
END:VEVENT
BEGIN:VEVENT
DTSTART;TZID=Europe/Tallinn:20190408T190000
DTEND;TZID=Europe/Tallinn:20190408T200000
DTSTAMP:20260423T174816
CREATED:20190325T152836Z
LAST-MODIFIED:20190325T152836Z
UID:2522-1554750000-1554753600@huuru.ee
SUMMARY:Täiskasvanute võimlemine
DESCRIPTION:
URL:https://huuru.ee/sundmus/taiskasvanute-voimlemine-74/
END:VEVENT
BEGIN:VEVENT
DTSTART;TZID=Europe/Tallinn:20190410T183000
DTEND;TZID=Europe/Tallinn:20190410T193000
DTSTAMP:20260423T174816
CREATED:20190325T153321Z
LAST-MODIFIED:20190325T153321Z
UID:2540-1554921000-1554924600@huuru.ee
SUMMARY:Laste tantsutrenn
DESCRIPTION:
URL:https://huuru.ee/sundmus/laste-tantsutrenn-24/
END:VEVENT
BEGIN:VEVENT
DTSTART;TZID=Europe/Tallinn:20190411T130000
DTEND;TZID=Europe/Tallinn:20190411T193000
DTSTAMP:20260423T174816
CREATED:20190325T153109Z
LAST-MODIFIED:20190325T153109Z
UID:2532-1554987600-1555011000@huuru.ee
SUMMARY:Saviring lastele ja täiskasvanutele
DESCRIPTION:
URL:https://huuru.ee/sundmus/saviring-lastele-ja-taiskasvanutele-9/
END:VEVENT
BEGIN:VEVENT
DTSTART;TZID=Europe/Tallinn:20190415T190000
DTEND;TZID=Europe/Tallinn:20190415T200000
DTSTAMP:20260423T174816
CREATED:20190325T152900Z
LAST-MODIFIED:20190325T152900Z
UID:2524-1555354800-1555358400@huuru.ee
SUMMARY:Täiskasvanute võimlemine
DESCRIPTION:
URL:https://huuru.ee/sundmus/taiskasvanute-voimlemine-75/
END:VEVENT
BEGIN:VEVENT
DTSTART;TZID=Europe/Tallinn:20190417T103000
DTEND;TZID=Europe/Tallinn:20190417T113000
DTSTAMP:20260423T174816
CREATED:20190416T073509Z
LAST-MODIFIED:20190416T075842Z
UID:2578-1555497000-1555500600@huuru.ee
SUMMARY:Väärikate võimlemine
DESCRIPTION:
URL:https://huuru.ee/sundmus/vaarikate-voimlemine-7/
END:VEVENT
BEGIN:VEVENT
DTSTART;TZID=Europe/Tallinn:20190417T183000
DTEND;TZID=Europe/Tallinn:20190417T193000
DTSTAMP:20260423T174816
CREATED:20190325T153449Z
LAST-MODIFIED:20190325T153449Z
UID:2546-1555525800-1555529400@huuru.ee
SUMMARY:Laste tantsutrenn
DESCRIPTION:
URL:https://huuru.ee/sundmus/laste-tantsutrenn-27/
END:VEVENT
BEGIN:VEVENT
DTSTART;TZID=Europe/Tallinn:20190418T130000
DTEND;TZID=Europe/Tallinn:20190418T193000
DTSTAMP:20260423T174816
CREATED:20190325T153135Z
LAST-MODIFIED:20190325T153135Z
UID:2534-1555592400-1555615800@huuru.ee
SUMMARY:Saviring lastele ja täiskasvanutele
DESCRIPTION:
URL:https://huuru.ee/sundmus/saviring-lastele-ja-taiskasvanutele-10/
END:VEVENT
BEGIN:VEVENT
DTSTART;TZID=Europe/Tallinn:20190422T100000
DTEND;TZID=Europe/Tallinn:20190422T143000
DTSTAMP:20260423T174816
CREATED:20190328T161353Z
LAST-MODIFIED:20190328T161353Z
UID:2549-1555927200-1555943400@huuru.ee
SUMMARY:Kevadvaheaja lastelaager
DESCRIPTION:
URL:https://huuru.ee/sundmus/kevadvaheaja-lastelaager/
ATTACH;FMTTYPE=application/pdf:https://huuru.ee/wp-content/uploads/2019/03/Hüüru-kevadvaheaja-lastelaager.pdf
END:VEVENT
BEGIN:VEVENT
DTSTART;TZID=Europe/Tallinn:20190422T190000
DTEND;TZID=Europe/Tallinn:20190422T200000
DTSTAMP:20260423T174816
CREATED:20190325T152926Z
LAST-MODIFIED:20190325T152926Z
UID:2526-1555959600-1555963200@huuru.ee
SUMMARY:Täiskasvanute võimlemine
DESCRIPTION:
URL:https://huuru.ee/sundmus/taiskasvanute-voimlemine-76/
END:VEVENT
BEGIN:VEVENT
DTSTART;TZID=Europe/Tallinn:20190423T100000
DTEND;TZID=Europe/Tallinn:20190423T143000
DTSTAMP:20260423T174816
CREATED:20190328T161451Z
LAST-MODIFIED:20190328T161451Z
UID:2552-1556013600-1556029800@huuru.ee
SUMMARY:Kevadvaheaja lastelaager
DESCRIPTION:
URL:https://huuru.ee/sundmus/kevadvaheaja-lastelaager-2/
ATTACH;FMTTYPE=application/pdf:https://huuru.ee/wp-content/uploads/2019/03/Hüüru-kevadvaheaja-lastelaager-1.pdf
END:VEVENT
BEGIN:VEVENT
DTSTART;TZID=Europe/Tallinn:20190424T100000
DTEND;TZID=Europe/Tallinn:20190424T143000
DTSTAMP:20260423T174816
CREATED:20190328T161551Z
LAST-MODIFIED:20190328T161551Z
UID:2555-1556100000-1556116200@huuru.ee
SUMMARY:Kevadvaheaja lastelaager
DESCRIPTION:
URL:https://huuru.ee/sundmus/kevadvaheaja-lastelaager-3/
ATTACH;FMTTYPE=application/pdf:https://huuru.ee/wp-content/uploads/2019/03/Hüüru-kevadvaheaja-lastelaager-2.pdf
END:VEVENT
BEGIN:VEVENT
DTSTART;TZID=Europe/Tallinn:20190424T183000
DTEND;TZID=Europe/Tallinn:20190424T193000
DTSTAMP:20260423T174816
CREATED:20190325T153402Z
LAST-MODIFIED:20190325T153402Z
UID:2544-1556130600-1556134200@huuru.ee
SUMMARY:Laste tantsutrenn
DESCRIPTION:
URL:https://huuru.ee/sundmus/laste-tantsutrenn-26/
END:VEVENT
BEGIN:VEVENT
DTSTART;TZID=Europe/Tallinn:20190425T100000
DTEND;TZID=Europe/Tallinn:20190425T143000
DTSTAMP:20260423T174816
CREATED:20190328T161616Z
LAST-MODIFIED:20190328T161616Z
UID:2558-1556186400-1556202600@huuru.ee
SUMMARY:Kevadvaheaja lastelaager
DESCRIPTION:
URL:https://huuru.ee/sundmus/kevadvaheaja-lastelaager-4/
END:VEVENT
BEGIN:VEVENT
DTSTART;TZID=Europe/Tallinn:20190425T130000
DTEND;TZID=Europe/Tallinn:20190425T193000
DTSTAMP:20260423T174816
CREATED:20190325T153159Z
LAST-MODIFIED:20190325T153159Z
UID:2536-1556197200-1556220600@huuru.ee
SUMMARY:Saviring lastele ja täiskasvanutele
DESCRIPTION:
URL:https://huuru.ee/sundmus/saviring-lastele-ja-taiskasvanutele-11/
END:VEVENT
BEGIN:VEVENT
DTSTART;TZID=Europe/Tallinn:20190429T190000
DTEND;TZID=Europe/Tallinn:20190429T200000
DTSTAMP:20260423T174816
CREATED:20190325T152951Z
LAST-MODIFIED:20190325T152951Z
UID:2528-1556564400-1556568000@huuru.ee
SUMMARY:Täiskasvanute võimlemine
DESCRIPTION:
URL:https://huuru.ee/sundmus/taiskasvanute-voimlemine-77/
END:VEVENT
END:VCALENDAR