BEGIN:VCALENDAR
VERSION:2.0
PRODID:-//H&uuml;&uuml;ru m&otilde;is - ECPv6.15.20//NONSGML v1.0//EN
CALSCALE:GREGORIAN
METHOD:PUBLISH
X-WR-CALNAME:H&uuml;&uuml;ru m&otilde;is
X-ORIGINAL-URL:https://huuru.ee
X-WR-CALDESC:Events for H&uuml;&uuml;ru m&otilde;is
REFRESH-INTERVAL;VALUE=DURATION:PT1H
X-Robots-Tag:noindex
X-PUBLISHED-TTL:PT1H
BEGIN:VTIMEZONE
TZID:Europe/Tallinn
BEGIN:DAYLIGHT
TZOFFSETFROM:+0200
TZOFFSETTO:+0300
TZNAME:EEST
DTSTART:20180325T010000
END:DAYLIGHT
BEGIN:STANDARD
TZOFFSETFROM:+0300
TZOFFSETTO:+0200
TZNAME:EET
DTSTART:20181028T010000
END:STANDARD
BEGIN:DAYLIGHT
TZOFFSETFROM:+0200
TZOFFSETTO:+0300
TZNAME:EEST
DTSTART:20190331T010000
END:DAYLIGHT
BEGIN:STANDARD
TZOFFSETFROM:+0300
TZOFFSETTO:+0200
TZNAME:EET
DTSTART:20191027T010000
END:STANDARD
BEGIN:DAYLIGHT
TZOFFSETFROM:+0200
TZOFFSETTO:+0300
TZNAME:EEST
DTSTART:20200329T010000
END:DAYLIGHT
BEGIN:STANDARD
TZOFFSETFROM:+0300
TZOFFSETTO:+0200
TZNAME:EET
DTSTART:20201025T010000
END:STANDARD
END:VTIMEZONE
BEGIN:VEVENT
DTSTART;TZID=Europe/Tallinn:20190204T190000
DTEND;TZID=Europe/Tallinn:20190204T200000
DTSTAMP:20260423T140858
CREATED:20190226T091946Z
LAST-MODIFIED:20190226T091946Z
UID:2484-1549306800-1549310400@huuru.ee
SUMMARY:Täiskasvanute võimlemine
DESCRIPTION:
URL:https://huuru.ee/sundmus/taiskasvanute-voimlemine-72/
END:VEVENT
BEGIN:VEVENT
DTSTART;TZID=Europe/Tallinn:20190206T183000
DTEND;TZID=Europe/Tallinn:20190206T193000
DTSTAMP:20260423T140858
CREATED:20190226T090641Z
LAST-MODIFIED:20190226T090641Z
UID:2460-1549477800-1549481400@huuru.ee
SUMMARY:Laste tantsutrenn
DESCRIPTION:
URL:https://huuru.ee/sundmus/laste-tantsutrenn-19/
END:VEVENT
BEGIN:VEVENT
DTSTART;TZID=Europe/Tallinn:20190207T110000
DTEND;TZID=Europe/Tallinn:20190207T130000
DTSTAMP:20260423T140858
CREATED:20190207T132332Z
LAST-MODIFIED:20190207T132332Z
UID:2434-1549537200-1549544400@huuru.ee
SUMMARY:Väärikate jututoas räägime ravimtaimedest
DESCRIPTION:
URL:https://huuru.ee/sundmus/vaarikate-jututoas-raagime-ravimtaimedest/
END:VEVENT
BEGIN:VEVENT
DTSTART;TZID=Europe/Tallinn:20190207T180000
DTEND;TZID=Europe/Tallinn:20190207T190000
DTSTAMP:20260423T140858
CREATED:20190108T090630Z
LAST-MODIFIED:20190108T090630Z
UID:2374-1549562400-1549566000@huuru.ee
SUMMARY:Hüüru Külaseltsi koosolek
DESCRIPTION:
URL:https://huuru.ee/sundmus/huuru-kulaseltsi-koosolek-16/
END:VEVENT
BEGIN:VEVENT
DTSTART;TZID=Europe/Tallinn:20190207T190000
DTEND;TZID=Europe/Tallinn:20190207T204500
DTSTAMP:20260423T140858
CREATED:20190114T130156Z
LAST-MODIFIED:20190114T130156Z
UID:2404-1549566000-1549572300@huuru.ee
SUMMARY:Johannes Pääsukese tõeline elu
DESCRIPTION:Teie ees on seikluslik tragikomöödia eesti esimesest filmimehest Johannes Pääsukesest (Ott Sepp) ja tema püüdlustest filmikaameraga ringi rännates õnne leida. Koos hea sõbra Volteriga (Märt Avandi) veedab lennuka jutuga elukunstnik Pääsuke 1912. aasta palaval suvel ühe uskumatu nädala Setumaal.\nSellesse mahub naeru\, nuttu\, napsu\, romantikat ja kõike muud\, mis käib kaasas ühe 21-aastase tuulepeaga\, kel kombeks esmalt tegutseda ja alles seejärel mõelda. Arhiivis on sellest retkest säilinud kõigest 7 minutit materjali\, aga mis toimus veel siis\, kui kaamera ei käinud?\nOsades: Ott Sepp\, Märt Avandi\, Tõnu Kark\, Ester Kuntu ja paljud teised Stsenaariumi kirjutasid kokku Hardi Volmer ja Olavi Ruitlane. Idee autorid ja kaasstsenaristid on Peeter Brambat ja Hardi Volmer \nRežissöör: Hardi Volmer\nOperaator: Mait Mäekivi\nKunstnikud: Katrin Sipelgas ja Killu Mägi\nProdutsent: Anneli Ahven\nTootja: Kopli Kinokompanii OÜ\nFilmi valmimist toetasid Eesti Kultuurkapital\, Tartu Filmifond\, Setu Kultuuri Fond\, Postimees
URL:https://huuru.ee/sundmus/johannes-paasukese-toeline-elu/
ATTACH;FMTTYPE=application/pdf:https://huuru.ee/wp-content/uploads/2019/01/Hüüru-mMõisas-7.-veebruaril-kell-19.00e-1.pdf
END:VEVENT
BEGIN:VEVENT
DTSTART;TZID=Europe/Tallinn:20190208T103000
DTEND;TZID=Europe/Tallinn:20190208T113000
DTSTAMP:20260423T140858
CREATED:20190207T132405Z
LAST-MODIFIED:20190207T135023Z
UID:2436-1549621800-1549625400@huuru.ee
SUMMARY:Väärikate võimlemine
DESCRIPTION:
URL:https://huuru.ee/sundmus/vaarikate-voimlemine-5/
END:VEVENT
BEGIN:VEVENT
DTSTART;TZID=Europe/Tallinn:20190211T190000
DTEND;TZID=Europe/Tallinn:20190211T200000
DTSTAMP:20260423T140858
CREATED:20190226T091741Z
LAST-MODIFIED:20190226T091741Z
UID:2478-1549911600-1549915200@huuru.ee
SUMMARY:Täiskasvanute võimlemine
DESCRIPTION:
URL:https://huuru.ee/sundmus/taiskasvanute-voimlemine-69/
END:VEVENT
BEGIN:VEVENT
DTSTART;TZID=Europe/Tallinn:20190213T183000
DTEND;TZID=Europe/Tallinn:20190213T193000
DTSTAMP:20260423T140858
CREATED:20190226T090200Z
LAST-MODIFIED:20190226T090200Z
UID:2454-1550082600-1550086200@huuru.ee
SUMMARY:Laste tantsutrenn
DESCRIPTION:
URL:https://huuru.ee/sundmus/laste-tantsutrenn-16/
END:VEVENT
BEGIN:VEVENT
DTSTART;TZID=Europe/Tallinn:20190214T130000
DTEND;TZID=Europe/Tallinn:20190214T190000
DTSTAMP:20260423T140858
CREATED:20190220T124617Z
LAST-MODIFIED:20190220T124617Z
UID:2445-1550149200-1550170800@huuru.ee
SUMMARY:Saviring lastele ja täiskasvanutele
DESCRIPTION:
URL:https://huuru.ee/sundmus/saviring-lastele-ja-taiskasvanutele/
END:VEVENT
BEGIN:VEVENT
DTSTART;TZID=Europe/Tallinn:20190214T190000
DTEND;TZID=Europe/Tallinn:20190214T203000
DTSTAMP:20260423T140858
CREATED:20190128T130059Z
LAST-MODIFIED:20190129T083006Z
UID:2417-1550170800-1550176200@huuru.ee
SUMMARY:Elu on parim meelelahutus
DESCRIPTION:Andrus Vaariku loodud ja esitatud lugu võtab lähema vaatluse alla inimelu väärtused. “Mul pole tegelikult midagi karta\, need teemad on mulle väga südamelähedased ja miks mitte sellest avameelselt ja valehäbita rääkida. Me oleme siin maailmas ju esimest korda. Me oleme siin ainult korraks ja me ei tea ise ka\, mida ja kuidas teha. Ma olen esimest korda eestlane\, esimest korda olen ma isa. Ma pole harjutada saanud. Ma kirjutan oma elu ühe jutiga puhtandina valmis. Aga see ei tähenda\, et elu ei võiks lõbus olla. Elu on parim meelelahutus! Pärast surma jõuab mossitada küll.“ See ei ole valmis tekstiga etendus\, vaid sünnib igal õhtul uuesti. Publikul on võimalik näitlejaga kaasa rääkida ja küsimusi esitada\, mis toob ootamatuid pöördeid ja lõpptulemus on alati erinev. \nPilet 15\nSooduspilet 12\nPiletid müügil Hüüru mõisas.\nLisainfo tel: 6071 358\nmobiil: 52 38 261
URL:https://huuru.ee/sundmus/elu-on-parim-meelelahutus/
ATTACH;FMTTYPE=application/pdf:https://huuru.ee/wp-content/uploads/2019/01/A.-Vaarik.pdf
END:VEVENT
BEGIN:VEVENT
DTSTART;TZID=Europe/Tallinn:20190218T190000
DTEND;TZID=Europe/Tallinn:20190218T200000
DTSTAMP:20260423T140858
CREATED:20190226T091807Z
LAST-MODIFIED:20190226T091807Z
UID:2480-1550516400-1550520000@huuru.ee
SUMMARY:Täiskasvanute võimlemine
DESCRIPTION:
URL:https://huuru.ee/sundmus/taiskasvanute-voimlemine-70/
END:VEVENT
BEGIN:VEVENT
DTSTART;TZID=Europe/Tallinn:20190220T183000
DTEND;TZID=Europe/Tallinn:20190220T193000
DTSTAMP:20260423T140858
CREATED:20190226T090236Z
LAST-MODIFIED:20190226T090414Z
UID:2456-1550687400-1550691000@huuru.ee
SUMMARY:Laste tantsutrenn
DESCRIPTION:
URL:https://huuru.ee/sundmus/laste-tantsutrenn-17/
END:VEVENT
BEGIN:VEVENT
DTSTART;TZID=Europe/Tallinn:20190221T130000
DTEND;TZID=Europe/Tallinn:20190221T180000
DTSTAMP:20260423T140858
CREATED:20190220T124654Z
LAST-MODIFIED:20190220T124654Z
UID:2447-1550754000-1550772000@huuru.ee
SUMMARY:Saviring lastele ja täiskasvanutele
DESCRIPTION:
URL:https://huuru.ee/sundmus/saviring-lastele-ja-taiskasvanutele-2/
END:VEVENT
BEGIN:VEVENT
DTSTART;TZID=Europe/Tallinn:20190222T103000
DTEND;TZID=Europe/Tallinn:20190222T113000
DTSTAMP:20260423T140858
CREATED:20190220T124829Z
LAST-MODIFIED:20190220T124829Z
UID:2449-1550831400-1550835000@huuru.ee
SUMMARY:Väärikate võimlemine
DESCRIPTION:
URL:https://huuru.ee/sundmus/vaarikate-voimlemine-6/
END:VEVENT
BEGIN:VEVENT
DTSTART;TZID=Europe/Tallinn:20190224T140000
DTEND;TZID=Europe/Tallinn:20190224T160000
DTSTAMP:20260423T140858
CREATED:20190220T121532Z
LAST-MODIFIED:20190220T121532Z
UID:2443-1551016800-1551024000@huuru.ee
SUMMARY:Vabariigi aastapäeva koosviibimine Hüüru mõisas
DESCRIPTION:24. veebruaril koosviibimine mõisas. Algusega kell 14.00 ja lõpuaeg 16.00.\nEttevalmistame mõne rõõmustava etteaste ja saame suu magusaks.\nKui oled osavõtmas\, siis palun eelnevalt teada anda\, et teaksime ettevalmistusi teha.\ntel: 60 71 358\nmobiil: 52 38 261\nepost: info@huuru.ee 
URL:https://huuru.ee/sundmus/vabariigi-aastapaeva-koosviibimine-huuru-moisas/
END:VEVENT
BEGIN:VEVENT
DTSTART;TZID=Europe/Tallinn:20190225T190000
DTEND;TZID=Europe/Tallinn:20190225T200000
DTSTAMP:20260423T140858
CREATED:20190226T092114Z
LAST-MODIFIED:20190226T092118Z
UID:2488-1551121200-1551124800@huuru.ee
SUMMARY:Täiskasvanute võimlamine
DESCRIPTION:
URL:https://huuru.ee/sundmus/taiskasvanute-voimlamine/
END:VEVENT
BEGIN:VEVENT
DTSTART;TZID=Europe/Tallinn:20190226T190000
DTEND;TZID=Europe/Tallinn:20190226T200000
DTSTAMP:20260423T140858
CREATED:20190207T150358Z
LAST-MODIFIED:20190207T150358Z
UID:2431-1551207600-1551211200@huuru.ee
SUMMARY:Hüüru mõisas loeng paastumisest
DESCRIPTION:Lähenemas on paastuaeg\, mis algab vastlapäeval\, 5. märtsil ja lõpeb ülestõusmispühadega.\nMida tähendab paast? Käsitleme seda nii tervislikust kui ka vaimsest vaatenurgast.\nOman 30 aastast isiklikku paastukogemust ja kursis erinevate uuringute tulemustega.\nLektor: Viigi Viil-Kangur – arst\, NLP Master Practitioner\, kinesioloog \nOSALUSTASU 1 eur
URL:https://huuru.ee/sundmus/huuru-moisas-loeng-paastumisest/
ATTACH;FMTTYPE=application/pdf:https://huuru.ee/wp-content/uploads/2019/02/HÜÜRU-MÕISAS-LOENG-PAASTUMISEST-26.02.-KELL-19.00-3-1.pdf
END:VEVENT
BEGIN:VEVENT
DTSTART;TZID=Europe/Tallinn:20190227T183000
DTEND;TZID=Europe/Tallinn:20190227T193000
DTSTAMP:20260423T140858
CREATED:20190226T090448Z
LAST-MODIFIED:20190226T090506Z
UID:2458-1551292200-1551295800@huuru.ee
SUMMARY:Laste tantsutrenn
DESCRIPTION:
URL:https://huuru.ee/sundmus/laste-tantsutrenn-18/
END:VEVENT
BEGIN:VEVENT
DTSTART;TZID=Europe/Tallinn:20190228T130000
DTEND;TZID=Europe/Tallinn:20190228T190000
DTSTAMP:20260423T140858
CREATED:20190226T085952Z
LAST-MODIFIED:20190226T085952Z
UID:2451-1551358800-1551380400@huuru.ee
SUMMARY:Saviring lastele ja täiskasvanutele
DESCRIPTION:
URL:https://huuru.ee/sundmus/saviring-lastele-ja-taiskasvanutele-3/
END:VEVENT
BEGIN:VEVENT
DTSTART;TZID=Europe/Tallinn:20190228T190000
DTEND;TZID=Europe/Tallinn:20190228T200000
DTSTAMP:20260423T140858
CREATED:20190226T092028Z
LAST-MODIFIED:20190226T092038Z
UID:2486-1551380400-1551384000@huuru.ee
SUMMARY:Täiskasvanute võimlemine
DESCRIPTION:
URL:https://huuru.ee/sundmus/taiskasvanute-voimlemine-73/
END:VEVENT
BEGIN:VEVENT
DTSTART;TZID=Europe/Tallinn:20190228T190000
DTEND;TZID=Europe/Tallinn:20190228T201800
DTSTAMP:20260423T140858
CREATED:20190114T132754Z
LAST-MODIFIED:20190114T132754Z
UID:2407-1551380400-1551385080@huuru.ee
SUMMARY:Lotte ja kadunud lohed
DESCRIPTION:Laste poolt armastatud Lotte-lugude kolmandas filmis saab vahva koeratüdruk Lotte endale väikese õe Roosi. Leiutajatekülla tulevad teadlased\, pesukaru Karl ja kala Viktor\, kes osalevad suurel rahvalaulude kogumise võistlusel. Võistluse peaauhinna saab see\, kel õnnestub salvestada maailma vanima loomaliigi\, müütiliste tuldpurskavate lohede rahvalaulu. Lotte ja Roosi otsustavad teadlasi aidata. Neid ootavad ees põnevad ja ootamatud seiklused. \nTegelastele annavad oma hääled Peaosatäitjad Evelin Võigemast\, Helmi Tulev\, Mait Malmsten\, Elina Reinold js Sepo Seeman.
URL:https://huuru.ee/sundmus/lotte-ja-kadunud-lohed/
ATTACH;FMTTYPE=application/pdf:https://huuru.ee/wp-content/uploads/2019/01/Hüüru-mõisas-28.-veebruaril-kell-19.00-2.pdf
END:VEVENT
END:VCALENDAR