BEGIN:VCALENDAR
VERSION:2.0
PRODID:-//H&uuml;&uuml;ru m&otilde;is - ECPv6.15.20//NONSGML v1.0//EN
CALSCALE:GREGORIAN
METHOD:PUBLISH
X-ORIGINAL-URL:https://huuru.ee
X-WR-CALDESC:Events for H&uuml;&uuml;ru m&otilde;is
REFRESH-INTERVAL;VALUE=DURATION:PT1H
X-Robots-Tag:noindex
X-PUBLISHED-TTL:PT1H
BEGIN:VTIMEZONE
TZID:Europe/Tallinn
BEGIN:DAYLIGHT
TZOFFSETFROM:+0200
TZOFFSETTO:+0300
TZNAME:EEST
DTSTART:20170326T010000
END:DAYLIGHT
BEGIN:STANDARD
TZOFFSETFROM:+0300
TZOFFSETTO:+0200
TZNAME:EET
DTSTART:20171029T010000
END:STANDARD
BEGIN:DAYLIGHT
TZOFFSETFROM:+0200
TZOFFSETTO:+0300
TZNAME:EEST
DTSTART:20180325T010000
END:DAYLIGHT
BEGIN:STANDARD
TZOFFSETFROM:+0300
TZOFFSETTO:+0200
TZNAME:EET
DTSTART:20181028T010000
END:STANDARD
BEGIN:DAYLIGHT
TZOFFSETFROM:+0200
TZOFFSETTO:+0300
TZNAME:EEST
DTSTART:20190331T010000
END:DAYLIGHT
BEGIN:STANDARD
TZOFFSETFROM:+0300
TZOFFSETTO:+0200
TZNAME:EET
DTSTART:20191027T010000
END:STANDARD
END:VTIMEZONE
BEGIN:VEVENT
DTSTART;TZID=Europe/Tallinn:20180906T150000
DTEND;TZID=Europe/Tallinn:20180906T163000
DTSTAMP:20260423T052627
CREATED:20180905T081707Z
LAST-MODIFIED:20180905T081719Z
UID:2116-1536246000-1536251400@huuru.ee
SUMMARY:Saviring lastele
DESCRIPTION:
URL:https://huuru.ee/sundmus/saviring-lastele/
END:VEVENT
BEGIN:VEVENT
DTSTART;TZID=Europe/Tallinn:20180906T170000
DTEND;TZID=Europe/Tallinn:20180906T193000
DTSTAMP:20260423T052627
CREATED:20180905T081906Z
LAST-MODIFIED:20180905T081906Z
UID:2119-1536253200-1536262200@huuru.ee
SUMMARY:Saviring täiskasvanutele
DESCRIPTION:
URL:https://huuru.ee/sundmus/saviring-taiskasvanutele/
END:VEVENT
BEGIN:VEVENT
DTSTART;TZID=Europe/Tallinn:20180906T180000
DTEND;TZID=Europe/Tallinn:20180906T190000
DTSTAMP:20260423T052627
CREATED:20180801T092943Z
LAST-MODIFIED:20180801T092943Z
UID:2086-1536256800-1536260400@huuru.ee
SUMMARY:Hüüru Külaseltsi koosolek
DESCRIPTION:
URL:https://huuru.ee/sundmus/huuru-kulaseltsi-koosolek-11/
END:VEVENT
BEGIN:VEVENT
DTSTART;TZID=Europe/Tallinn:20180908T100000
DTEND;TZID=Europe/Tallinn:20180908T150000
DTSTAMP:20260423T052627
CREATED:20180710T093134Z
LAST-MODIFIED:20180905T083117Z
UID:2075-1536400800-1536418800@huuru.ee
SUMMARY:Hüüru Sügislaat
DESCRIPTION:Ootame kauplema käsitöö\, kunsti\, talutoodangu ja taimedega. \nKauplejaks registreerumine kuni 3. septembrini \nkontaktidel: info@huuru.ee tel. 52 38 261\, 60 71 358 \nHüüru mõishoones avatud K. Pätsi muuseum.\n Hüüru vabatahtlike päästekomando kutsub külastama.\nToimub laadaloos.\nMõisakohvik parimate Hüüru küla küpsetajate hõrgutistega.\nTöötab keraamikatuba.\nLastele ponisõit\, benjibatuudid\, ATV sõit ja näomaalingud.\nEsineb Piliklubi Söepõletajad.
URL:https://huuru.ee/sundmus/huuru-sugislaat/
ATTACH;FMTTYPE=application/pdf:https://huuru.ee/wp-content/uploads/2018/07/Hüüru-Sügislaat.pdf
END:VEVENT
BEGIN:VEVENT
DTSTART;TZID=Europe/Tallinn:20180913T150000
DTEND;TZID=Europe/Tallinn:20180913T163000
DTSTAMP:20260423T052627
CREATED:20180905T082023Z
LAST-MODIFIED:20180905T082023Z
UID:2121-1536850800-1536856200@huuru.ee
SUMMARY:Saviring lastele
DESCRIPTION:
URL:https://huuru.ee/sundmus/saviring-lastele-2/
END:VEVENT
BEGIN:VEVENT
DTSTART;TZID=Europe/Tallinn:20180913T170000
DTEND;TZID=Europe/Tallinn:20180913T193000
DTSTAMP:20260423T052627
CREATED:20180905T082108Z
LAST-MODIFIED:20180905T082108Z
UID:2123-1536858000-1536867000@huuru.ee
SUMMARY:Saviring täiskasvanutele
DESCRIPTION:
URL:https://huuru.ee/sundmus/saviring-taiskasvanutele-2/
END:VEVENT
BEGIN:VEVENT
DTSTART;TZID=Europe/Tallinn:20180920T150000
DTEND;TZID=Europe/Tallinn:20180920T163000
DTSTAMP:20260423T052627
CREATED:20180905T082157Z
LAST-MODIFIED:20180905T082157Z
UID:2125-1537455600-1537461000@huuru.ee
SUMMARY:Saviring lastele
DESCRIPTION:
URL:https://huuru.ee/sundmus/saviring-lastele-3/
END:VEVENT
BEGIN:VEVENT
DTSTART;TZID=Europe/Tallinn:20180920T170000
DTEND;TZID=Europe/Tallinn:20180920T193000
DTSTAMP:20260423T052627
CREATED:20180905T082226Z
LAST-MODIFIED:20180905T082226Z
UID:2127-1537462800-1537471800@huuru.ee
SUMMARY:Saviring täiskasvanutele
DESCRIPTION:
URL:https://huuru.ee/sundmus/saviring-taiskasvanutele-3/
END:VEVENT
BEGIN:VEVENT
DTSTART;TZID=Europe/Tallinn:20180927T150000
DTEND;TZID=Europe/Tallinn:20180927T163000
DTSTAMP:20260423T052627
CREATED:20180905T082313Z
LAST-MODIFIED:20180905T082313Z
UID:2129-1538060400-1538065800@huuru.ee
SUMMARY:Saviring lastele
DESCRIPTION:
URL:https://huuru.ee/sundmus/saviring-lastele-4/
END:VEVENT
BEGIN:VEVENT
DTSTART;TZID=Europe/Tallinn:20180927T170000
DTEND;TZID=Europe/Tallinn:20180927T193000
DTSTAMP:20260423T052627
CREATED:20180905T082348Z
LAST-MODIFIED:20180905T082348Z
UID:2131-1538067600-1538076600@huuru.ee
SUMMARY:Saviring täiskasvanutele
DESCRIPTION:
URL:https://huuru.ee/sundmus/saviring-taiskasvanutele-4/
END:VEVENT
BEGIN:VEVENT
DTSTART;TZID=Europe/Tallinn:20180929T113000
DTEND;TZID=Europe/Tallinn:20180929T114500
DTSTAMP:20260423T052627
CREATED:20180911T093723Z
LAST-MODIFIED:20180911T093832Z
UID:2139-1538220600-1538221500@huuru.ee
SUMMARY:Ohtlike jäätmete ja vanarehvide kogumisring Hüüru mõisa parkimisplatsil
DESCRIPTION:
URL:https://huuru.ee/sundmus/ohtlike-jaatmete-ja-vanarehvide-kogumisring-huuru-moisa-parkimisplatsil-2/
END:VEVENT
END:VCALENDAR