BEGIN:VCALENDAR
VERSION:2.0
PRODID:-//H&uuml;&uuml;ru m&otilde;is - ECPv6.15.20//NONSGML v1.0//EN
CALSCALE:GREGORIAN
METHOD:PUBLISH
X-WR-CALNAME:H&uuml;&uuml;ru m&otilde;is
X-ORIGINAL-URL:https://huuru.ee
X-WR-CALDESC:Events for H&uuml;&uuml;ru m&otilde;is
REFRESH-INTERVAL;VALUE=DURATION:PT1H
X-Robots-Tag:noindex
X-PUBLISHED-TTL:PT1H
BEGIN:VTIMEZONE
TZID:Europe/Tallinn
BEGIN:DAYLIGHT
TZOFFSETFROM:+0200
TZOFFSETTO:+0300
TZNAME:EEST
DTSTART:20170326T010000
END:DAYLIGHT
BEGIN:STANDARD
TZOFFSETFROM:+0300
TZOFFSETTO:+0200
TZNAME:EET
DTSTART:20171029T010000
END:STANDARD
BEGIN:DAYLIGHT
TZOFFSETFROM:+0200
TZOFFSETTO:+0300
TZNAME:EEST
DTSTART:20180325T010000
END:DAYLIGHT
BEGIN:STANDARD
TZOFFSETFROM:+0300
TZOFFSETTO:+0200
TZNAME:EET
DTSTART:20181028T010000
END:STANDARD
BEGIN:DAYLIGHT
TZOFFSETFROM:+0200
TZOFFSETTO:+0300
TZNAME:EEST
DTSTART:20190331T010000
END:DAYLIGHT
BEGIN:STANDARD
TZOFFSETFROM:+0300
TZOFFSETTO:+0200
TZNAME:EET
DTSTART:20191027T010000
END:STANDARD
END:VTIMEZONE
BEGIN:VEVENT
DTSTART;TZID=Europe/Tallinn:20180607T160000
DTEND;TZID=Europe/Tallinn:20180607T173000
DTSTAMP:20260422T235113
CREATED:20180608T081556Z
LAST-MODIFIED:20180608T081616Z
UID:2048-1528387200-1528392600@huuru.ee
SUMMARY:Keraamikaring lastele
DESCRIPTION:
URL:https://huuru.ee/sundmus/keraamikaring-lastele-2/
END:VEVENT
BEGIN:VEVENT
DTSTART;TZID=Europe/Tallinn:20180607T180000
DTEND;TZID=Europe/Tallinn:20180607T193000
DTSTAMP:20260422T235113
CREATED:20180608T081651Z
LAST-MODIFIED:20180608T081651Z
UID:2050-1528394400-1528399800@huuru.ee
SUMMARY:Keraamikaring täiskasvanutele
DESCRIPTION:
URL:https://huuru.ee/sundmus/keraamikaring-taiskasvanutele/
END:VEVENT
BEGIN:VEVENT
DTSTART;TZID=Europe/Tallinn:20180614T160000
DTEND;TZID=Europe/Tallinn:20180614T173000
DTSTAMP:20260422T235113
CREATED:20180608T081756Z
LAST-MODIFIED:20180608T081756Z
UID:2054-1528992000-1528997400@huuru.ee
SUMMARY:Keraamikaring lastele
DESCRIPTION:
URL:https://huuru.ee/sundmus/keraamikaring-lastele-3/
END:VEVENT
BEGIN:VEVENT
DTSTART;TZID=Europe/Tallinn:20180614T180000
DTEND;TZID=Europe/Tallinn:20180614T193000
DTSTAMP:20260422T235113
CREATED:20180608T081725Z
LAST-MODIFIED:20180608T081725Z
UID:2052-1528999200-1529004600@huuru.ee
SUMMARY:Keraamikaring täiskasvanutele
DESCRIPTION:
URL:https://huuru.ee/sundmus/keraamikaring-taiskasvanutele-2/
END:VEVENT
BEGIN:VEVENT
DTSTART;TZID=Europe/Tallinn:20180617T190000
DTEND;TZID=Europe/Tallinn:20180617T200000
DTSTAMP:20260422T235113
CREATED:20180606T083911Z
LAST-MODIFIED:20180606T083911Z
UID:2038-1529262000-1529265600@huuru.ee
SUMMARY:Margus Tabor. Jutud vahelepõigete ja kõrvalkalletega
DESCRIPTION:Mamma lugude autorina tuntud Margus Tabori monoloogid – jutud vahelepõigete ja kõrvalkalletega…\nPiletite broneerimine meili teel info@huuru.ee   ja telefonil 52 38 261\, piletite olemasolul ka enne etenduse algust kohapeal. \n\nPiletihind 15 eur-i ja sooduspilet 12 eur-i\n\nPiletid saab välja osta raamatukogu lahtioleku aegadel E ja N 12-19.00
URL:https://huuru.ee/sundmus/margus-tabor-jutud-vahelepoigete-ja-korvalkalletega/
ATTACH;FMTTYPE=image/jpeg:https://huuru.ee/wp-content/uploads/2018/06/hüüru_17_juuni-2.jpg
END:VEVENT
END:VCALENDAR