BEGIN:VCALENDAR
VERSION:2.0
PRODID:-//H&uuml;&uuml;ru m&otilde;is - ECPv6.15.20//NONSGML v1.0//EN
CALSCALE:GREGORIAN
METHOD:PUBLISH
X-ORIGINAL-URL:https://huuru.ee
X-WR-CALDESC:Events for H&uuml;&uuml;ru m&otilde;is
REFRESH-INTERVAL;VALUE=DURATION:PT1H
X-Robots-Tag:noindex
X-PUBLISHED-TTL:PT1H
BEGIN:VTIMEZONE
TZID:Europe/Tallinn
BEGIN:DAYLIGHT
TZOFFSETFROM:+0200
TZOFFSETTO:+0300
TZNAME:EEST
DTSTART:20160327T010000
END:DAYLIGHT
BEGIN:STANDARD
TZOFFSETFROM:+0300
TZOFFSETTO:+0200
TZNAME:EET
DTSTART:20161030T010000
END:STANDARD
BEGIN:DAYLIGHT
TZOFFSETFROM:+0200
TZOFFSETTO:+0300
TZNAME:EEST
DTSTART:20170326T010000
END:DAYLIGHT
BEGIN:STANDARD
TZOFFSETFROM:+0300
TZOFFSETTO:+0200
TZNAME:EET
DTSTART:20171029T010000
END:STANDARD
BEGIN:DAYLIGHT
TZOFFSETFROM:+0200
TZOFFSETTO:+0300
TZNAME:EEST
DTSTART:20180325T010000
END:DAYLIGHT
BEGIN:STANDARD
TZOFFSETFROM:+0300
TZOFFSETTO:+0200
TZNAME:EET
DTSTART:20181028T010000
END:STANDARD
END:VTIMEZONE
BEGIN:VEVENT
DTSTART;TZID=Europe/Tallinn:20170504T180000
DTEND;TZID=Europe/Tallinn:20170504T183000
DTSTAMP:20260421T235840
CREATED:20170425T111330Z
LAST-MODIFIED:20170817T093446Z
UID:1453-1493920800-1493922600@huuru.ee
SUMMARY:Hüüru külaseltsi liikmete koosolek
DESCRIPTION:Hüüru mõisas \nneljapäeval\, 04.05.2017 algusega kell 18.00
URL:https://huuru.ee/sundmus/huuru-kulaseltsi-liikmete-koosolek-2/
END:VEVENT
BEGIN:VEVENT
DTSTART;TZID=Europe/Tallinn:20170504T183000
DTEND;TZID=Europe/Tallinn:20170504T203000
DTSTAMP:20260421T235840
CREATED:20170425T111240Z
LAST-MODIFIED:20170425T111240Z
UID:1449-1493922600-1493929800@huuru.ee
SUMMARY:Infopäev NVK tegevuspiirkonna vabaühendustele Hüüru mõisas
DESCRIPTION:04.05.2017 \nMTÜ Nelja Valla Kogu kutsub piirkonna vabaühendusi infopäevale\, mille käigus tutvustatakse Leader strateegia rakendamise meetmeid: \nMeede 1 Kogukondade investeeringute toetamine \nMeede 4 Turismiteenuste arendamine ja infovahetuse edendamine \nInfopäev toimub Hüüru mõisas \nKAVA \n18.30 Tervituskohv \n18.45 Info NVK 2017 a II taotlusvooru kohta\, mis on avatud 28.august -03. september \n19.00 Toetusmeetmed ja taotlemine. Taotlemise dokumendid\, e-pria \n20.00 Avatud arutelu\, küsimused ja vastused \nRegistreerumine kuni 28.aprill kodulehe vormi või e-posti info@4kogu.ee vahendusel \nInfo: Annika Jõks 5187480
URL:https://huuru.ee/sundmus/infopaev-nvk-tegevuspiirkonna-vabauhendustele-huuru-moisas/
ATTACH;FMTTYPE=image/jpeg:https://huuru.ee/wp-content/uploads/2017/04/Infopäev-NVK-tegevuspiirkonna-vabaühendustele-Hüüru-mõisas.jpg
END:VEVENT
BEGIN:VEVENT
DTSTART;TZID=Europe/Tallinn:20170513T103000
DTEND;TZID=Europe/Tallinn:20170513T104500
DTSTAMP:20260421T235840
CREATED:20170424T120200Z
LAST-MODIFIED:20170424T120200Z
UID:1445-1494671400-1494672300@huuru.ee
SUMMARY:Ohtlike jäätmete ja vanarehvide kogumisring
DESCRIPTION:Ohtlike jäätmete ja vanarehvide kogumisring \nlaupäeval\, 13.05.2017 \nHüürus külas\, Hüüru mõisa juures   kell  10.30 kuni 10.45 \nInfo tel:534 46686
URL:https://huuru.ee/sundmus/ohtlike-jaatmete-ja-vanarehvide-kogumisring/
END:VEVENT
BEGIN:VEVENT
DTSTART;TZID=Europe/Tallinn:20170514T130000
DTEND;TZID=Europe/Tallinn:20170514T143000
DTSTAMP:20260421T235840
CREATED:20170424T115533Z
LAST-MODIFIED:20170425T104009Z
UID:1443-1494766800-1494772200@huuru.ee
SUMMARY:EMADEPÄEVA KONTSERT
DESCRIPTION:Hüüru mõisas \npühapäeval\, 14.05.2017 kell 13.00 \nEMADEPÄEVA KONTSERT \nEsinevad: Hüüru tantsutüdrukud \nMAREK SADAM \nTasuta
URL:https://huuru.ee/sundmus/emadepaeva-kontsert-2/
ATTACH;FMTTYPE=image/jpeg:https://huuru.ee/wp-content/uploads/2017/04/Emadepäeva-kontsert-2017.jpg
END:VEVENT
END:VCALENDAR