BEGIN:VCALENDAR
VERSION:2.0
PRODID:-//H&uuml;&uuml;ru m&otilde;is - ECPv6.15.20//NONSGML v1.0//EN
CALSCALE:GREGORIAN
METHOD:PUBLISH
X-ORIGINAL-URL:https://huuru.ee
X-WR-CALDESC:Events for H&uuml;&uuml;ru m&otilde;is
REFRESH-INTERVAL;VALUE=DURATION:PT1H
X-Robots-Tag:noindex
X-PUBLISHED-TTL:PT1H
BEGIN:VTIMEZONE
TZID:Europe/Tallinn
BEGIN:DAYLIGHT
TZOFFSETFROM:+0200
TZOFFSETTO:+0300
TZNAME:EEST
DTSTART:20160327T010000
END:DAYLIGHT
BEGIN:STANDARD
TZOFFSETFROM:+0300
TZOFFSETTO:+0200
TZNAME:EET
DTSTART:20161030T010000
END:STANDARD
BEGIN:DAYLIGHT
TZOFFSETFROM:+0200
TZOFFSETTO:+0300
TZNAME:EEST
DTSTART:20170326T010000
END:DAYLIGHT
BEGIN:STANDARD
TZOFFSETFROM:+0300
TZOFFSETTO:+0200
TZNAME:EET
DTSTART:20171029T010000
END:STANDARD
BEGIN:DAYLIGHT
TZOFFSETFROM:+0200
TZOFFSETTO:+0300
TZNAME:EEST
DTSTART:20180325T010000
END:DAYLIGHT
BEGIN:STANDARD
TZOFFSETFROM:+0300
TZOFFSETTO:+0200
TZNAME:EET
DTSTART:20181028T010000
END:STANDARD
END:VTIMEZONE
BEGIN:VEVENT
DTSTART;TZID=Europe/Tallinn:20170401T183000
DTEND;TZID=Europe/Tallinn:20170401T183000
DTSTAMP:20260421T220504
CREATED:20170314T114423Z
LAST-MODIFIED:20170413T143728Z
UID:1400-1491071400-1491071400@huuru.ee
SUMMARY:NALJAPIDU Hüüru mõisas
DESCRIPTION:MTÜ Hüüru Külaselts korraldab laupäeval\, 01.04.2017 algusega kell 18.00 Hüüru mõisas \nNALJAPIDU \n\nPeo meelolu loovad Ivi Tominga poolt kokku pandud arhiiviminutid\nÜLLATUS\nViktoriin\nAnektootide jutustamise võistlus – iga laudkond esitab vähemalt 3 lustakat andektooti\nMängud\nMuusika erinevates rütmides\n\nLaudades olemas suupisted\, kuid alati võib oma toidukorvi kaasa võtta koos joogieelistusega. \nPääsmete vahel loosime naljakaid auhindu!!! \nPilet: 10 eurot \nLaudade ettetellimine in info: 52 38 261 või info@huuru.ee \n  \n  \n 
URL:https://huuru.ee/sundmus/naljapidu-huuru-moisas/
LOCATION:Hüüru Mõis\, Jõe tee 2\,\, Saue vald\, Hüüru\, 76911\, Eesti
ATTACH;FMTTYPE=image/jpeg:https://huuru.ee/wp-content/uploads/2017/03/NALJAPIDU-plakat-01.04.2017.jpg
END:VEVENT
BEGIN:VEVENT
DTSTART;TZID=Europe/Tallinn:20170406T180000
DTEND;TZID=Europe/Tallinn:20170406T184500
DTSTAMP:20260421T220504
CREATED:20170314T115305Z
LAST-MODIFIED:20170314T115358Z
UID:1409-1491501600-1491504300@huuru.ee
SUMMARY:Hüüru külaseltsi liikmete koosolek
DESCRIPTION:MTÜ Hüüru Külaselts korraldab igakuise külaseltsi liikmete koosoleku\, neljapäeval\, 06.04.2017 kell 18.00 Hüüru mõisas.
URL:https://huuru.ee/sundmus/huuru-kulaseltsi-liikmete-koosolek/
LOCATION:Hüüru Mõis\, Jõe tee 2\,\, Saue vald\, Hüüru\, 76911\, Eesti
END:VEVENT
BEGIN:VEVENT
DTSTART;TZID=Europe/Tallinn:20170406T190000
DTEND;TZID=Europe/Tallinn:20170406T210000
DTSTAMP:20260421T220504
CREATED:20170314T115202Z
LAST-MODIFIED:20170316T110400Z
UID:1407-1491505200-1491512400@huuru.ee
SUMMARY:Hüüru küla üldkoosolek
DESCRIPTION:Hüüru küla üldkoosolek toimub neljapäeval\, 06.04.2017 kell 19.00 Hüüru mõisas \nPäevakord: \n\nMTÜ Hüüru Külaseltsi tegevusest 2014- 2017\nMTÜ Hüüru Lasteaed – Marju tänavale ehitatava lasteaia tutvustus\nHüüru küla arendused\nKergliiklusteede probleemid\nHuviringidest mõisas\nMuud küsimused: 6.1 Talgud 2017\nKoosolekust võtab osa Saue vallavalitsuse esindaja.\n\nNB! Palume küsimused eelnevalt saata eposti aadressile: info@huuru.ee või tuua Hüüru Raamatukogusse  hiljemalt 31.03.2017.
URL:https://huuru.ee/sundmus/huuru-kula-uldkoosolek-2/
LOCATION:Hüüru Mõis\, Jõe tee 2\,\, Saue vald\, Hüüru\, 76911\, Eesti
ATTACH;FMTTYPE=image/jpeg:https://huuru.ee/wp-content/uploads/2017/03/Plakat-06.04.2017.jpg
END:VEVENT
BEGIN:VEVENT
DTSTART;TZID=Europe/Tallinn:20170422T130000
DTEND;TZID=Europe/Tallinn:20170422T140000
DTSTAMP:20260421T220504
CREATED:20170314T120041Z
LAST-MODIFIED:20170412T095935Z
UID:1413-1492866000-1492869600@huuru.ee
SUMMARY:Saue Seeniorteatri etendus ULJAS NEITSI
DESCRIPTION:Saue Seeniorteatri etendus ULJAS NEITSI \nHüüru mõisas\, laupäeval\, 22.aprillil kell 13.00 \nLavastaja Virko Annus \nTASUTA
URL:https://huuru.ee/sundmus/saue-seeniorteatri-etendus-uljas-neitsi/
LOCATION:Hüüru Mõis\, Jõe tee 2\,\, Saue vald\, Hüüru\, 76911\, Eesti
ATTACH;FMTTYPE=image/jpeg:https://huuru.ee/wp-content/uploads/2017/03/Piraadiplakat.jpg
END:VEVENT
BEGIN:VEVENT
DTSTART;TZID=Europe/Tallinn:20170429T100000
DTEND;TZID=Europe/Tallinn:20170429T160000
DTSTAMP:20260421T220504
CREATED:20170314T115613Z
LAST-MODIFIED:20170315T103940Z
UID:1411-1493460000-1493481600@huuru.ee
SUMMARY:Kevadtalgud 2017
DESCRIPTION:HÜÜRU KEVADTALGUD 2017 \n29.aprill 2017\, kell 10:00 \nHarjumaa\, Saue vald\, Hüüru\, Jõe tee 2 \nTalgutööd: \nHüüru mõisa ümbruse korrastamine – lehtede riisumine\, teede puhastamine. Hüüru sepipaja ümbruse korrastamine. Mõisas akende pesu\, välisseinte  ja uste palede korrastamine. \nKaasa võtta: Rehad\, luuad\, akende pesuks töövahendid\, kindad\, saed\, ja kärud. \nTalgulistele pakume talgusuppi\, karastusjooke\, tee\, kohv ja kringel. \nÕhtul Hüüru mõisa lõkkeplatsil volbri tähistamine. Kaasa võtta  piknikukorv. \nKontakt:  info@huuru.ee \, 52 38 261
URL:https://huuru.ee/sundmus/kevadtalgud-2017/
LOCATION:Hüüru Mõis\, Jõe tee 2\,\, Saue vald\, Hüüru\, 76911\, Eesti
ATTACH;FMTTYPE=image/jpeg:https://huuru.ee/wp-content/uploads/2017/03/Hüüru-Kevadtalgud-2017.jpg
END:VEVENT
END:VCALENDAR