BEGIN:VCALENDAR
VERSION:2.0
PRODID:-//H&uuml;&uuml;ru m&otilde;is - ECPv6.15.20//NONSGML v1.0//EN
CALSCALE:GREGORIAN
METHOD:PUBLISH
X-WR-CALNAME:H&uuml;&uuml;ru m&otilde;is
X-ORIGINAL-URL:https://huuru.ee
X-WR-CALDESC:Events for H&uuml;&uuml;ru m&otilde;is
REFRESH-INTERVAL;VALUE=DURATION:PT1H
X-Robots-Tag:noindex
X-PUBLISHED-TTL:PT1H
BEGIN:VTIMEZONE
TZID:Europe/Tallinn
BEGIN:DAYLIGHT
TZOFFSETFROM:+0200
TZOFFSETTO:+0300
TZNAME:EEST
DTSTART:20160327T010000
END:DAYLIGHT
BEGIN:STANDARD
TZOFFSETFROM:+0300
TZOFFSETTO:+0200
TZNAME:EET
DTSTART:20161030T010000
END:STANDARD
BEGIN:DAYLIGHT
TZOFFSETFROM:+0200
TZOFFSETTO:+0300
TZNAME:EEST
DTSTART:20170326T010000
END:DAYLIGHT
BEGIN:STANDARD
TZOFFSETFROM:+0300
TZOFFSETTO:+0200
TZNAME:EET
DTSTART:20171029T010000
END:STANDARD
BEGIN:DAYLIGHT
TZOFFSETFROM:+0200
TZOFFSETTO:+0300
TZNAME:EEST
DTSTART:20180325T010000
END:DAYLIGHT
BEGIN:STANDARD
TZOFFSETFROM:+0300
TZOFFSETTO:+0200
TZNAME:EET
DTSTART:20181028T010000
END:STANDARD
END:VTIMEZONE
BEGIN:VEVENT
DTSTART;TZID=Europe/Tallinn:20170201T100000
DTEND;TZID=Europe/Tallinn:20170201T160000
DTSTAMP:20260422T014738
CREATED:20170127T093820Z
LAST-MODIFIED:20170127T093820Z
UID:1288-1485943200-1485964800@huuru.ee
SUMMARY:Näitus "EESTI RIIGIPEAD 1918-1992"
DESCRIPTION:
URL:https://huuru.ee/sundmus/naitus-eesti-riigipead-1918-1992-4/
LOCATION:Hüüru Mõis\, Jõe tee 2\,\, Saue vald\, Hüüru\, 76911\, Eesti
ATTACH;FMTTYPE=image/jpeg:https://huuru.ee/wp-content/uploads/2017/01/Plakat.jpg
END:VEVENT
BEGIN:VEVENT
DTSTART;TZID=Europe/Tallinn:20170201T190000
DTEND;TZID=Europe/Tallinn:20170201T190000
DTSTAMP:20260422T014738
CREATED:20170127T094151Z
LAST-MODIFIED:20170127T094151Z
UID:1291-1485975600-1485975600@huuru.ee
SUMMARY:Täiskasvanute võimlemine
DESCRIPTION:
URL:https://huuru.ee/sundmus/taiskasvanute-voimlemine-13/
LOCATION:Hüüru Mõis\, Jõe tee 2\,\, Saue vald\, Hüüru\, 76911\, Eesti
ATTACH;FMTTYPE=image/png:https://huuru.ee/wp-content/uploads/2016/09/kuulutus.png
END:VEVENT
BEGIN:VEVENT
DTSTART;TZID=Europe/Tallinn:20170202T120000
DTEND;TZID=Europe/Tallinn:20170202T190000
DTSTAMP:20260422T014738
CREATED:20170127T093912Z
LAST-MODIFIED:20170127T093912Z
UID:1289-1486036800-1486062000@huuru.ee
SUMMARY:Näitus "EESTI RIIGIPEAD 1918-1992"
DESCRIPTION:
URL:https://huuru.ee/sundmus/naitus-eesti-riigipead-1918-1992-5/
LOCATION:Hüüru Mõis\, Jõe tee 2\,\, Saue vald\, Hüüru\, 76911\, Eesti
ATTACH;FMTTYPE=image/jpeg:https://huuru.ee/wp-content/uploads/2017/01/Plakat.jpg
END:VEVENT
BEGIN:VEVENT
DTSTART;TZID=Europe/Tallinn:20170202T180000
DTEND;TZID=Europe/Tallinn:20170202T180000
DTSTAMP:20260422T014738
CREATED:20170127T102928Z
LAST-MODIFIED:20170127T103110Z
UID:1304-1486058400-1486058400@huuru.ee
SUMMARY:Hüüru Külaseltsi koosolek
DESCRIPTION:
URL:https://huuru.ee/sundmus/huuru-kulaseltsi-koosolek-2/
LOCATION:Hüüru Mõis\, Jõe tee 2\,\, Saue vald\, Hüüru\, 76911\, Eesti
END:VEVENT
BEGIN:VEVENT
DTSTART;TZID=Europe/Tallinn:20170203T100000
DTEND;TZID=Europe/Tallinn:20170203T160000
DTSTAMP:20260422T014738
CREATED:20170127T094005Z
LAST-MODIFIED:20170127T094005Z
UID:1290-1486116000-1486137600@huuru.ee
SUMMARY:Näitus "EESTI RIIGIPEAD 1918-1992"
DESCRIPTION:
URL:https://huuru.ee/sundmus/naitus-eesti-riigipead-1918-1992-6/
LOCATION:Hüüru Mõis\, Jõe tee 2\,\, Saue vald\, Hüüru\, 76911\, Eesti
ATTACH;FMTTYPE=image/jpeg:https://huuru.ee/wp-content/uploads/2017/01/Plakat.jpg
END:VEVENT
BEGIN:VEVENT
DTSTART;TZID=Europe/Tallinn:20170203T120000
DTEND;TZID=Europe/Tallinn:20170203T120000
DTSTAMP:20260422T014738
CREATED:20170116T152755Z
LAST-MODIFIED:20170116T164302Z
UID:1249-1486123200-1486123200@huuru.ee
SUMMARY:Arno Pavel  "Reisimuljed Venemaalt"
DESCRIPTION:
URL:https://huuru.ee/sundmus/arno-pavel-reisimuljed-venemaalt/
LOCATION:Hüüru Mõis\, Jõe tee 2\,\, Saue vald\, Hüüru\, 76911\, Eesti
ATTACH;FMTTYPE=image/png:https://huuru.ee/wp-content/uploads/2017/01/plakat-3.02.2016-1.png
END:VEVENT
BEGIN:VEVENT
DTSTART;TZID=Europe/Tallinn:20170205T140000
DTEND;TZID=Europe/Tallinn:20170205T140000
DTSTAMP:20260422T014738
CREATED:20170127T091241Z
LAST-MODIFIED:20170127T091241Z
UID:1283-1486303200-1486303200@huuru.ee
SUMMARY:Sushikoolitus sõpradele
DESCRIPTION:
URL:https://huuru.ee/sundmus/sushikoolitus-sopradele/
LOCATION:Hüüru Mõis\, Jõe tee 2\,\, Saue vald\, Hüüru\, 76911\, Eesti
ATTACH;FMTTYPE=image/jpeg:https://huuru.ee/wp-content/uploads/2017/01/Koolitus-5.02.17.jpg
END:VEVENT
BEGIN:VEVENT
DTSTART;TZID=Europe/Tallinn:20170208T190000
DTEND;TZID=Europe/Tallinn:20170208T190000
DTSTAMP:20260422T014738
CREATED:20170127T094237Z
LAST-MODIFIED:20170127T094237Z
UID:1292-1486580400-1486580400@huuru.ee
SUMMARY:Täiskasvanute võimlemine
DESCRIPTION:
URL:https://huuru.ee/sundmus/taiskasvanute-voimlemine-14/
LOCATION:Hüüru Mõis\, Jõe tee 2\,\, Saue vald\, Hüüru\, 76911\, Eesti
ATTACH;FMTTYPE=image/png:https://huuru.ee/wp-content/uploads/2016/09/kuulutus.png
END:VEVENT
BEGIN:VEVENT
DTSTART;TZID=Europe/Tallinn:20170209T170000
DTEND;TZID=Europe/Tallinn:20170209T170000
DTSTAMP:20260422T014738
CREATED:20170131T104412Z
LAST-MODIFIED:20170131T104412Z
UID:1311-1486659600-1486659600@huuru.ee
SUMMARY:Mudilaste muusikatuba
DESCRIPTION:
URL:https://huuru.ee/sundmus/mudilaste-muusikatuba-17/
LOCATION:Hüüru Mõis\, Jõe tee 2\,\, Saue vald\, Hüüru\, 76911\, Eesti
ATTACH;FMTTYPE=image/png:https://huuru.ee/wp-content/uploads/2016/10/KUULUTUS-2017.png
END:VEVENT
BEGIN:VEVENT
DTSTART;TZID=Europe/Tallinn:20170209T183000
DTEND;TZID=Europe/Tallinn:20170209T183000
DTSTAMP:20260422T014738
CREATED:20170127T102451Z
LAST-MODIFIED:20170127T102451Z
UID:1299-1486665000-1486665000@huuru.ee
SUMMARY:Tantsutreening lastele
DESCRIPTION:
URL:https://huuru.ee/sundmus/tantsutreening-lastele-13/
LOCATION:Hüüru Mõis\, Jõe tee 2\,\, Saue vald\, Hüüru\, 76911\, Eesti
ATTACH;FMTTYPE=image/png:https://huuru.ee/wp-content/uploads/2017/01/kuultus_neljapäev.png
END:VEVENT
BEGIN:VEVENT
DTSTART;TZID=Europe/Tallinn:20170212T120000
DTEND;TZID=Europe/Tallinn:20170212T120000
DTSTAMP:20260422T014738
CREATED:20170131T104828Z
LAST-MODIFIED:20170131T104828Z
UID:1314-1486900800-1486900800@huuru.ee
SUMMARY:Skaudikoondus
DESCRIPTION:
URL:https://huuru.ee/sundmus/skaudikoondus-6/
LOCATION:Hüüru Mõis\, Jõe tee 2\,\, Saue vald\, Hüüru\, 76911\, Eesti
ORGANIZER;CN="MT%C3%9C H%C3%BC%C3%BCru K%C3%BClaselts":MAILTO:info@huuru.ee
END:VEVENT
BEGIN:VEVENT
DTSTART;TZID=Europe/Tallinn:20170213T170000
DTEND;TZID=Europe/Tallinn:20170213T183000
DTSTAMP:20260422T014738
CREATED:20170206T150451Z
LAST-MODIFIED:20170206T151920Z
UID:1328-1487005200-1487010600@huuru.ee
SUMMARY:Sõbrapäeva meistrituba
DESCRIPTION:
URL:https://huuru.ee/sundmus/sobrapaeva-meistrituba/
LOCATION:Hüüru Mõis\, Jõe tee 2\,\, Saue vald\, Hüüru\, 76911\, Eesti
ATTACH;FMTTYPE=image/jpeg:https://huuru.ee/wp-content/uploads/2017/02/Sõbrapäeva-kuulutus-logoga2.jpg
ORGANIZER;CN="MT%C3%9C H%C3%BC%C3%BCru K%C3%BClaselts":MAILTO:info@huuru.ee
END:VEVENT
BEGIN:VEVENT
DTSTART;TZID=Europe/Tallinn:20170214T080000
DTEND;TZID=Europe/Tallinn:20170214T235500
DTSTAMP:20260422T014738
CREATED:20170214T090809Z
LAST-MODIFIED:20170214T090837Z
UID:1347-1487059200-1487116500@huuru.ee
SUMMARY:HEAD SÕBRAPÄEVA !
DESCRIPTION:
URL:https://huuru.ee/sundmus/head-sobrapaeva/
ATTACH;FMTTYPE=image/jpeg:https://huuru.ee/wp-content/uploads/2017/02/sõbrapäev.jpg
END:VEVENT
BEGIN:VEVENT
DTSTART;TZID=Europe/Tallinn:20170215T190000
DTEND;TZID=Europe/Tallinn:20170215T190000
DTSTAMP:20260422T014738
CREATED:20170127T094314Z
LAST-MODIFIED:20170127T094314Z
UID:1293-1487185200-1487185200@huuru.ee
SUMMARY:Täiskasvanute võimlemine
DESCRIPTION:
URL:https://huuru.ee/sundmus/taiskasvanute-voimlemine-15/
LOCATION:Hüüru Mõis\, Jõe tee 2\,\, Saue vald\, Hüüru\, 76911\, Eesti
END:VEVENT
BEGIN:VEVENT
DTSTART;TZID=Europe/Tallinn:20170216T170000
DTEND;TZID=Europe/Tallinn:20170216T170000
DTSTAMP:20260422T014738
CREATED:20170131T104517Z
LAST-MODIFIED:20170131T104517Z
UID:1312-1487264400-1487264400@huuru.ee
SUMMARY:Mudilaste muusikatuba
DESCRIPTION:
URL:https://huuru.ee/sundmus/mudilaste-muusikatuba-18/
LOCATION:Hüüru Mõis\, Jõe tee 2\,\, Saue vald\, Hüüru\, 76911\, Eesti
ATTACH;FMTTYPE=image/png:https://huuru.ee/wp-content/uploads/2016/10/KUULUTUS-2017.png
ORGANIZER;CN="MT%C3%9C H%C3%BC%C3%BCru K%C3%BClaselts":MAILTO:info@huuru.ee
END:VEVENT
BEGIN:VEVENT
DTSTART;TZID=Europe/Tallinn:20170216T183000
DTEND;TZID=Europe/Tallinn:20170216T183000
DTSTAMP:20260422T014738
CREATED:20170127T102542Z
LAST-MODIFIED:20170127T102542Z
UID:1302-1487269800-1487269800@huuru.ee
SUMMARY:Tantsutreening lastele
DESCRIPTION:
URL:https://huuru.ee/sundmus/tantsutreening-lastele-14/
LOCATION:Hüüru Mõis\, Jõe tee 2\,\, Saue vald\, Hüüru\, 76911\, Eesti
ATTACH;FMTTYPE=image/png:https://huuru.ee/wp-content/uploads/2017/01/kuultus_neljapäev.png
END:VEVENT
BEGIN:VEVENT
DTSTART;TZID=Europe/Tallinn:20170222T190000
DTEND;TZID=Europe/Tallinn:20170222T190000
DTSTAMP:20260422T014738
CREATED:20170127T094354Z
LAST-MODIFIED:20170127T094354Z
UID:1294-1487790000-1487790000@huuru.ee
SUMMARY:Täiskasvanute võimlemine
DESCRIPTION:
URL:https://huuru.ee/sundmus/taiskasvanute-voimlemine-16/
LOCATION:Hüüru Mõis\, Jõe tee 2\,\, Saue vald\, Hüüru\, 76911\, Eesti
ATTACH;FMTTYPE=image/png:https://huuru.ee/wp-content/uploads/2016/09/kuulutus.png
END:VEVENT
BEGIN:VEVENT
DTSTART;TZID=Europe/Tallinn:20170223T170000
DTEND;TZID=Europe/Tallinn:20170223T170000
DTSTAMP:20260422T014738
CREATED:20170131T104600Z
LAST-MODIFIED:20170131T104600Z
UID:1313-1487869200-1487869200@huuru.ee
SUMMARY:Mudilaste muusikatuba
DESCRIPTION:
URL:https://huuru.ee/sundmus/mudilaste-muusikatuba-19/
LOCATION:Hüüru Mõis\, Jõe tee 2\,\, Saue vald\, Hüüru\, 76911\, Eesti
ATTACH;FMTTYPE=image/png:https://huuru.ee/wp-content/uploads/2016/10/KUULUTUS-2017.png
ORGANIZER;CN="MT%C3%9C H%C3%BC%C3%BCru K%C3%BClaselts":MAILTO:info@huuru.ee
END:VEVENT
BEGIN:VEVENT
DTSTART;TZID=Europe/Tallinn:20170223T183000
DTEND;TZID=Europe/Tallinn:20170223T183000
DTSTAMP:20260422T014738
CREATED:20170127T102642Z
LAST-MODIFIED:20170127T102642Z
UID:1303-1487874600-1487874600@huuru.ee
SUMMARY:Tantsutreening lastele
DESCRIPTION:
URL:https://huuru.ee/sundmus/tantsutreening-lastele-15/
LOCATION:Hüüru Mõis\, Jõe tee 2\,\, Saue vald\, Hüüru\, 76911\, Eesti
ATTACH;FMTTYPE=image/png:https://huuru.ee/wp-content/uploads/2017/01/kuultus_neljapäev.png
END:VEVENT
BEGIN:VEVENT
DTSTART;TZID=Europe/Tallinn:20170226T120000
DTEND;TZID=Europe/Tallinn:20170226T120000
DTSTAMP:20260422T014738
CREATED:20170131T105001Z
LAST-MODIFIED:20170131T105001Z
UID:1315-1488110400-1488110400@huuru.ee
SUMMARY:Skaudikoondus
DESCRIPTION:
URL:https://huuru.ee/sundmus/skaudikoondus-7/
LOCATION:Hüüru Mõis\, Jõe tee 2\,\, Saue vald\, Hüüru\, 76911\, Eesti
ORGANIZER;CN="MT%C3%9C H%C3%BC%C3%BCru K%C3%BClaselts":MAILTO:info@huuru.ee
END:VEVENT
BEGIN:VEVENT
DTSTART;TZID=Europe/Tallinn:20170228T183000
DTEND;TZID=Europe/Tallinn:20170228T200000
DTSTAMP:20260422T014738
CREATED:20170215T111305Z
LAST-MODIFIED:20170215T131232Z
UID:1366-1488306600-1488312000@huuru.ee
SUMMARY:SELTSKONNATANTS  TÄISKASVANUTELE
DESCRIPTION:Hüüru mõisasaalis teisipäeviti kell 18.30 \nTantsuklubi EMERALD kutsub tutvuma suurepärase tantsumaailmaga! \n  \nJuhendajad Aivar Ots ja Margit Bahtin \nTasu 15 eur paar/kord. Tasudes kuu esimesel tunnil terve kuu eest ette 12 eur paar/kord. \nTäiendav info ja registreerimine: emeraldtants@gmail.com \ntel. 555 64 054 \nOODATUD ON KA ÜKSIKUD DAAMID JA HÄRRAD! \nOlge aktiivsed!
URL:https://huuru.ee/sundmus/seltskonnatants-taiskasvanutele-4/
LOCATION:Hüüru Mõis\, Jõe tee 2\,\, Saue vald\, Hüüru\, 76911\, Eesti
ATTACH;FMTTYPE=image/png:https://huuru.ee/wp-content/uploads/2017/02/2017..png
END:VEVENT
END:VCALENDAR